Workbook
Name _38b: #REF!
Name _38b: #REF!
Name _38b: #REF!
Name _38b: 'إحصاءات شركات الإيداع'!$C$58
Name FrequencyList: '[1]Report Form'!$F$4:$F$8
Name PeriodList: '[1]Report Form'!$E$4:$E$76

Sheet إحصاءات شركات الإيداع
B3: إحصاءات شركات الإيداع (البنك المركزي وشركات الإيداع الأخرى) | C3: رقم الجدول .Table No | D3: Depository Corporations Statistics (Central Bank and Other Depository Corporations)
B6: البنك المركزي الأردني | D6: Central Bank of Jordan
B7: ميزانية البنك المركزي الأردني (الموجودات) ..................................................................................................................... | C7: 2a | D7: Central Bank of Jordan Balance Sheet (Assets)...................................................................................................................
B8: ميزانية البنك المركزي الأردني (المطلوبات) ..................................................................................................................... | C8: 2b | D8: Central Bank of Jordan Balance Sheet (Liabilities)...................................................................................................................
B9: الاحتياطيات الاجنبية للبنك المركزي الاردني ............................................................................................. | C9: 3 | D9: Central Bank of Jordan Foreign Reserves ...................................................................................................................
B10: النقود الاحتياطية ............................................................................................................................... | C10: 4 | D10: Reserve Money..................................................................................................................................................................................................................................
B11: النقد المصدر حسب فئات العملة ............................................................................................................ | C11: 5 | D11: Currency Issued According Denomination...................................................................................................................
B12: شركات الإيداع الأخرى | D12: Other Depository Corporations
B13: الميزانية الموحدة لشركات الإيداع الأخرى (الموجودات) .............................................................................................. | C13: 6a | D13: Consolidated Balance Sheet of Other Depository Corporations (Assets)...................................................................................................................
B14: الميزانية الموحدة لشركات الإيداع الأخرى (المطلوبات) .............................................................................................. | C14: 6b | D14: Consolidated Balance Sheet of Other Depository Corporations (Liabilities)...................................................................................................................
B15: موجودات شركات الإيداع الأخرى من العملات الأجنبية ............................................................................... | C15: 7a | D15: Assets of Other Depository Corporations in Foreign Currencies ...................................................................................................................
B16: مطلوبات شركات الإيداع الأخرى من العملات الأجنبية ............................................................................... | C16: 7b | D16: Liabilities of Other Depository Corporations in Foreign Currencies ...................................................................................................................
B17: الميزانية الموحدة للبنوك الإسلامية (الموجودات) ........................................................................................................... | C17: 8a | D17: Consolidated Balance Sheet of Islamic Banks (Assets)...................................................................................................................
B18: الميزانية الموحدة للبنوك الإسلامية (المطلوبات) ........................................................................................................... | C18: 8b | D18: Consolidated Balance Sheet of Islamic Banks (Liabilities)...................................................................................................................
B19: الميزانية الموحدة للبنوك التجارية (الموجودات) ....................................................................................................... | C19: 9a | D19: Consolidated Balance Sheet of Commercial Banks (Assets)...................................................................................................................
B20: الميزانية الموحدة للبنوك التجارية (المطلوبات) ....................................................................................................... | C20: 9b | D20: Consolidated Balance Sheet of Commercial Banks (Liabilities)...................................................................................................................
B21: الميزانية الموحدة لفروع البنوك الاردنية العاملة في الاراضي الفلسطينية (الموجودات) .......................................................... | C21: 10a | D21: Consolidated Balance Sheet of Jordanian Banks' Branches Operating In Palestine (Assets)...................................................................................................................
B22: الميزانية الموحدة لفروع البنوك الاردنية العاملة في الاراضي الفلسطينية (المطلوبات) .......................................................... | C22: 10b | D22: Consolidated Balance Sheet of Jordanian Banks' Branches Operating In Palestine (Liabilities)...................................................................................................................
B23: المسح النقدي | D23: Monetary Survey
B24: مسح شركات الإيداع ......................................................................................................................... | C24: 11 | D24: Depository Corporations Survey...................................................................................................................
B25: عرض النقد وفقا لمكوناته والجهة المحتفظة به .................................................................................................................... | C25: 12 | D25: Money Supply According to Components and Holder...................................................................................................................
B26: الائتمان المحلي الممنوح من قبل شركات الإيداع وفقا لنوع الائتمان .................................................................................................................... | C26: 13 | D26: Domestic Claims Extended by the Depository Corporations According to Type of Claims...................................................................................................................
B27: التسهيلات الائتمانية الممنوحة من قبل شركات الإيداع الأخرى | D27: Credit Facilities Extended by Other Depository Corporations
B28: التوزيع الجغرافي للتسهيلات الائتمانية / ربع سنوي ................................................................................................................... | C28: 14 | D28: Geographic Distribution of Credit Facilities / Quarterly...................................................................................................................
B29: التسهيلات الائتمانية حسب النشاط الاقتصادي (قيمة، وعدد العملاء) / ربع سنوي ................................................................................................................... | C29: 15 | D29: Credit Facilities According to Economic Activity (Value, and Number of Clients) / Quarterly...................................................................................................................
B30: التسهيلات الممنوحة لقطاع الزراعة / ربع سنوي ................................................................................................................... | C30: 16 | D30: Credits Extended to Agriculture Sector / Quarterly...................................................................................................................
B31: التسهيلات الممنوحة لقطاع الصناعة والتعدين / ربع سنوي ................................................................................................................... | C31: 17 | D31: Credits Extended to Industry and Mining Sector / Quarterly...................................................................................................................
B32: التسهيلات الممنوحة لقطاع الانشاءات / ربع سنوي ................................................................................................................... | C32: 18 | D32: Credits Extended to Construction Sector / Quarterly...................................................................................................................
B33: التسهيلات الممنوحة لقطاع التجارة العامة / ربع سنوي ................................................................................................................... | C33: 19 | D33: Credits Extended to General Trade Sector / Quarterly...................................................................................................................
B34: التسهيلات الممنوحة لقطاع خدمات النقل / ربع سنوي ................................................................................................................... | C34: 20 | D34: Credits Extended to Transportations Services Sector / Quarterly...................................................................................................................
B35: التسهيلات الممنوحة لقطاع السياحة والفنادق والمطاعم / ربع سنوي ................................................................................................................... | C35: 21 | D35: Credits Extended to Tourism, Hotels and Restuarants Sector / Quarterly...................................................................................................................
B36: التسهيلات الممنوحة لقطاع خدمات ومرافق عامة / ربع سنوي ................................................................................................................... | C36: 22 | D36: Credits Extended to Public Services and Utilities Sector / Quarterly...................................................................................................................
B37: التسهيلات الممنوحة لقطاع الخدمات المالية / ربع سنوي ................................................................................................................... | C37: 23 | D37: Credits Extended to Financial Services Sector / Quarterly...................................................................................................................
B38: التسهيلات الأخرى لغايات استهلاكية / ربع سنوي ................................................................................................................... | C38: 24 | D38: Other Credits for Consumption Purposes / Quarterly...................................................................................................................
B39: التسهيلات الائتمانية حسب النشاط الاقتصادي / شهري ................................................................................................................... | C39: 25 | D39: Credit Facilities According to Economic Activity / Monthly...................................................................................................................
... B43: مديونية الأفراد ........................................................................................................................................................................................... ........................................... | C43: 29 | D43: Household Debt.............................................................................................................................................
B44: الودائع لدى شركات الإيداع الأخرى | D44: Deposits with Other Depository Corporations
B45: التوزيع الجغرافي لودائع العملاء لدى شركات الإيداع الأخرى ................................................................................................................... | C45: 30 | D45: Geographic Distribution of Deposits with Other Depository Corporations...................................................................................................................
B46: الودائع لدى شركات الإيداع الأخرى حسب الجهة المودعة ونوع الوديعة .................................................................................................................... | C46: 31a | D46: Total Deposits According to Depositor and Type...................................................................................................................
B47: الودائع لدى شركات الإيداع الأخرى حسب الجهة المودعة ونوع الوديعة .................................................................................................................... | C47: 31b | D47: Total Deposits According to Depositor and Type...................................................................................................................
...

Sheet 2a
B2: Financial Sector Statistics | E2: Table (2a) جدول | P2: إحصاءات القطاع المالي
B3: 2a | E3: ميزانية البنك المركزي الأردني (الموجودات)
E4: Central Bank of Jordan Balance Sheet (Assets) | R4: مليون دينار JD million
C6: الموجودات
D8: الموجودات الأجنبية | O8: الموجودات المحلية
D10: Foreign Assets | O10: Domestic Assets
E12: الأصول الاحتياطية الرسمية | L12: موجودات اجنبية أخرى | R12: موجودات أخرى
E13: Official Reserve Assets | L13: Other Foreign Assets
C14: Assets | F14: الذهب النقدي | G14: نقد بالعملة الأجنبية | H14: أرصدة وودائع | I14: الأوراق المالية | J14: حقوق السحب الخاصة | K14: حسابات مستحقة أخرى | M14: قروض أخرى* | N14: الأسهم وحقوق الملكية الأخرى | P14: ائتمان ممنوح للبنوك والمؤسسات المالية المحلية وأوراق مالية | Q14: الأسهم وحقوق الملكية الأخرى
F16: Monetary Gold | G16: Cash in Foreign Currency | H16: Balances and Deposits | I16: Securities | J16: SDRs | K16: Other Accounts Receivable | M16: Other Loans* | N16: Shares and Other Equity | P16: Claims to banks & domestic financial institutions, & Securities | Q16: Shares and Other Equity | R16: Unclass-ified Assets
B17: الفترة Period
B18: 2014 | C18: =+D18+O18 -> 14032.781 | D18: =+E18+L18 -> 12442.907 | E18: =SUM(F18:K18) -> 11375.25 | F18: 527.993 | G18: 175.41084 | H18: 5702.3417 | I18: 4827.9691 | J18: 127.197 | K18: 14.338 | L18: =N18+M18 -> 1067.6572 | M18: 766.88221 | N18: 300.775 | O18: 1589.874 | P18: 1553.828 | Q18: 6.402 | R18: 29.644
B19: 2015 | C19: =+D19+O19 -> 14329.44 | D19: =+E19+L19 -> 12829.724 | E19: =SUM(F19:K19) -> 11747.84 | F19: 997.875 | G19: 199.82472 | H19: 4606.4327 | I19: 5829.5546 | J19: 97.308 | K19: 16.845 | L19: =N19+M19 -> 1081.8842 | M19: 766.88221 | N19: 315.002 | O19: 1499.716 | P19: 1193.86 | Q19: 8.796 | R19: 297.06
B20: 2016 | C20: =+D20+O20 -> 13453.025 | D20: =+E20+L20 -> 12115.514 | E20: =SUM(F20:K20) -> 11017.952 | F20: 1078.548 | G20: 214.53352 | H20: 4614.2824 | I20: 5020.2903 | J20: 67.796 | K20: 22.502 | L20: =N20+M20 -> 1097.5622 | M20: 766.88221 | N20: 330.68 | O20: 1337.511 | P20: 1065.778 | Q20: 16.712 | R20: 255.021
B21: 2017 | C21: =+D21+O21 -> 13367.569 | D21: =+E21+L21 -> 12171.899 | E21: =SUM(F21:K21) -> 11046.954 | F21: 1473.702 | G21: 232.68758 | H21: 4623.4558 | I21: 4640.4209 | J21: 43.126 | K21: 33.562 | L21: =N21+M21 -> 1124.9452 | M21: 766.88221 | N21: 358.063 | O21: 1195.67 | P21: 1058.583 | Q21: 15.23 | R21: 121.857
B22: 2018 | C22: =+D22+O22 -> 12901.566 | D22: =+E22+L22 -> 11476.66 | E22: =SUM(F22:K22) -> 10334.727 | F22: 1302.181 | G22: 178.78069 | H22: 5202.4624 | I22: 3580.4126 | J22: 22.747 | K22: 48.143 | L22: =N22+M22 -> 1141.9332 | M22: 766.88221 | N22: 375.051 | O22: 1424.906 | P22: 1234.138 | Q22: 30.314 | R22: 160.454
B23: 2019 | C23: =+D23+O23 -> 13709.534 | D23: =+E23+L23 -> 12068.976 | E23: =SUM(F23:K23) -> 10919.487 | F23: 1518.973 | G23: 102.45269 | H23: 5739.7988 | I23: 3512.3081 | J23: 11.658 | K23: 34.296 | L23: =N23+M23 -> 1149.4892 | M23: 766.88221 | N23: 382.607 | O23: 1640.558 | P23: 1569.453 | Q23: 30.331 | R23: 40.774
B24: 2020 | C24: =+D24+O24 -> 16025.634 | D24: =+E24+L24 -> 13198.877 | E24: =SUM(F24:K24) -> 12024.402 | F24: 2646.003 | G24: 283.49776 | H24: 6268.2304 | I24: 2790.9924 | J24: 13.847 | K24: 21.831 | L24: =N24+M24 -> 1174.4752 | M24: 766.88221 | N24: 407.593 | O24: 2826.757 | P24: 2731.081 | Q24: 45.29 | R24: 50.386
B25: 2021 | C25: =+D25+O25 -> 17680.019 | D25: =+E25+L25 -> 14686.407 | E25: =SUM(F25:K25) -> 13502.594 | F25: 2646.136 | G25: 239.88805 | H25: 7749.0201 | I25: 2842.2966 | J25: 11.586 | K25: 13.667 | L25: =N25+M25 -> 1183.8132 | M25: 766.88221 | N25: 416.931 | O25: 2993.612 | P25: 2896.154 | Q25: 46.436 | R25: 51.022
B26: 2022 | C26: =+D26+O26 -> 17004.846 | D26: =+E26+L26 -> 14083.057 | E26: =SUM(F26:K26) -> 12896.354 | F26: 2837.065 | G26: 244.38265 | H26: 6863.2996 | I26: 2885.1427 | J26: 7.565 | K26: 58.899 | L26: =N26+M26 -> 1186.7032 | M26: 766.88221 | N26: 419.821 | O26: 2921.789 | P26: 2822.74 | Q26: 48.797 | R26: 50.252
B27: 2023 | C27: =+D27+O27 -> 17270.476 | D27: =+E27+L27 -> 14711.003 | E27: =SUM(F27:K27) -> 13520.72 | F27: 3347.236 | G27: 228.8996 | H27: 6649.8754 | I27: 3198.5487 | J27: 7.099 | K27: 89.061 | L27: =N27+M27 -> 1190.2833 | M27: 766.88221 | N27: 423.40114 | O27: 2559.473 | P27: 2469.498 | Q27: 49.825 | R27: 40.15
B28: 2024 | C28: 19279.114 | D28: 16751.789 | E28: 15550.514 | F28: 4256.829 | G28: 242.44901 | H28: 7799.0883 | I28: 3149.402 | J28: 3.464 | K28: 99.282 | L28: 1201.275 | M28: 766.882 | N28: 434.393 | O28: 2527.325 | P28: 2421.415 | Q28: 56.775 | R28: 49.135
B29: 2025** | C29: =+D29+O29 -> 22381.413 | D29: =+E29+L29 -> 19995.432 | E29: =SUM(F29:K29) -> 18768.622 | F29: 7194.81 | G29: 275.20609 | H29: 8037.5263 | I29: 3170.243 | J29: 6.551 | K29: 84.286 | L29: =N29+M29 -> 1226.81 | M29: 766.882 | N29: 459.928 | O29: 2385.981 | P29: 2258.996 | Q29: 68.076 | R29: 58.909
B30: 2014
B31: 41974 | C31: =+D31+O31 -> 14032.781 | D31: =+E31+L31 -> 12442.907 | E31: =SUM(F31:K31) -> 11375.25 | F31: 527.993 | G31: 175.41084 | H31: 5702.3417 | I31: 4827.9691 | J31: 127.197 | K31: 14.338 | L31: =N31+M31 -> 1067.6572 | M31: 766.88221 | N31: 300.775 | O31: 1589.874 | P31: 1553.828 | Q31: 6.402 | R31: 29.644
B32: 2015
B33: 42005 | C33: =+D33+O33 -> 13870.43 | D33: =+E33+L33 -> 12293.448 | E33: =SUM(F33:K33) -> 11225.791 | F33: 667.263 | G33: 174.18591 | H33: 5209.8272 | I33: 5038.092 | J33: 123.982 | K33: 12.441 | L33: =N33+M33 -> 1067.6572 | M33: 766.88221 | N33: 300.775 | O33: 1576.982 | P33: 1539.615 | Q33: 6.402 | R33: 30.965
B34: 42036 | C34: =+D34+O34 -> 14036.604 | D34: =+E34+L34 -> 12458.492 | E34: =SUM(F34:K34) -> 11390.835 | F34: 853.754 | G34: 177.99682 | H34: 4793.7428 | I34: 5430.8161 | J34: 119.567 | K34: 14.958 | L34: =N34+M34 -> 1067.6572 | M34: 766.88221 | N34: 300.775 | O34: 1578.112 | P34: 1532.522 | Q34: 6.402 | R34: 39.188
B35: 42064 | C35: =+D35+O35 -> 13958.51 | D35: =+E35+L35 -> 12445.942 | E35: =SUM(F35:K35) -> 11378.285 | F35: 899.559 | G35: 176.96659 | H35: 4501.4923 | I35: 5667.776 | J35: 117.014 | K35: 15.477 | L35: =N35+M35 -> 1067.6572 | M35: 766.88221 | N35: 300.775 | O35: 1512.568 | P35: 1319.529 | Q35: 6.402 | R35: 186.637
B36: 42095 | C36: =+D36+O36 -> 14113.303 | D36: =+E36+L36 -> 12610.915 | E36: =SUM(F36:K36) -> 11535.177 | F36: 984.057 | G36: 180.00746 | H36: 4751.3869 | I36: 5486.5183 | J36: 117.52 | K36: 15.687 | L36: =N36+M36 -> 1075.7382 | M36: 766.88221 | N36: 308.856 | O36: 1502.388 | P36: 1338.741 | Q36: 6.402 | R36: 157.245
B37: 42125 | C37: =+D37+O37 -> 14127.737 | D37: =+E37+L37 -> 12616.461 | E37: =SUM(F37:K37) -> 11540.703 | F37: 949.632 | G37: 179.52028 | H37: 4907.0058 | I37: 5376.256 | J37: 112.741 | K37: 15.548 | L37: =N37+M37 -> 1075.7582 | M37: 766.88221 | N37: 308.876 | O37: 1511.276 | P37: 1330.407 | Q37: 6.402 | R37: 174.467
B38: 42156 | C38: =+D38+O38 -> 14272.238 | D38: =+E38+L38 -> 12700.533 | E38: =SUM(F38:K38) -> 11622.599 | F38: 955.391 | G38: 190.34354 | H38: 4736.7076 | I38: 5613.0687 | J38: 113.773 | K38: 13.315 | L38: =N38+M38 -> 1077.9342 | M38: 766.88221 | N38: 311.052 | O38: 1571.705 | P38: 1381.359 | Q38: 6.402 | R38: 183.944
B39: 42186 | C39: =+D39+O39 -> 15202.996 | D39: =+E39+L39 -> 13619.15 | E39: =SUM(F39:K39) -> 12541.216 | F39: 1026.35 | G39: 195.32871 | H39: 5566.3149 | I39: 5626.8786 | J39: 112.186 | K39: 14.158 | L39: =N39+M39 -> 1077.9342 | M39: 766.88221 | N39: 311.052 | O39: 1583.846 | P39: 1315.948 | Q39: 6.402 | R39: 261.496
B40: 42217 | C40: =+D40+O40 -> 15272.622 | D40: =+E40+L40 -> 13793.858 | E40: =SUM(F40:K40) -> 12715.924 | F40: 1074.719 | G40: 198.13889 | H40: 5479.7726 | I40: 5838.6201 | J40: 106.628 | K40: 18.045 | L40: =N40+M40 -> 1077.9342 | M40: 766.88221 | N40: 311.052 | O40: 1478.764 | P40: 1247.374 | Q40: 6.402 | R40: 224.988
B41: 42248 | C41: =+D41+O41 -> 15063.872 | D41: =+E41+L41 -> 13580.717 | E41: =SUM(F41:K41) -> 12502.783 | F41: 1051.181 | G41: 200.10475 | H41: 5220.0829 | I41: 5909.0015 | J41: 106.375 | K41: 16.038 | L41: =N41+M41 -> 1077.9342 | M41: 766.88221 | N41: 311.052 | O41: 1483.155 | P41: 1243.643 | Q41: 6.402 | R41: 233.11
B42: 42278 | C42: =+D42+O42 -> 14786.667 | D42: =+E42+L42 -> 13432.004 | E42: =SUM(F42:K42) -> 12354.069 | F42: 991.52 | G42: 200.57908 | H42: 5058.7846 | I42: 5979.2747 | J42: 105.897 | K42: 18.014 | L42: =N42+M42 -> 1077.9342 | M42: 766.88221 | N42: 311.052 | O42: 1354.663 | P42: 1150.005 | Q42: 6.402 | R42: 198.256
B43: 42309 | C43: =+D43+O43 -> 14262.918 | D43: =+E43+L43 -> 12804.175 | E43: =SUM(F43:K43) -> 11726.24 | F43: 993.225 | G43: 200.05366 | H43: 4312.3346 | I43: 6105.9815 | J43: 96.351 | K43: 18.294 | L43: =N43+M43 -> 1077.9352 | M43: 766.88221 | N43: 311.053 | O43: 1458.743 | P43: 1161.086 | Q43: 6.402 | R43: 291.255
B44: 42339 | C44: =+D44+O44 -> 14329.44 | D44: =+E44+L44 -> 12829.724 | E44: =SUM(F44:K44) -> 11747.84 | F44: 997.875 | G44: 199.82472 | H44: 4606.4327 | I44: 5829.5546 | J44: 97.308 | K44: 16.845 | L44: =N44+M44 -> 1081.8842 | M44: 766.88221 | N44: 315.002 | O44: 1499.716 | P44: 1193.86 | Q44: 8.796 | R44: 297.06
B45: 2016
B46: 42370 | C46: =+D46+O46 -> 14256.253 | D46: =+E46+L46 -> 12829.735 | E46: =SUM(F46:K46) -> 11744.066 | F46: 1001.522 | G46: 199.3544 | H46: 4505.319 | I46: 5921.2997 | J46: 96.862 | K46: 19.709 | L46: =N46+M46 -> 1085.6692 | M46: 766.88221 | N46: 318.787 | O46: 1426.518 | P46: 1168.741 | Q46: 8.796 | R46: 248.981
...

Sheet 2b
B2: Financial Sector Statistics | E2: Table (2b) جدول | P2: إحصاءات القطاع المالي
E3: ميزانية البنك المركزي الأردني (المطلوبات)
E4: Central Bank of Jordan Balance Sheet (Liabilities) | Q4: مليون دينار JD million
C6: المطلوبات
D8: القاعدة النقدية | I8: مطلوبات أخرى لشركات الإيداع الأخرى Other Liabilities to Other Depository Corporations | M8: ودائع القطاع العام | N8: ودائع الشركات المالية الأخرى | O8: مطلوبات لغير المقيمين | P8: الأسهم وحقوق الملكية الأخرى | Q8: مطلوبات أخرى
D9: Monetary Base
E10: النقد المصدر | F10: المطلوبات لشركات الإيداع الأخرى
F11: Liabilities to Other Depository Corporations
G12: الاحتياطي الإلزامي | H12: الاحتياطي الفائض | J12: نافذة الإيداع لليلة واحدة | K12: شهادات الإيداع | L12: ودائع أخرى بالعملات الأجنبية
C14: Liabilities | E14: Currency Issued | G14: Legal Reserves | H14: Excess Reserves | J14: Overnight window deposits | K14: Certificates of Deposit | L14: Other Deposits in foreign currencies | M14: Deposits of Public Sector | N14: Deposits of Other Financial Corpo-rations | O14: Liabilities to Nonresidents | P14: Shares and Other Equity | Q14: Unclassified Liabilities
B15: الفترة Period
B16: 2014 | C16: 14032.782 | D16: 7041.624 | E16: 4177.854 | F16: 2863.77 | G16: 1457.091 | H16: 1406.679 | I16: 4416.044 | J16: 3418.5 | K16: 259.3 | L16: 738.244 | M16: 958.787 | N16: 5.732 | O16: 1362.882 | P16: 154.084 | Q16: 93.629
B17: 2015 | C17: 14329.44 | D17: 7505.719 | E17: 4336.768 | F17: 3168.951 | G17: 1605.366 | H17: 1563.585 | I17: 4445.902 | J17: 2751.5 | K17: 1076.5 | L17: 617.902 | M17: 915.206 | N17: 4.453 | O17: 1120.598 | P17: 240.138 | Q17: 97.424
B18: 2016 | C18: 13453.025 | D18: 7731.58 | E18: 4620.786 | F18: 3110.794 | G18: 1628.342 | H18: 1482.452 | I18: 3295.405 | J18: 1527 | K18: 1030.9 | L18: 737.505 | M18: 1032.416 | N18: 15.071 | O18: 971.393 | P18: 293.492 | Q18: 113.668
B19: 2017 | C19: 13367.569 | D19: 7698.459 | E19: 4836.496 | F19: 2861.963 | G19: 1603.694 | H19: 1258.269 | I19: 3354.604 | J19: 1911.5 | K19: 600 | L19: 843.104 | M19: 960.198 | N19: 24.535 | O19: 929.302 | P19: 324.971 | Q19: 75.5
B20: 2018 | C20: 12901.566 | D20: 7271.769 | E20: 4802.431 | F20: 2469.338 | G20: 1580.304 | H20: 889.034 | I20: 2974.064 | J20: 1534.5 | K20: 600 | L20: 839.564 | M20: 513.759 | N20: 3.583 | O20: 1674.064 | P20: 368.754 | Q20: 95.573
B21: 2019 | C21: 13709.534 | D21: 8083.45 | E21: 5162.008 | F21: 2921.442 | G21: 1654.008 | H21: 1267.434 | I21: 2973.52 | J21: 1713.5 | K21: 500 | L21: 760.02 | M21: 396.805 | N21: 1.738 | O21: 1726.324 | P21: 380.211 | Q21: 147.486
B22: 2020 | C22: 16025.633 | D22: 9148.17 | E22: 6496.496 | F22: 2651.674 | G22: 1221.595 | H22: 1430.079 | I22: 3721.779 | J22: 2984.5 | K22: 0 | L22: 737.279 | M22: 413.289 | N22: 4.579 | O22: 1672.019 | P22: 468.21056 | Q22: 597.586
B23: 2021 | C23: 17680.019 | D23: 9816.045 | E23: 6834.841 | F23: 2981.204 | G23: 1335.504 | H23: 1645.7 | I23: 4491.942 | J23: 3782 | K23: 0 | L23: 709.942 | M23: 567.597 | N23: 11.187 | O23: 1817.966 | P23: 502.175 | Q23: 473.107
B24: 2022 | C24: 17004.846 | D24: 9152.154 | E24: 6678.204 | F24: 2473.95 | G24: 1457.092 | H24: 1016.858 | I24: 4713.616 | J24: 3459.5 | K24: 600 | L24: 654.116 | M24: 1204.365 | N24: 8.355 | O24: 1179.366 | P24: 543.283 | Q24: 203.707
B25: 2023 | C25: 17270.476 | D25: 8859.992 | E25: 6441.259 | F25: 2418.733 | G25: 1507.477 | H25: 911.256 | I25: 5513.552 | J25: 4042 | K25: 800 | L25: 671.552 | M25: 615.643 | N25: 28.252 | O25: 1123.508 | P25: 597.426 | Q25: 532.103
B26: 2024 | C26: 19279.114 | D26: 9418.266 | E26: 6733.124 | F26: 2685.142 | G26: 1589.252 | H26: 1095.89 | I26: 6342.542 | J26: 5141.5 | K26: 550 | L26: 651.042 | M26: 664.783 | N26: 47.696 | O26: 824.18586 | P26: 733.762 | Q26: 1247.879
B27: 2025* | C27: 22381.413 | D27: 10038.355 | E27: 7050.988 | F27: 2987.367 | G27: 1638.612 | H27: 1348.755 | I27: 6277.4 | J27: 5265.5 | K27: 325 | L27: 686.9 | M27: 870.587 | N27: 35.035 | O27: 796.56337 | P27: 903.205 | Q27: 3460.268
B28: 2014
B29: 41974 | C29: 14032.782 | D29: 7041.624 | E29: 4177.854 | F29: 2863.77 | G29: 1457.091 | H29: 1406.679 | I29: =+SUM(J29:L29) -> 4416.044 | J29: 3418.5 | K29: 259.3 | L29: 738.244 | M29: 958.787 | N29: 5.732 | O29: 1362.882 | P29: 154.084 | Q29: 93.629
B30: 2015
B31: 42005 | C31: 13870.43 | D31: 6930.004 | E31: 4137.307 | F31: 2792.697 | G31: 1469.612 | H31: 1323.085 | I31: =+SUM(J31:L31) -> 4608.453 | J31: 3626.5 | K31: 259.3 | L31: 722.653 | M31: 738.646 | N31: 26.532 | O31: 1315.044 | P31: 157.176 | Q31: 94.575
B32: 42036 | C32: 14036.604 | D32: 6908.604 | E32: 4110.675 | F32: 2797.929 | G32: 1491.805 | H32: 1306.124 | I32: =+SUM(J32:L32) -> 4886.7 | J32: 2807.5 | K32: 1259.3 | L32: 819.9 | M32: 734.535 | N32: 20.775 | O32: 1263.719 | P32: 114.857 | Q32: 107.414
B33: 42064 | C33: 13958.51 | D33: 6858.152 | E33: 4138.197 | F33: 2719.955 | G33: 1499.623 | H33: 1220.332 | I33: =+SUM(J33:L33) -> 4497.174 | J33: 2696.5 | K33: 1084.5 | L33: 716.174 | M33: 1020.915 | N33: 12.497 | O33: 1239.03 | P33: 239.873 | Q33: 90.869
B34: 42095 | C34: 14113.302 | D34: 6964.087 | E34: 4203.449 | F34: 2760.638 | G34: 1524.622 | H34: 1236.016 | I34: =+SUM(J34:L34) -> 4691.764 | J34: 2857 | K34: 1084.5 | L34: 750.264 | M34: 856.714 | N34: 7.232 | O34: 1268.122 | P34: 239.873 | Q34: 85.51
B35: 42125 | C35: 14127.737 | D35: 6965.97 | E35: 4224.455 | F35: 2741.515 | G35: 1534.611 | H35: 1206.904 | I35: =+SUM(J35:L35) -> 4828.028 | J35: 2973.5 | K35: 1084.5 | L35: 770.028 | M35: 750.845 | N35: 4.561 | O35: 1246.136 | P35: 239.873 | Q35: 92.324
B36: 42156 | C36: 14272.238 | D36: 7260.596 | E36: 4336.77 | F36: 2923.826 | G36: 1547.666 | H36: 1376.16 | I36: =+SUM(J36:L36) -> 4776.586 | J36: 2746.5 | K36: 1161 | L36: 869.086 | M36: 656.227 | N36: 8.563 | O36: 1232.214 | P36: 239.873 | Q36: 98.179
B37: 42186 | C37: 15202.998 | D37: 7475.818 | E37: 4520.167 | F37: 2955.651 | G37: 1555.502 | H37: 1400.149 | I37: =+SUM(J37:L37) -> 4992.394 | J37: 3022.5 | K37: 1161 | L37: 808.894 | M37: 1170.662 | N37: 5.787 | O37: 1228.237 | P37: 239.873 | Q37: 90.227
B38: 42217 | C38: 15272.622 | D38: 7504.074 | E38: 4426.599 | F38: 3077.475 | G38: 1568.292 | H38: 1509.183 | I38: =+SUM(J38:L38) -> 5008.604 | J38: 3118.5 | K38: 1161 | L38: 729.104 | M38: 1217.934 | N38: 4.698 | O38: 1212.8 | P38: 239.873 | Q38: 84.639
B39: 42248 | C39: 15063.872 | D39: 7519.931 | E39: 4495.063 | F39: 3024.868 | G39: 1577.307 | H39: 1447.561 | I39: =+SUM(J39:L39) -> 4961.139 | J39: 3171 | K39: 1161 | L39: 629.139 | M39: 1066.068 | N39: 7.318 | O39: 1187.767 | P39: 239.873 | Q39: 81.776
B40: 42278 | C40: 14786.667 | D40: 7482.134 | E40: 4387.498 | F40: 3094.636 | G40: 1593.226 | H40: 1501.41 | I40: =+SUM(J40:L40) -> 4858.982 | J40: 3137 | K40: 1076.5 | L40: 645.482 | M40: 947.056 | N40: 12.938 | O40: 1165.648 | P40: 239.873 | Q40: 80.036
B41: 42309 | C41: 14262.917 | D41: 7451.182 | E41: 4351.43 | F41: 3099.752 | G41: 1601.211 | H41: 1498.541 | I41: =+SUM(J41:L41) -> 4691.389 | J41: 2959 | K41: 1076.5 | L41: 655.889 | M41: 662.744 | N41: 5.499 | O41: 1129.602 | P41: 239.873 | Q41: 82.628
B42: 42339 | C42: 14329.44 | D42: 7505.719 | E42: 4336.768 | F42: 3168.951 | G42: 1605.366 | H42: 1563.585 | I42: =+SUM(J42:L42) -> 4445.902 | J42: 2751.5 | K42: 1076.5 | L42: 617.902 | M42: 915.206 | N42: 4.453 | O42: 1120.598 | P42: 240.138 | Q42: 97.424
B43: 2016
B44: 42370 | C44: 14256.252 | D44: 7314.096 | E44: 4281.632 | F44: 3032.464 | G44: 1611.49 | H44: 1420.974 | I44: =+SUM(J44:L44) -> 4579.184 | J44: 2833.5 | K44: 1076.5 | L44: 669.184 | M44: 893.039 | N44: 49.831 | O44: 1088.614 | P44: 240.138 | Q44: 91.35
...

Sheet 3
B2: Financial Sector Statistics | F2: جدول (3) Table | R2: إحصاءات القطاع المالي
F3: الاحتياطيات الاجنبية للبنك المركزي الاردني
F4: Central Bank of Jordan Foreign Reserves | T4: مليون دينار JD Million
C6: الموجودات من الذهب والعملات الاجنبية Assets in Gold and Foreign Currencies | K6: المطلوبات بالعملات الاجنبية Liabilities in Foreign Currencies | R6: إجمالي الاحتياطيات الأجنبية للبنك المركزي (بما فيه الذهب وحقوق السحب الخاصة) | T6: التغطية لمستوردات المملكة من السلع والخدمات (بالأشهر)
C7: الذهــــــب** **Gold | E7: العملات الاجنبية Foreign Currencies | H7: موجودات اخرى بالعملة الاجنبية Other Assets in Foreign Currencies | K7: ودائع شركات الإيداع الأخرى | L7: ودائع غير المقيمين | M7: ودائع الحكومة المركزية | N7: ودائع المؤسسات العامة | O7: ودائع الاحتياطي | P7: اخرى | R7: CBJ's Gross Foreign Reserves (including gold and SDRs)
C8: بالاونصات | D8: القيمـــة | E8: حقوق السحب الخاصة | F8: نقد وارصدة وودائع جاهزة | G8: سندات واذونات | H8: ديون على الخارج تنفيذا لاتفاقيات الدفع | I8: المساهمة في المؤسسات المالية الدولية | K8: Other Depository Corporations Deposits | L8: Non-Resident Deposits | M8: Central Government Deposits | N8: Public Entities Deposits | O8: Reserve Deposits | P8: Other Deposits | R8: إجمالي الاحتياطيات الأجنبية (مليون دينار) | S8: إجمالي الاحتياطيات الأجنبية مقوماً بالدولار الامريكي (مليون دولار) | T8: Coverage of the Kingdom’s Imports of Goods and Services (In Months)
C10: Ounces | D10: Value | E10: SDRs | F10: Cash, Balances & Deposits | G10: Bonds & Treasury Bills | H10: Loans Arising From Payment Agreements | I10: Subscription to Inter. Financial Institutions | R10: Gross Foreign Reserves (JD Million) | S10: Gross foreign reserves Evaluated in Million of U.S. Dollar
B11: الفترة Period
B12: 2014 | C12: 620456 | D12: 528 | E12: 127.2 | F12: 5892.1 | G12: 4828 | H12: 766.9 | I12: 300.8 | J12: =SUM(D12:I12) -> 12443 | K12: 738.2 | L12: 0 | M12: 100.3 | N12: 1.9 | O12: 1194.7 | P12: 5.7 | Q12: =SUM(K12:P12) -> 2040.8 | R12: =+D12+E12+F12+G12-K12 -> 10637.1 | S12: 15003 | T12: 7.9
B13: 2015 | C13: 1325270 | D13: 997.9 | E13: 97.3 | F13: 4823.1 | G13: 5829.6 | H13: 766.9 | I13: 315 | J13: =SUM(D13:I13) -> 12829.8 | K13: 617.9 | L13: 0 | M13: 121.3 | N13: 1.1 | O13: 958 | P13: 9 | Q13: =SUM(K13:P13) -> 1707.3 | R13: =+D13+E13+F13+G13-K13 -> 11130 | S13: 15698.2 | T13: 8.6
B14: 2016 | C14: 1325216.8 | D14: 1078.5 | E14: 67.8 | F14: 4851.3 | G14: 5020.3 | H14: 766.9 | I14: 330.7 | J14: =SUM(D14:I14) -> 12115.5 | K14: 737.5 | L14: 0 | M14: 108 | N14: 1.4 | O14: 763.1 | P14: 3.5 | Q14: =SUM(K14:P14) -> 1613.5 | R14: =+D14+E14+F14+G14-K14 -> 10280.4 | S14: 14499.9 | T14: 7.5
B15: 2017 | C15: 1595588.6 | D15: 1473.7 | E15: 43.1 | F15: 4889.7 | G15: 4640.4 | H15: 766.9 | I15: 358.1 | J15: =SUM(D15:I15) -> 12171.9 | K15: 843.1 | L15: 0 | M15: 44.9 | N15: 0 | O15: 663.5 | P15: 3.3 | Q15: =SUM(K15:P15) -> 1554.8 | R15: =+D15+E15+F15+G15-K15 -> 10203.8 | S15: 14391.8 | T15: 7.6
B16: 2018 | C16: 1435953 | D16: 1302.2 | E16: 22.7 | F16: 5429.4 | G16: 3580.4 | H16: 766.9 | I16: 375.1 | J16: =SUM(D16:I16) -> 11476.7 | K16: 839.6 | L16: 0 | M16: 65.2 | N16: 0.2 | O16: 1407 | P16: 3.9 | Q16: =SUM(K16:P16) -> 2315.9 | R16: =+D16+E16+F16+G16-K16 -> 9495.1 | S16: 13392.2 | T16: 7.3
B17: 2019 | C17: 1406327 | D17: 1519 | E17: 11.7 | F17: 5876.5 | G17: 3512.3 | H17: 766.9 | I17: 382.6 | J17: =SUM(D17:I17) -> 12069 | K17: 760 | L17: 0 | M17: 60.1 | N17: 0.1 | O17: 1346.1 | P17: 9.8 | Q17: =SUM(K17:P17) -> 2176.1 | R17: =+D17+E17+F17+G17-K17 -> 10159.5 | S17: 14329.3 | T17: 9.3
B18: 2020 | C18: 1974363.8 | D18: 2646 | E18: 13.8 | F18: 6573.6 | G18: 2791 | H18: 766.9 | I18: 407.6 | J18: =SUM(D18:I18) -> 13198.9 | K18: 737.3 | L18: 0 | M18: 105.4 | N18: 0.1 | O18: 1287.8 | P18: 28.6 | Q18: =SUM(K18:P18) -> 2159.2 | R18: =+D18+E18+F18+G18-K18 -> 11287.1 | S18: 15919.7 | T18: 8.2
B19: 2021 | C19: 2075123.8 | D19: 2646.1 | E19: 11.6 | F19: 8002.6 | G19: 2842.3 | H19: 766.9 | I19: 416.9 | J19: =SUM(D19:I19) -> 14686.4 | K19: 709.9 | L19: 0 | M19: 90.1 | N19: 2.5 | O19: 1114.2 | P19: 32.9 | Q19: =SUM(K19:P19) -> 1949.6 | R19: =+D19+E19+F19+G19-K19 -> 12792.7 | S19: 18043.2 | T19: 7.2
B20: 2022 | C20: 2212731.6 | D20: 2837.1 | E20: 7.6 | F20: 7166.6 | G20: 2885.1 | H20: 766.9 | I20: 419.8 | J20: =SUM(D20:I20) -> 14083.1 | K20: 654.1 | L20: 0 | M20: 149.4 | N20: 1.2 | O20: 840.2 | P20: 25.7 | Q20: =SUM(K20:P20) -> 1670.6 | R20: =+D20+E20+F20+G20-K20 -> 12242.3 | S20: 17266.9 | T20: 7.1
B21: 2023 | C21: 2288466 | D21: 3347.236 | E21: 7.099 | F21: 6967.836 | G21: 3198.549 | H21: 766.882 | I21: 423.401 | J21: =SUM(D21:I21) -> 14711.003 | K21: 671.552 | L21: 0 | M21: 112.624 | N21: 0 | O21: 808.698 | P21: 45.635 | Q21: =SUM(K21:P21) -> 1638.509 | R21: =+D21+E21+F21+G21-K21 -> 12849.168 | S21: 18122.945 | T21: 7.1
B22: 2024 | C22: 2303441.3 | D22: 4256.829 | E22: 3.464 | F22: 8140.819 | G22: 3149.402 | H22: 766.882 | I22: 434.393 | J22: =SUM(D22:I22) -> 16751.789 | K22: 651.042 | L22: 0 | M22: 149.154 | N22: 0 | O22: 551.985 | P22: 35.044 | Q22: =SUM(K22:P22) -> 1387.225 | R22: =+D22+E22+F22+G22-K22 -> 14899.472 | S22: 21014.77 | T22: 7.7075979
B23: 2025 | C23: 2342849.8 | D23: 7194.81 | E23: 6.551 | F23: 8397.0184 | G23: 3170.2429 | H23: 766.88221 | I23: 459.928 | J23: =SUM(D23:I23) -> 19995.432 | K23: 686.9 | L23: 0 | M23: 332.711 | N23: 0 | O23: 547.299 | P23: 28.571 | Q23: =SUM(K23:P23) -> 1595.481 | R23: =+D23+E23+F23+G23-K23 -> 18081.722 | S23: 25503.134 | T23: 8.6678082
B24: 2014
B25: 41640 | C25: 500363.44 | D25: 448.2 | E25: 151.7 | F25: 4277.4 | G25: 5226.6 | H25: 766.9 | I25: 303.9 | J25: =SUM(D25:I25) -> 11174.7 | K25: 690.7 | L25: 0 | M25: 145.2 | N25: 1.31 | O25: 1338.7 | P25: 53.4 | Q25: =SUM(K25:P25) -> 2229.31 | R25: =+D25+E25+F25+G25-K25 -> 9413.2 | S25: 13276.73 | T25: 6.42
B26: 41671 | C26: 470363.44 | D26: 442.8 | E26: 149.4 | F26: 4175.3 | G26: 5330 | H26: 766.9 | I26: 303.9 | J26: =SUM(D26:I26) -> 11168.3 | K26: 698.8 | L26: 0 | M26: 146.5 | N26: 3.4 | O26: 1314.3 | P26: 48.4 | Q26: =SUM(K26:P26) -> 2211.4 | R26: =+D26+E26+F26+G26-K26 -> 9398.7 | S26: 13256.28 | T26: 6.45
B27: 41699 | C27: 520363 | D27: 478 | E27: 149.2 | F27: 4292 | G27: 5340.3 | H27: 766.9 | I27: 303.9 | J27: =SUM(D27:I27) -> 11330.3 | K27: 694.4 | L27: 0 | M27: 154.9 | N27: 3.5 | O27: 1300.4 | P27: 41.4 | Q27: =SUM(K27:P27) -> 2194.6 | R27: =+D27+E27+F27+G27-K27 -> 9565.1 | S27: 13490.97 | T27: 6.62
B28: 41730 | C28: 525363.44 | D28: 481.9 | E28: 149.9 | F28: 4594.2 | G28: 5202.1 | H28: 766.9 | I28: 310.8 | J28: =SUM(D28:I28) -> 11505.8 | K28: 660.3 | L28: 0 | M28: 147.8 | N28: 13.4 | O28: 1287.7 | P28: 7.8 | Q28: =SUM(K28:P28) -> 2117 | R28: =+D28+E28+F28+G28-K28 -> 9767.8 | S28: 13776.87 | T28: 6.81
B29: 41760 | C29: 530363.44 | D29: 473.14 | E29: 145.46 | F29: 5159.29 | G29: 4911.75 | H29: 766.88 | I29: 310.82 | J29: =SUM(D29:I29) -> 11767.34 | K29: 650 | L29: 0 | M29: 127.38 | N29: 3.2 | O29: 1336.14 | P29: 6.95 | Q29: =SUM(K29:P29) -> 2123.67 | R29: =+D29+E29+F29+G29-K29 -> 10039.64 | S29: 14160.26 | T29: 7.05
B30: 41791 | C30: 540363.44 | D30: 494.4 | E30: 145.8 | F30: 5619 | G30: 5208.8 | H30: 766.9 | I30: 310.8 | J30: =SUM(D30:I30) -> 12545.7 | K30: 678.2 | L30: 0 | M30: 122.9 | N30: 6.4 | O30: 1322.6 | P30: 16.7 | Q30: =SUM(K30:P30) -> 2146.8 | R30: =+D30+E30+F30+G30-K30 -> 10789.8 | S30: 15218.34 | T30: 7.64
B31: 41821 | C31: 540363.44 | D31: 499 | E31: 145 | F31: 5365.8 | G31: 5525.6 | H31: 766.9 | I31: 310.8 | J31: =SUM(D31:I31) -> 12613.1 | K31: 631.2 | L31: 0 | M31: 136.2 | N31: 6.4 | O31: 1378.6 | P31: 20.8 | Q31: =SUM(K31:P31) -> 2173.2 | R31: =+D31+E31+F31+G31-K31 -> 10904.2 | S31: 15379.69 | T31: 7.78
B32: 41852 | C32: 545363 | D32: 497.34 | E32: 137.85 | F32: 5798.21 | G32: 5251.74 | H32: 766.88 | I32: 310.82 | J32: =SUM(D32:I32) -> 12762.84 | K32: 742.72 | L32: 0 | M32: 132.02 | N32: 19.74 | O32: 1366.61 | P32: 18.68 | Q32: =SUM(K32:P32) -> 2279.77 | R32: =+D32+E32+F32+G32-K32 -> 10942.42 | S32: 15433.6 | T32: 7.87
B33: 41883 | C33: 635382 | D33: 548.6 | E33: 135 | F33: 5606.2 | G33: 5184 | H33: 766.88 | I33: 310.82 | J33: =SUM(D33:I33) -> 12551.5 | K33: 632 | L33: 0 | M33: 141.1 | N33: 4.4 | O33: 1359.6 | P33: 11.1 | Q33: =SUM(K33:P33) -> 2148.2 | R33: =+D33+E33+F33+G33-K33 -> 10841.8 | S33: 15291.68 | T33: 7.86
B34: 41913 | C34: 630382 | D34: 542.1 | E34: 135.2 | F34: 5828.6 | G34: 4862 | H34: 766.88 | I34: 310.82 | J34: =SUM(D34:I34) -> 12445.6 | K34: 613.3 | L34: 0 | M34: 117.5 | N34: 4.8 | O34: 1276.9 | P34: 10.1 | Q34: =SUM(K34:P34) -> 2022.6 | R34: =+D34+E34+F34+G34-K34 -> 10754.6 | S34: 15168.69 | T34: 7.85
B35: 41944 | C35: 680382 | D35: 562.9 | E35: 128.5 | F35: 5709.6 | G35: 4992.4 | H35: 766.9 | I35: 310.8 | J35: =SUM(D35:I35) -> 12471.1 | K35: 668.4 | L35: 0 | M35: 121.9 | N35: 7.9 | O35: 1256.6 | P35: 8.1 | Q35: =SUM(K35:P35) -> 2062.9 | R35: =+D35+E35+F35+G35-K35 -> 10725 | S35: 15126.94 | T35: 7.9
B36: 41974 | C36: 620456 | D36: 528 | E36: 127.2 | F36: 5892.1 | G36: 4828 | H36: 766.9 | I36: 300.8 | J36: =SUM(D36:I36) -> 12443 | K36: 738.2 | L36: 0 | M36: 100.3 | N36: 1.9 | O36: 1194.7 | P36: 5.7 | Q36: =SUM(K36:P36) -> 2040.8 | R36: =+D36+E36+F36+G36-K36 -> 10637.1 | S36: 15002.96 | T36: 7.89
B37: 2015
B38: 42005 | C38: 733456 | D38: 667.3 | E38: 124 | F38: 5396.4 | G38: 5038.1 | H38: 766.9 | I38: 300.8 | J38: =SUM(D38:I38) -> 12293.5 | K38: 722.6 | L38: 0 | M38: 102.3 | N38: 2.9 | O38: 1150.8 | P38: 11.7 | Q38: =SUM(K38:P38) -> 1990.3 | R38: =+D38+E38+F38+G38-K38 -> 10503.2 | S38: 14814.1 | T38: 7.82
B39: 42036 | C39: 994558 | D39: 853.8 | E39: 119.6 | F39: 4986.7 | G39: 5430.8 | H39: 766.9 | I39: 300.8 | J39: =SUM(D39:I39) -> 12458.6 | K39: 819.9 | L39: 0 | M39: 110.1 | N39: 2.2 | O39: 1099.4 | P39: 13.9 | Q39: =SUM(K39:P39) -> 2045.5 | R39: =+D39+E39+F39+G39-K39 -> 10571 | S39: 14909.73 | T39: 7.9
B40: 42064 | C40: 1072934 | D40: 899.6 | E40: 117 | F40: 4694 | G40: 5667.8 | H40: 766.9 | I40: 300.8 | J40: =SUM(D40:I40) -> 12446.1 | K40: 716.2 | L40: 0 | M40: 110.9 | N40: 0.9 | O40: 1078 | P40: 10.1 | Q40: =SUM(K40:P40) -> 1916.1 | R40: =+D40+E40+F40+G40-K40 -> 10662.2 | S40: 15038.36 | T40: 7.99
B41: 42095 | C41: 1146685 | D41: 984.1 | E41: 117.5 | F41: 4947.1 | G41: 5486.5 | H41: 766.9 | I41: 308.9 | J41: =SUM(D41:I41) -> 12611 | K41: 750.3 | L41: 0 | M41: 126.1 | N41: 0.9 | O41: 1106.1 | P41: 7.4 | Q41: =SUM(K41:P41) -> 1990.8 | R41: =+D41+E41+F41+G41-K41 -> 10784.9 | S41: 15211.42 | T41: 8.11
B42: 42125 | C42: 1124743 | D42: 949.6 | E42: 112.7 | F42: 5102 | G42: 5376.3 | H42: 766.9 | I42: 308.9 | J42: =SUM(D42:I42) -> 12616.4 | K42: 770 | L42: 0 | M42: 114.1 | N42: 13.7 | O42: 1084.6 | P42: 6.9 | Q42: =SUM(K42:P42) -> 1989.3 | R42: =+D42+E42+F42+G42-K42 -> 10770.6 | S42: 15191.26 | T42: 8.13
B43: 42156 | C43: 1144873 | D43: 955.4 | E43: 113.8 | F43: 4940.4 | G43: 5613 | H43: 766.9 | I43: 311.1 | J43: =SUM(D43:I43) -> 12700.6 | K43: 869.1 | L43: 0 | M43: 183.1 | N43: 0.5 | O43: 1069.2 | P43: 5.9 | Q43: =SUM(K43:P43) -> 2127.8 | R43: =+D43+E43+F43+G43-K43 -> 10753.5 | S43: 15167.14 | T43: 8.14
...

Sheet 4
B2: Financial Sector Statistics | E2: جدول (4) Table | J2: إحصاءات القطاع المالي
E3: النقود الاحتياطية
E4: Reserve Money | K4: مليون دينار JD Million
C6: الموجودات | E6: النقود الاحتياطية | F6: المطلوبات
C7: Assets | F7: Liabilities
C8: صافي | D8: صافي | F8: النقد المصدر | I8: ودائع شركات الإيداع الأخرى بالدينار لدى البنك المركزي
C9: الموجودات | D9: الموجودات | F9: Currency Issued | I9: Deposits in JD with Other Depository Corporations
C10: الأجنبية | D10: المحلية
C11: للبنك | D11: للبنك | E11: Reserve Money | G11: النقد لدى
C12: المركزي | D12: المركزي | F12: النقد | G12: شركات الإيداع الأخرى | I12: احتياطــــي الزامي | J12: احتياطي فائض | K12: المجمـوع
F13: المتداول | H13: المجموع
C14: Net Foreign | D14: Net Domestic | F14: Currency | G14: Cash with
C15: Assets of the | D15: Assets of the | F15: with the | G15: Other Depository
C16: Central Bank | D16: Central Bank | F16: Public | G16: Corporations | H16: Total | I16: Legal Reserve | J16: Excess Reserve | K16: Total
B17: الفترة Period
B18: 2014 | C18: 10073.8 | D18: -3032.2 | E18: 7041.6 | F18: 3804.4 | G18: 373.4 | H18: 4177.8 | I18: 1457.1 | J18: 1406.7 | K18: 2863.8
B19: 2015 | C19: 10279.826 | D19: -2774.1 | E19: 7505.7263 | F19: 3933.2 | G19: 403.5 | H19: 4336.7 | I19: 1605.4 | J19: 1563.6 | K19: 3169
B20: 2016 | C20: 10008.421 | D20: -2276.841 | E20: 7731.5804 | F20: 4181.3 | G20: 439.5 | H20: 4620.8 | I20: 1628.3 | J20: 1482.5 | K20: 3110.8
B21: 2017 | C21: 10454.497 | D21: -2756.038 | E21: 7698.4594 | F21: 4326.5 | G21: 510 | H21: 4836.5 | I21: 1603.7 | J21: 1258.3 | K21: 2862
B22: 2018 | C22: 9366.5958 | D22: -2094.9 | E22: 7271.6958 | F22: 4296.4 | G22: 506 | H22: 4802.4 | I22: 1580.3 | J22: 889 | K22: 2469.3
B23: 2019 | C23: 10198.552 | D23: -2115.102 | E23: 8083.4498 | F23: 4631 | G23: 531 | H23: 5162 | I23: 1654 | J23: 1267.4 | K23: 2921.4
B24: 2020 | C24: 11040.716 | D24: -1892.5446 | E24: 9148.1712 | F24: 5939.4 | G24: 557.1 | H24: 6496.5 | I24: 1221.6 | J24: 1430.1 | K24: 2651.7
B25: 2021 | C25: 12017.766 | D25: -2201.721 | E25: 9816.045 | F25: 6225.4 | G25: 609.4 | H25: 6834.8 | I25: 1335.5 | J25: 1645.7 | K25: 2981.2
B26: 2022 | C26: 11654.856 | D26: -2502.702 | E26: 9152.1542 | F26: 6037.4 | G26: 640.8 | H26: 6678.2 | I26: 1457.1 | J26: 1016.9 | K26: 2474
B27: 2023 | C27: 12387.562 | D27: -3527.57 | E27: 8859.992 | F27: 5807.548 | G27: 633.711 | H27: 6441.259 | I27: 1507.477 | J27: 911.256 | K27: 2418.733
B28: 2024 | C28: =C161 -> 14544.818 | D28: =D161 -> -5126.5524 | E28: =E161 -> 9418.266 | F28: =F161 -> 6083.0696 | G28: =G161 -> 650.05442 | H28: =H161 -> 6733.124 | I28: =I161 -> 1589.252 | J28: =J161 -> 1095.89 | K28: =K161 -> 2685.142
B29: 2025* | C29: =C174 -> 17669.823 | D29: =D174 -> -7631.468 | E29: =D29+C29 -> 10038.355 | F29: =F174 -> 6409.518 | G29: =G174 -> 641.46997 | H29: =G29+F29 -> 7050.988 | I29: =I174 -> 1638.612 | J29: =J174 -> 1348.755 | K29: =J29+I29 -> 2987.367
B30: 2014
B31: 41974 | C31: 10073.8 | D31: -3032.2 | E31: 7041.6 | F31: 3804.4 | G31: 373.4 | H31: 4177.8 | I31: 1457.1 | J31: 1406.7 | K31: 2863.8
B32: 2015
B33: 42005 | C33: 9972.2043 | D33: -3042.2 | E33: 6930.0043 | F33: 3792.8 | G33: 344.5 | H33: 4137.3 | I33: 1469.6 | J33: 1323.1 | K33: 2792.7
B34: 42036 | C34: 10188.573 | D34: -3279.969 | E34: 6908.6039 | F34: 3771.4 | G34: 339.3 | H34: 4110.7 | I34: 1491.8 | J34: 1306.1 | K34: 2797.9
B35: 42064 | C35: 10200.712 | D35: -3342.6 | E35: 6858.1121 | F35: 3770.8 | G35: 367.4 | H35: 4138.2 | I35: 1499.6 | J35: 1220.3 | K35: 2719.9
B36: 42095 | C36: 10184.093 | D36: -3220.005 | E36: 6964.0879 | F36: 3836.6 | G36: 366.9 | H36: 4203.5 | I36: 1524.6 | J36: 1236 | K36: 2760.6
B37: 42125 | C37: 10211.625 | D37: -3245.655 | E37: 6965.9703 | F37: 3839.2 | G37: 385.3 | H37: 4224.5 | I37: 1534.6 | J37: 1206.9 | K37: 2741.5
B38: 42156 | C38: 10309.619 | D38: -3048.9 | E38: 7260.719 | F38: 3934.6 | G38: 402.2 | H38: 4336.8 | I38: 1547.7 | J38: 1376.2 | K38: 2923.9
B39: 42186 | C39: 11232.213 | D39: -3756.397 | E39: 7475.8165 | F39: 4117 | G39: 403.2 | H39: 4520.2 | I39: 1555.5 | J39: 1400.1 | K39: 2955.6
B40: 42217 | C40: 11117.458 | D40: -3613.384 | E40: 7504.0738 | F40: 4031.7297 | G40: 394.86933 | H40: 4426.599 | I40: 1568.3 | J40: 1509.2 | K40: 3077.5
B41: 42248 | C41: 10929.35 | D41: -3409.4 | E41: 7519.9504 | F41: 4041.8 | G41: 453.3 | H41: 4495.1 | I41: 1577.3 | J41: 1447.6 | K41: 3024.9
B42: 42278 | C42: 10802.756 | D42: -3320.622 | E42: 7482.1336 | F42: 4005.3 | G42: 382.2 | H42: 4387.5 | I42: 1593.2 | J42: 1501.4 | K42: 3094.6
...

Sheet 5
B2: Financial Sector Statistics | D2: جدول (5) Table | H2: إحصاءات القطاع المالي
C3: النقد المصدر حسب الفئات
C4: Currency Issued According Denomination | I4: مليون دينار JD Million
C6: فئة خمسون دينار | D6: فئة عشرون دينار | E6: فئة عشرة دنانير | F6: فئة خمسة دنانير | G6: فئة دينار | H6: المسكوكات المعدنية | I6: المجموع
C7: Fifty Dinars | D7: Twenty Dinars | E7: Ten Dinars | F7: Five Dinars | G7: One Dinar | H7: Coins | I7: Total
B8: الفترة Period
B9: 2010 | C9: 2193.6402 | D9: 603.06654 | E9: 129.64569 | F9: 76.86668 | G9: 38.010354 | H9: 37.270586 | I9: =SUM(C9:H9) -> 3078.5
B10: 2011 | C10: 2471.1489 | D10: 605.1217 | E10: 128.15955 | F10: 80.87206 | G10: 41.095439 | H10: 40.502351 | I10: =SUM(C10:H10) -> 3366.9
B11: 2012 | C11: 2637.7081 | D11: 599.24508 | E11: 145.6805 | F11: 85.53173 | G11: 45.513534 | H11: 44.321056 | I11: =SUM(C11:H11) -> 3558
B12: 2013 | C12: 2965.6082 | D12: 632.07922 | E12: 151.17165 | F12: 91.923345 | G12: 48.400544 | H12: 48.917041 | I12: =SUM(C12:H12) -> 3938.1
B13: 2014 | C13: =C89 -> 3183.0065 | D13: =D89 -> 636.1143 | E13: =E89 -> 157.95872 | F13: =F89 -> 96.43394 | G13: =G89 -> 51.119358 | H13: =H89 -> 53.167182 | I13: =SUM(C13:H13) -> 4177.8
B14: 2015 | C14: =C102 -> 3341.8147 | D14: =D102 -> 620.71656 | E14: =E102 -> 162.79298 | F14: =F102 -> 100.43936 | G14: =G102 -> 53.980886 | H14: =H102 -> 56.955514 | I14: =SUM(C14:H14) -> 4336.7
B15: 2016 | C15: =C115 -> 3554.5214 | D15: =D115 -> 666.27638 | E15: =E115 -> 182.94829 | F15: =F115 -> 100.89822 | G15: =G115 -> 56.087144 | H15: =H115 -> 60.068516 | I15: =SUM(C15:H15) -> 4620.8
B16: 2017 | C16: =C128 -> 3707.9824 | D16: =D128 -> 710.82768 | E16: =E128 -> 194.64785 | F16: =F128 -> 102.99626 | G16: =G128 -> 57.761631 | H16: =H128 -> 62.284184 | I16: =SUM(C16:H16) -> 4836.5
B17: 2018 | C17: =C141 -> 3685.2463 | D17: =D141 -> 694.03114 | E17: =E141 -> 195.80499 | F17: =F141 -> 103.29557 | G17: =G141 -> 59.66989 | H17: =H141 -> 64.352055 | I17: =SUM(C17:H17) -> 4802.4
B18: 2019 | C18: =C154 -> 3963.7898 | D18: =D154 -> 749.17334 | E18: =E154 -> 207.37535 | F18: =F154 -> 110.75156 | G18: =G154 -> 63.550435 | H18: =H154 -> 67.359515 | I18: =SUM(C18:H18) -> 5162
B19: 2020 | C19: =C167 -> 5074.735 | D19: =D167 -> 946.40202 | E19: =E167 -> 221.95813 | F19: =F167 -> 118.12762 | G19: =G167 -> 64.099841 | H19: =H167 -> 71.173389 | I19: =SUM(C19:H19) -> 6496.496
B20: 2021 | C20: =C180 -> 5297.7769 | D20: =D180 -> 1045.1722 | E20: =E180 -> 225.50571 | F20: =F180 -> 123.80879 | G20: =G180 -> 68.727047 | H20: =H180 -> 73.809403 | I20: =SUM(C20:H20) -> 6834.8
B21: 2022 | C21: =C193 -> 5183.6531 | D21: =D193 -> 976.96758 | E21: =E193 -> 238.22275 | F21: =F193 -> 131.24174 | G21: =G193 -> 71.925222 | H21: =H193 -> 76.189613 | I21: 6678.204
B22: 2023 | C22: 5033.425 | D22: 898.265 | E22: 229.458 | F22: 129.157 | G22: 73.391 | H22: 77.563 | I22: 6441.259
B23: 2024 | C23: =C219 -> 5221.014 | D23: =D219 -> 995.309 | E23: =E219 -> 228.894 | F23: =F219 -> 132.975 | G23: =G219 -> 75.806 | H23: =H219 -> 79.126 | I23: =I219 -> 6733.124
B24: 2025 | C24: =C232 -> 5464.7 | D24: =D232 -> 1056.1 | E24: =E232 -> 236.8 | F24: =F232 -> 134.4 | G24: =G232 -> 77.8 | H24: =H232 -> 81.2 | I24: =I232 -> 7051
B25: 2010
B26: 40179 | C26: 2011.6486 | D26: 607.08564 | E26: 119.99846 | F26: 68.93953 | G26: 33.991539 | H26: 34.336231 | I26: =SUM(C26:H26) -> 2876
B27: 40210 | C27: 2011.0336 | D27: 602.06928 | E27: 119.58209 | F27: 67.80109 | G27: 34.051825 | H27: 34.462115 | I27: =SUM(C27:H27) -> 2869
B28: 40238 | C28: 2043.0502 | D28: 604.1228 | E28: 120.41553 | F28: 68.46718 | G28: 34.545525 | H28: 34.598765 | I28: =SUM(C28:H28) -> 2905.2
B29: 40269 | C29: 2090.4131 | D29: 608.18512 | E29: 121.24136 | F29: 68.76641 | G29: 34.860035 | H29: 34.534025 | I29: =SUM(C29:H29) -> 2958
B30: 40299 | C30: 2113.5582 | D30: 609.03172 | E30: 122.54613 | F30: 69.8708 | G30: 35.228883 | H30: 34.764267 | I30: =SUM(C30:H30) -> 2985
B31: 40330 | C31: 2128.2412 | D31: 604.38348 | E31: 122.68082 | F31: 70.1385 | G31: 35.102584 | H31: 34.996416 | I31: =SUM(C31:H31) -> 2995.543
B32: 40360 | C32: 2185.9884 | D32: 604.76016 | E32: 124.1345 | F32: 72.622795 | G32: 36.311166 | H32: 35.383029 | I32: =SUM(C32:H32) -> 3059.2
B33: 40391 | C33: 2206.4448 | D33: 609.8926 | E33: 128.6993 | F33: 76.65664 | G33: 37.547795 | H33: 36.158915 | I33: =SUM(C33:H33) -> 3095.4
B34: 40422 | C34: 2183.2994 | D34: 613.11026 | E34: 137.22781 | F34: 82.69772 | G34: 40.245727 | H34: 36.719083 | I34: =SUM(C34:H34) -> 3093.3
B35: 40452 | C35: 2184.82 | D35: 609.71656 | E35: 132.14 | F35: 78.92686 | G35: 38.725231 | H35: 36.971399 | I35: =SUM(C35:H35) -> 3081.3
B36: 40483 | C36: 2187.3946 | D36: 617.60458 | E36: 136.66733 | F36: 82.220475 | G36: 40.359837 | H36: 37.253178 | I36: =SUM(C36:H36) -> 3101.5
B37: 40513 | C37: 2193.6402 | D37: 603.06654 | E37: 129.64569 | F37: 76.86668 | G37: 38.010354 | H37: 37.270586 | I37: =SUM(C37:H37) -> 3078.5
B38: 2011
B39: 40544 | C39: 2198.0294 | D39: 601.90158 | E39: 123.55062 | F39: 73.332095 | G39: 37.167207 | H39: 37.219048 | I39: =SUM(C39:H39) -> 3071.2
B40: 40575 | C40: 2237.1745 | D40: 600.93332 | E40: 125.68555 | F40: 73.081005 | G40: 36.956369 | H40: 37.269256 | I40: =SUM(C40:H40) -> 3111.1
B41: 40603 | C41: 2296.4378 | D41: 609.61578 | E41: 125.81047 | F41: 74.967585 | G41: 37.342149 | H41: 37.426166 | I41: =SUM(C41:H41) -> 3181.6
B42: 40634 | C42: 2346.6699 | D42: 616.20268 | E42: 127.68955 | F42: 75.95188 | G42: 37.549666 | H42: 37.736324 | I42: =SUM(C42:H42) -> 3241.8
...

Sheet 6a
B2: Financial Sector Statistics | G2: Table (6a) جدول | R2: إحصاءات القطاع المالي
G3: الميزانية الموحدة لشركات الإيداع الأخرى (الموجودات)
G4: Consolidated Balance Sheet of Other Depository Corporations (Assets) | T4: مليون دينار JD Million
C6: الموجودات | D6: الموجودات الأجنبية | L6: الموجودات المحلية
D7: Foreign Assets | L7: Domestic Assets
E8: نقد في الصندوق (بالعملات الأجنبية) | F8: الودائع القابلة للتحويل | G8: ودائع أخرى | H8: الأوراق المالية عدا الأسهم | I8: قروض أخرى | J8: الأسهم وحقوق الملكية الأخرى | K8: حسابات مستحقة أخرى | M8: الديون على الحكومة المركزية | N8: الديون على البلديات | O8: الديون على الشركات العامة غير المالية | P8: الديون على الشركات المالية الأخرى | Q8: الديون على البنك المركزي** | R8: الديون على القطاع الخاص | S8: النقد في الصندوق (بالدينار) | T8: الموجودات الأخرى
C10: Assets | E10: Cash in Vaults (In Foreign Currencies) | F10: Transferable Deposits | G10: Other Deposits | H10: Securities Other Than Shares | I10: Other Loans | J10: Shares and Other Equity | K10: Other accounts receivable | M10: Claims on Central Government | N10: Claims on Munici-palities | O10: Claims on Public Nonfinancial Corporations | P10: Claims on Other Financial Corporations | Q10: Claims on Central Bank** | R10: Claims on Private Sectors | S10: Cash in Vaults (In JD) | T10: Unclassified assets
B11: الفترة Period
B12: 2014 | C12: 44868.146 | D12: 4729.58 | E12: 208.98559 | F12: 998.40834 | G12: 2291.1983 | H12: 181.25257 | I12: 481.92764 | J12: 460.66828 | K12: 107.13929 | L12: 40138.566 | M12: 10653.149 | N12: 232.42298 | O12: 129.78793 | P12: 501.55094 | Q12: 7217.564 | R12: 17418.072 | S12: 373.4637 | T12: 3612.5558
B13: 2015 | C13: 47133.173 | D13: 4681.0709 | E13: 182.20323 | F13: 849.02953 | G13: 2409.4174 | H13: 218.65179 | I13: 477.08372 | J13: 473.99396 | K13: 70.691241 | L13: 42452.102 | M13: 11175.176 | N13: 225.66142 | O13: 113.21721 | P13: 513.08415 | Q13: 7568.8659 | R13: 18253.466 | S13: 403.55521 | T13: 4199.0764
B14: 2016 | C14: 48383.547 | D14: 5435.4329 | E14: 166.20429 | F14: 1236.1392 | G14: 2698.7297 | H14: 251.57088 | I14: 479.75801 | J14: 465.27998 | K14: 137.75088 | L14: 42948.114 | M14: 10559.376 | N14: 221.43857 | O14: 305.33899 | P14: 663.04233 | Q14: 6328.5503 | R14: 20073.653 | S14: 439.44467 | T14: 4357.2709
B15: 2017 | C15: 49102.541 | D15: 5652.0301 | E15: 193.0047 | F15: 1334.829 | G15: 2729.9846 | H15: 268.40101 | I15: 500.23454 | J15: 488.75857 | K15: 136.81762 | L15: 43450.511 | M15: 9665.3204 | N15: 212.2756 | O15: 414.95629 | P15: 801.08435 | Q15: 6180.6879 | R15: 21983.818 | S15: 509.98872 | T15: 3682.3796
B16: 2018 | C16: 50917.752 | D16: 5543.8335 | E16: 233.91301 | F16: 996.54536 | G16: 2840.143 | H16: 268.91532 | I16: 655.26517 | J16: 471.55922 | K16: 77.49248 | L16: 45373.918 | M16: 10388.884 | N16: 291.97368 | O16: 499.98047 | P16: 793.33346 | Q16: 5399.9571 | R16: 23263.496 | S16: 506.01559 | T16: 4230.2781
B17: 2019 | C17: 53642.048 | D17: 5579.0867 | E17: 204.23539 | F17: 1091.0725 | G17: 2725.7559 | H17: 259.77047 | I17: 674.39803 | J17: 542.49211 | K17: 81.362306 | L17: 48062.961 | M17: 11354.634 | N17: 357.16916 | O17: 551.01766 | P17: 847.47791 | Q17: 5874.3258 | R17: 24275.241 | S17: 531.05168 | T17: 4272.0448
B18: 2020 | C18: 57037.963 | D18: 6290.1312 | E18: 271.23311 | F18: 1569.4955 | G18: 2924.5879 | H18: 219.59328 | I18: 612.75676 | J18: 581.56114 | K18: 110.90362 | L18: 50747.831 | M18: 11916.709 | N18: 401.61153 | O18: 571.52837 | P18: 1005.458 | Q18: 6300.0991 | R18: 25771.866 | S18: 557.11641 | T18: 4223.4426
B19: 2021 | C19: 61057.724 | D19: 6332.6627 | E19: 250.40413 | F19: 1607.3773 | G19: 2840.1093 | H19: 237.92814 | I19: 687.83957 | J19: 615.48549 | K19: 93.51886 | L19: 54725.061 | M19: 13177.149 | N19: 530.02201 | O19: 610.29539 | P19: 1017.768 | Q19: 7407.712 | R19: 26918.897 | S19: 609.46439 | T19: 4453.7529
B20: 2022 | C20: 64145.305 | D20: 5864.0619 | E20: 253.8531 | F20: 1086.6485 | G20: 2836.2533 | H20: 355.28776 | I20: 664.81915 | J20: 606.23674 | K20: 60.963229 | L20: 58281.243 | M20: 13876.368 | N20: 728.43974 | O20: 1017.068 | P20: 1056.6382 | Q20: 7177.9167 | R20: 29137.742 | S20: 640.76552 | T20: 4646.3053
B21: 2023 | C21: =+D21+L21 -> 66175.778 | D21: =SUM(E21:K21) -> 6220.7698 | E21: 217.09875 | F21: 1204.6664 | G21: 2918.2698 | H21: 329.13193 | I21: 844.86764 | J21: 658.34739 | K21: 48.387891 | L21: =SUM(M21:T21) -> 59955.008 | M21: 14044.525 | N21: 806.60443 | O21: 1385.5077 | P21: 869.45151 | Q21: 7883.1061 | R21: 29647.844 | S21: 633.71072 | T21: 4684.2581
B22: 2024 | C22: =C155 -> 69853.314 | D22: =D155 -> 6798.3797 | E22: =E155 -> 251.66922 | F22: =F155 -> 1243.7093 | G22: =G155 -> 2807.147 | H22: =H155 -> 315.46825 | I22: =I155 -> 1341.6311 | J22: =J155 -> 790.40617 | ... T22: =T155 -> 4945.6262
B23: 2025* | C23: =+D23+L23 -> 74112.341 | D23: =SUM(E23:K23) -> 8684.601 | E23: =E168 -> 246.589 | F23: =F168 -> 1594.946 | G23: =G168 -> 3593.277 | H23: =H168 -> 608.518 | I23: =I168 -> 1469.391 | J23: =J168 -> 1129.896 | K23: =K168 -> 41.984 | L23: =SUM(M23:T23) -> 65427.74 | M23: =M168 -> 15628.936 | N23: =N168 -> 955.29 | O23: =O168 -> 1758.112 | P23: =P168 -> 944.049 | Q23: =Q168 -> 9173.052 | R23: =R168 -> 31158.998 | S23: =S168 -> 641.47 | T23: =T168 -> 5167.833
B24: 2014
B25: 41974 | C25: =+D25+L25 -> 44868.146 | D25: =SUM(E25:K25) -> 4729.58 | E25: 208.98559 | F25: 998.40834 | G25: 2291.1983 | H25: 181.25257 | I25: 481.92764 | J25: 460.66828 | K25: 107.13929 | L25: =SUM(M25:T25) -> 40138.566 | M25: 10653.149 | N25: 232.42298 | O25: 129.78793 | P25: 501.55094 | Q25: 7217.564 | R25: 17418.072 | S25: 373.4637 | T25: 3612.5558
B26: 2015
B27: 42005 | C27: =+D27+L27 -> 45490.239 | D27: =SUM(E27:K27) -> 4588.7652 | E27: 198.80472 | F27: 808.02429 | G27: 2394.9649 | H27: 181.62816 | I27: 484.00584 | J27: 457.55519 | K27: 63.782086 | L27: =SUM(M27:T27) -> 40901.474 | M27: 10802.738 | N27: 231.69713 | O27: 129.44202 | P27: 510.57599 | Q27: 7454.9691 | R27: 17537.498 | S27: 344.62141 | T27: 3889.9317
B28: 42036 | C28: =+D28+L28 -> 45640.092 | D28: =SUM(E28:K28) -> 4808.6629 | E28: 173.1997 | F28: 976.85926 | G28: 2416.6451 | H28: 190.62633 | I28: 497.62934 | J28: 460.36433 | K28: 93.338797 | L28: =SUM(M28:T28) -> 40831.429 | M28: 10824.465 | N28: 230.97191 | O28: 122.87806 | P28: 514.43627 | Q28: 7573.8246 | R28: 17397.919 | S28: 339.31835 | T28: 3827.6159
B29: 42064 | C29: =+D29+L29 -> 45515.05 | D29: =SUM(E29:K29) -> 4830.005 | E29: 192.65534 | F29: 1060.4354 | G29: 2341.3249 | H29: 199.78278 | I29: 499.55557 | J29: 450.72225 | K29: 85.528737 | L29: =SUM(M29:T29) -> 40685.045 | M29: 11278.471 | N29: 230.24691 | O29: 132.19412 | P29: 524.7962 | Q29: 7108.0807 | R29: 17352.049 | S29: 367.48815 | T29: 3691.7186
B30: 42095 | C30: =+D30+L30 -> 46047.485 | D30: =SUM(E30:K30) -> 4850.1657 | E30: 187.73778 | F30: 933.00403 | G30: 2448.352 | H30: 204.49756 | I30: 513.02491 | J30: 449.0528 | K30: 114.49669 | L30: =SUM(M30:T30) -> 41197.319 | M30: 11222.269 | N30: 231.52217 | O30: 155.10148 | P30: 525.94151 | Q30: 7364.1966 | R30: 17304.468 | S30: 366.87987 | T30: 4026.9409
B31: 42125 | C31: =+D31+L31 -> 46007.456 | D31: =SUM(E31:K31) -> 4586.071 | E31: 209.5466 | F31: 862.4627 | G31: 2236.1867 | H31: 207.27197 | I31: 494.89935 | J31: 452.90685 | K31: 122.79679 | L31: =SUM(M31:T31) -> 41421.385 | M31: 11270.762 | N31: 230.80742 | O31: 141.84162 | P31: 527.81033 | Q31: 7499.679 | R31: 17428.015 | S31: 385.20022 | T31: 3937.2693
B32: 42156 | C32: =+D32+L32 -> 46410.567 | D32: =SUM(E32:K32) -> 4558.0903 | E32: 185.37121 | F32: 908.32337 | G32: 2192.0169 | H32: 214.50413 | I32: 474.647 | J32: 457.89342 | K32: 125.33421 | L32: =SUM(M32:T32) -> 41852.477 | M32: 11351.566 | N32: 230.0719 | O32: 144.26945 | P32: 517.30981 | Q32: 7632.5589 | R32: 17622.867 | S32: 402.13276 | T32: 3951.7011
B33: 42186 | C33: =+D33+L33 -> 46494.337 | D33: =SUM(E33:K33) -> 4626.5707 | E33: 199.61696 | F33: 926.23912 | G33: 2244.8868 | H33: 205.01461 | I33: 467.62781 | J33: 459.53947 | K33: 123.6459 | L33: =SUM(M33:T33) -> 41867.767 | M33: 11042.157 | N33: 226.71734 | O33: 140.70978 | P33: 516.43333 | Q33: 7897.4131 | R33: 17719.475 | S33: 403.16696 | T33: 3921.6946
B34: 42217 | C34: =+D34+L34 -> 46687.64 | D34: =SUM(E34:K34) -> 4492.5951 | E34: 190.04574 | F34: 777.10372 | G34: 2237.4755 | H34: 218.45744 | I34: 490.28505 | J34: 458.25717 | K34: 120.97042 | L34: =SUM(M34:T34) -> 42195.045 | M34: 11211.857 | N34: 229.80679 | O34: 137.29957 | P34: 504.4667 | Q34: 8001.5359 | R34: 17829.222 | S34: 394.86933 | T34: 3885.9874
B35: 42248 | C35: =+D35+L35 -> 46917.305 | D35: =SUM(E35:K35) -> 4519.0415 | E35: 196.91071 | F35: 867.75329 | G35: 2183.9944 | H35: 222.5845 | I35: 479.32986 | J35: 458.33916 | K35: 110.12952 | L35: =SUM(M35:T35) -> 42398.264 | M35: 11221.804 | N35: 227.89935 | O35: 125.76257 | P35: 507.17104 | Q35: 7903.3458 | R35: 17963.736 | S35: 453.421 | T35: 3995.1233
