Workbook
Name FrequencyList: '[1]Report Form'!$F$4:$F$8
Name PeriodList: '[1]Report Form'!$E$4:$E$76

Sheet إحصاءات أنظمة الدفع
B3: إحصاءات الشركات المالية الأخرى | C3: رقم الجدول .Table No | D3: Statistics of Other Financial Corporations
B6: إحصاءات أنظمة الدفع | D6: Payments Systems Statistics
B7: ملخص لأنظمة الدفع والتقاص ................................................................................................................................................................ | C7: 49 | D7: Summary of Payment and Clearing Systems...................................................................................................................................................
B8: عدد وقيم حركات نظام غرفة التقاص الآلية ................................................................................................................................................... | C8: 50 | D8: Automated Clearing House System Transactions.............................................................................................................................................
B9: عدد وقيم حركات نظام الدفع الفوري........................................................................................................................................................ | C9: 51 | D9: Instant Payment System Transactions............................................................................................................................................................
B10: نظام عرض وتحصيل الفواتير إلكترونيا حسب القطاعات........................................................................................................................................... | C10: 52 | D10: Electronic Bill Presentment and Payment System (eFAWATEERcom) Transactions by Sector.................................................................................................
B11: المدفوعات الالكترونية باستخدام نظام عرض ودفع الفواتير الكترونياً (اي فواتيركم) وفقاً للتصنيف القطاعي ISIC-4 ................................................................... | C11: 53a | D11: Electronic payments using Electronic Bill Presentment and Payment System (eFAWATEERcom) according ISIC-4 .............................................................................
B12: المدفوعات الالكترونية باستخدام نظام عرض ودفع الفواتير الكترونياً (اي فواتيركم) وفقاً للتصنيف القطاعي ISIC-4 ................................................................... | C12: 53b | D12: Electronic payments using Electronic Bill Presentment and Payment System (eFAWATEERcom) according ISIC-4 .............................................................................
B13: نظام المقاصة الإلكترونية للشيكات....................................................................................................................................................... | C13: 54 | D13: Electronic Check Clearing System.................................................................................................................................................................
B14: عدد وقيم حركات نظام التسويات الإجمالية الفوري............................................................................................................................................ | C14: 55 | D14: Transactions Processed through RTGS System..............................................................................................................................................
B15: عدد البطاقات وعدد وقيمة حركات بطاقات الدفع المصدرة في المملكة مصنفة حسب نوعها...................................................................................................................................... | C15: 56 | D15: Number of Cards and Volume and Value of Payment Cards Transactions in Kingdom Sorted by Type.................................................................................................
B16: عدد حركات الانترنت والموبايل المصرفي عدد أجهزة نقاط البيع وأجهزة الصراف الآلي...................................................................................................................................... | C16: 57 | D16: Volume of Internet and Mobile & Banking Number of POS and ATM in Kingdom...............................................................................................
B17: عدد وقيم حركات البطاقات الأجنبية على نقاط البيع وأجهزة الصراف الآلي والتجارة الإلكترونية...................................................................................................................................... | C17: 58 | D17: Volume and Value of Cards on POS and ATM and e-Commerce in Kingdom.....................................................................................................
B18: عدد وقيمة حركات البطاقات المصدرة في المملكة...................................................................................................................................... | C18: 59 | D18: Volume and Value of Cards Issued in Kingdom...............................................................................................................................................

Sheet 49 
B2: Financial Sector Statistics | E2: Table (49) جدول | N2: إحصاءات القطاع المالي
E3: ملخص لأنظمة الدفع والتقاص
E4: Summary of Payment and Clearing Systems
C6: نظام الدفع بواسطة الهاتف النقال JoMoPay | F6: نظام الدفع الفوري CliQ | I6: نظام عرض وتحصيل الفواتير إلكترونياً eFAWATEERcom | N6: نظام المقاصة الإلكترونية للشيكات ECCU
C7: عدد المستخدمين Number of users مليون Million | D7: عدد الحركات Number of Transactions مليون Million | E7: قيمة الحركات Value of Transactions مليون Million | F7: عدد المستخدمين Number of users مليون Million | G7: عدد الحركات Number of Transactions مليون Million | H7: قيمة الحركات Value of Transactions مليون Million | I7: عدد المستخدمين Number of users مليون Million | J7: عدد المفوترين (مفوتر) Number of Billers | K7: عدد الخدمات (خدمة) Number of Services | L7: عدد الحركات Number of Transactions مليون Million | M7: قيمة الحركات Value of Transactions مليون Million | N7: قيمة الشيكات المتداولة Value of Cheques مليون Million | O7: قيمة الشيكات المعادة Value of Returned Cheques مليون Million
B8: الفترة Period
B9: 2018 | C9: NA | D9: 1.59 | E9: 75.903 | F9: NA | G9: NA | H9: NA | I9: NA | J9: 167 | K9: 412 | L9: 9.256 | M9: 6184.7045 | N9: 43841 | O9: 1701
B10: 2019 | C10: NA | D10: 3.85 | E10: 161.3 | F10: NA | G10: NA | H10: NA | I10: NA | J10: 196 | K10: 452 | L10: 14.529 | M10: 6751.2717 | N10: 40968 | O10: 1571
B11: 2020 | C11: 1.3 | D11: 12.06 | E11: 1080 | F11: 0.0077 | G11: =7826/1000000 -> 0.007826 | H11: =1036216/1000000 -> 1.036216 | I11: NA | J11: 318 | K11: 670 | L11: 22.623 | M11: 7461.43 | N11: 34235 | O11: 1733.1
B12: 2021 | C12: 1.59 | D12: 22 | E12: 2150 | F12: 0.19 | G12: 0.6298 | H12: 141 | I12: 3.14 | J12: 373 | K12: 1110 | L12: 34.163 | M12: 9449.7796 | N12: 37660.8 | O12: 1241.5
B13: 2022 | C13: 2.05 | D13: 11.03 | E13: 1360 | F13: 0.561 | G13: 7.03 | H13: 1350 | I13: 3.6 | J13: 436 | K13: 1317 | L13: 42.684 | M13: 10457.687 | N13: 40829 | O13: 1264.3
B14: 2023 | C14: 2.16 | D14: 26.61 | E14: 3119 | F14: 1.18 | G14: 30.21 | H14: 4480 | I14: 4.1 | J14: 496 | K14: 1718 | L14: 52.592 | M14: 11612.579 | N14: 40989.656 | O14: 1371.3796
B15: 2024 | C15: 2.6 | D15: 56.83 | E15: 5224 | F15: 1.67 | G15: 83.95 | H15: 12141 | I15: 4.54 | J15: 589 | K15: 2018 | L15: 66.074641 | M15: 13190.925 | N15: 40299.112 | O15: 1518.3633
B16: 2025 | C16: 2.81 | D16: 102.04 | E16: 6341.6 | F16: 2.13 | G16: 167.93 | H16: 19970 | I16: 5.04 | J16: 685 | K16: 2323 | L16: 75.426331 | M16: 15989.666 | N16: 40959.519 | O16: 1116.2012
B17: 2020
B18: 43831 | C18: NA | D18: 0.37 | E18: 27.51 | F18: NA | G18: NA | H18: NA | I18: NA | J18: NA | K18: NA | L18: NA | M18: NA | N18: 3204.6 | O18: 101.2
B19: 43862 | C19: NA | D19: 0.39 | E19: 23.3 | F19: NA | G19: NA | H19: NA | I19: NA | J19: NA | K19: NA | L19: NA | M19: NA | N19: 3052.7 | O19: 103.9
B20: 43892 | C20: NA | D20: 0.35 | E20: 17.32 | F20: NA | G20: NA | H20: NA | I20: NA | J20: NA | K20: NA | L20: NA | M20: NA | N20: 4544.5* | O20: 494*
B21: 43922 | C21: NA | D21: 0.65 | E21: 62.5 | F21: NA | G21: NA | H21: NA | I21: NA | J21: NA | K21: NA | L21: NA | M21: NA
B22: 43952 | C22: NA | D22: 1.05 | E22: 102.5 | F22: NA | G22: NA | H22: NA | I22: NA | J22: NA | K22: NA | L22: NA | M22: NA | N22: 2096.5 | O22: 164.1
B23: 43984 | C23: NA | D23: 1.26 | E23: 149.3 | F23: NA | G23: 6.4e-05 | H23: 6.7e-05 | I23: NA | J23: NA | K23: NA | L23: NA | M23: NA | N23: 2934 | O23: 130.7
B24: 44013 | C24: NA | D24: 1.35 | E24: 163.1 | F24: NA | G24: 0.000624 | H24: 0.01636 | I24: NA | J24: NA | K24: NA | L24: NA | M24: NA | N24: 3167.1 | O24: 131
B25: 44044 | C25: NA | D25: 0.97 | E25: 65 | F25: NA | G25: 0.00056 | H25: 0.02823 | I25: NA | J25: NA | K25: NA | L25: NA | M25: NA | N25: 3069.4 | O25: 134.5
B26: 44076 | C26: NA | D26: 1.89 | E26: 185.68 | F26: NA | G26: 0.000877 | H26: 0.07639 | I26: NA | J26: NA | K26: NA | L26: NA | M26: NA | N26: 3135.7 | O26: 118
B27: 44105 | C27: NA | D27: 1.18 | E27: 113.2 | F27: NA | G27: 0.001397 | H27: 0.19948 | I27: NA | J27: NA | K27: NA | L27: NA | M27: NA | N27: 2585.9 | O27: 92.8
B28: 44136 | C28: NA | D28: 1.24 | E28: 79.9 | F28: NA | G28: 0.001756 | H28: 0.25558 | I28: NA | J28: NA | K28: NA | L28: NA | M28: NA | N28: 2976.9 | O28: 132.7
B29: 44167 | C29: NA | D29: 1.31 | E29: 90.11 | F29: NA | G29: 0.002548 | H29: 0.4601 | I29: NA | J29: NA | K29: NA | L29: NA | M29: NA | N29: 3467.7 | O29: 130.2
B30: 2021
B31: 44197 | C31: 1.32 | D31: 1.39 | E31: 114 | F31: 0.0087 | G31: 0.0031 | H31: 0.6 | I31: NA | J31: NA | K31: NA | L31: NA | M31: NA | N31: 2939.5 | O31: 105.3
B32: 44228 | C32: 1.35 | D32: 1.29 | E32: 110 | F32: 0.0012 | G32: 0.0041 | H32: 0.7 | I32: NA | J32: NA | K32: NA | L32: NA | M32: NA | N32: 2832.4 | O32: 95.8
B33: 44257 | C33: 1.39 | D33: 1.56 | E33: 127 | F33: 0.057 | G33: 0.0094 | H33: 1.9 | I33: NA | J33: NA | K33: NA | L33: NA | M33: NA | N33: 3144.9 | O33: 117.9
B34: 44287 | C34: 1.35 | D34: 1.78 | E34: 180 | F34: 0.071 | G34: 0.018 | H34: 3.9 | I34: NA | J34: NA | K34: NA | L34: NA | M34: NA | N34: 2689.5 | O34: 91.6
B35: 44339 | C35: 1.47 | D35: 2.05 | E35: 189 | F35: 0.085 | G35: 0.028 | H35: 6.7 | I35: NA | J35: NA | K35: NA | L35: NA | M35: NA | N35: 2977.8 | O35: 118
B36: 44370 | C36: 1.51 | D36: 1.93 | E36: 169 | F36: 0.098 | G36: 0.038 | H36: 8.7 | I36: NA | J36: NA | K36: NA | L36: NA | M36: NA | N36: 3380.1 | O36: 114.1
B37: 44400 | C37: 1.55 | D37: 2.39 | E37: 283 | F37: 0.11 | G37: 0.047 | H37: 11.8 | I37: NA | J37: NA | K37: NA | L37: NA | M37: NA | N37: 2832.3 | O37: 75
B38: 44431 | C38: 1.59 | D38: 2.3 | E38: 178 | F38: 0.124 | G38: 0.058 | H38: 13.8 | I38: NA | J38: NA | K38: NA | L38: NA | M38: NA | N38: 3586.4 | O38: 115.6
B39: 44462 | C39: 1.64 | D39: 2.4 | E39: 231 | F39: 0.139 | G39: 0.074 | H39: 17.3 | I39: NA | J39: NA | K39: NA | L39: NA | M39: NA | N39: 3361.3 | O39: 101.9
B40: 44492 | C40: 1.69 | D40: 2.67 | E40: 266 | F40: 0.154 | G40: 0.091 | H40: 20.9 | I40: NA | J40: NA | K40: NA | L40: NA | M40: NA | N40: 3250.1 | O40: 97.8
B41: 44523 | C41: 1.73 | D41: 2.68 | E41: 241 | F41: 0.173 | G41: 0.111 | H41: 24.12 | I41: NA | J41: NA | K41: NA | L41: NA | M41: NA | N41: 3265.7 | O41: 95.9
B42: 44553 | C42: 1.76 | D42: 2.56 | E42: 261 | F42: 0.193 | G42: 0.154 | H42: 31.5 | I42: NA | J42: NA | K42: NA | L42: NA | M42: NA | N42: 3400.8 | O42: 112.6
B43: 2022
B44: 44562 | C44: 1.58 | D44: 0.709 | E44: 53.8 | F44: 0.2065 | G44: 0.176 | H44: 35.1 | I44: 3.19 | J44: 398 | K44: 1195 | L44: NA | M44: NA | N44: 3097.6 | O44: 131.4
B45: 44593 | C45: 1.62 | D45: 0.516 | E45: 51.8 | F45: 0.2294 | G45: 0.203 | H45: 39.8 | I45: 3.23 | J45: 406 | K45: 1195 | L45: NA | M45: NA | N45: 2981.8 | O45: 92.9
B46: 44621 | C46: 1.65 | D46: 0.559 | E46: 72.4 | F46: 0.2564 | G46: 0.312 | H46: 62.5 | I46: 3.27 | J46: 412 | K46: 1243 | L46: NA | M46: NA | N46: 3680.5 | O46: 107.4
B47: 44652 | C47: 1.7 | D47: 0.724 | E47: 105.2 | F47: 0.2858 | G47: 0.336 | H47: 69.9 | I47: 3.3 | J47: 414 | K47: 1268 | L47: NA | M47: NA | N47: 3086.3 | O47: 88.8
B48: 44682 | C48: 1.74 | D48: 0.72 | E48: 84.1 | F48: 0.3003 | G48: 0.396 | H48: 74 | I48: 3.34 | J48: 390 | K48: 1003 | L48: NA | M48: NA | N48: 3400.2 | O48: 119.7
B49: 44713 | C49: 1.79 | D49: 0.787 | E49: 98.4 | F49: 0.3367 | G49: 0.505 | H49: 97.4 | I49: 3.37 | J49: 399 | K49: 1032 | L49: NA | M49: NA | N49: 3675.4 | O49: 94.6
B50: 44743 | C50: 1.82 | D50: 0.89 | E50: 112.3 | F50: 0.3727 | G50: 0.579 | H50: 115.6 | I50: 3.41 | J50: 433 | K50: 1042 | L50: NA | M50: NA | N50: 3465.1 | O50: 88.8
B51: 44774 | C51: 1.87 | D51: 1.04 | E51: 141 | F51: 0.411 | G51: 0.695 | H51: 141 | I51: 3.45 | J51: 445 | K51: 1069 | L51: NA | M51: NA | N51: 3760.8 | O51: 88.8
B52: 44805 | C52: 1.91 | D52: 0.95 | E52: 125 | F52: 0.449 | G52: 0.76 | H52: 151 | I52: 3.49 | J52: 420 | K52: 1261 | L52: NA | M52: NA | N52: 3300.1 | O52: 97.1
B53: 44835 | C53: 1.98 | D53: 1.36 | E53: 173 | F53: 0.486 | G53: 0.905 | H53: 172 | I53: 3.55 | J53: 422 | K53: 1275 | L53: NA | M53: NA | N53: 3688.4 | O53: 120.8
B54: 44866 | C54: 2.02 | D54: 1.26 | E54: 155 | F54: 0.523 | G54: 0.985 | H54: 175 | I54: 3.58 | J54: 430 | K54: 1303 | L54: NA | M54: NA | N54: 3406.1 | O54: 105.8
B55: 44896 | C55: 2.05 | D55: 1.51 | E55: 188 | F55: 0.561 | G55: 1.18 | H55: 209 | I55: 3.62 | J55: 436 | K55: 1317 | L55: NA | M55: NA | N55: 3286.7 | O55: 128.2
B56: 2023
B57: 44927 | C57: 2.05 | D57: 1.57 | E57: 193 | F57: 0.592 | G57: 1.31 | H57: 235 | I57: 3.66 | J57: 442 | K57: 1334 | L57: 4.318 | M57: 1053.6238 | N57: 3630.25 | O57: 120
B58: 44958 | C58: 1.85 | D58: 1.41 | E58: 175 | F58: 0.634 | G58: 1.35 | H58: 234 | I58: 3.7 | J58: 447 | K58: 1342 | L58: 3.804 | M58: 933.32651 | N58: 3096.1 | O58: 92.4
B59: 44987 | C59: 1.85 | D59: 1.79 | E59: 218 | F59: 0.678 | G59: 1.7 | H59: 298 | I59: 3.73 | J59: 460 | K59: 1385 | L59: 4.057 | M59: 959.04322 | N59: 2457.7 | O59: 78.6
B60: 11780 | C60: 1.88 | D60: 1.73 | E60: 204 | F60: 0.721 | G60: 1.8 | H60: 306 | I60: 3.8 | J60: 461 | K60: 1387 | L60: 3.477 | M60: 990.85406 | N60: 3042.3 | O60: 94.7
B61: 45069 | C61: 1.93 | D61: 2.03 | E61: 245 | F61: 0.768 | G61: 2.1 | H61: 367 | I61: 3.8 | J61: 469 | K61: 1426 | L61: 4.55 | M61: 1073.6746 | N61: 3773.544 | O61: 129.67058
B62: 45100 | C62: 1.96 | D62: 2.07 | E62: 249 | F62: 0.81 | G62: 2.3 | H62: 399 | I62: 3.8 | J62: 470 | K62: 1527 | L62: 3.645 | M62: 749.71326 | N62: 2955.5334 | O62: 94.8
B63: 45130 | C63: 2 | D63: 2.18 | E63: 263 | F63: 0.882 | G63: 2.57 | H63: 461 | I63: 3.86 | J63: 480 | K63: 1566 | L63: 4.784 | M63: 1066.889 | N63: 3753.5582 | O63: 135.05508
B64: 45161 | C64: 2.04 | D64: 2.58 | E64: 309 | F64: 0.97 | G64: 2.98 | H64: 524 | I64: 3.9 | J64: 484 | K64: 1586 | L64: 4.834 | M64: 985.11306 | N64: 3679.695 | O64: 100.259
B65: 45192 | C65: 2.09 | D65: 2.63 | E65: 302 | F65: 1.01 | G65: 3.04 | H65: 515 | I65: 3.93 | J65: 488 | K65: 1611 | L65: 4.294 | M65: 919.55728 | N65: 3194.3472 | O65: 84.895977
B66: 45222 | C66: 2.13 | D66: 2.78 | E66: 323 | F66: 1.08 | G66: 3.46 | H66: 579 | I66: 3.97 | J66: 494 | K66: 1631 | L66: 5.229 | M66: 1079.3752 | N66: 3766.1 | O66: 147.1
B67: 45253 | C67: 2.13 | D67: 2.76 | E67: 305 | F67: 1.13 | G67: 3.59 | H67: 563 | I67: 4 | J67: 502 | K67: 1671 | L67: 4.569 | M67: 864.45535 | N67: 3198.304 | O67: 130.255
B68: 45283 | C68: 2.16 | D68: 3.08 | E68: 333 | F68: 1.18 | G68: 4.06 | H68: 634 | I68: 4.1 | J68: 496 | K68: 1718 | L68: 5.03 | M68: 936.95411 | N68: 4442.296 | O68: 163.644
B69: 2024
B70: 45292 | C70: 2.19 | D70: 3.5 | E70: 360 | F70: 1.24 | G70: 4.49 | H70: 694 | I70: 4.15 | J70: 505 | K70: 1743 | L70: 5.257 | M70: 1143.702 | N70: 3345.854 | O70: 142.96
B71: 45323 | C71: 2.22 | D71: 3.46 | E71: 364 | F71: 1.28 | G71: 4.73 | H71: 714 | I71: 4.19 | J71: 528 | K71: 1757 | L71: 5.161 | M71: 1016.3163 | N71: 3251.887 | O71: 124.393
B72: 45352 | C72: 2.25 | D72: 3.9 | E72: 400 | F72: 1.33 | G72: 5.29 | H72: 808 | I72: 4.22 | J72: 534 | K72: 1780 | L72: 5.135 | M72: 970.925 | N72: 3055.071 | O72: 131.484
B73: 45383 | C73: 2.28 | D73: 4.22 | E73: 431 | F73: 1.37 | G73: 5.63 | H73: 849 | I73: 4.26 | J73: 536 | K73: 1810 | L73: 5.017 | M73: 1196.014 | N73: 3356.922 | O73: 130.058
B74: 45413 | C74: 2.28 | D74: 4.66 | E74: 455 | F74: 1.39 | G74: 6.32 | H74: 923 | I74: 4.28 | J74: 547 | K74: 1821 | L74: 5.33 | M74: 1006.494 | N74: 3361.968 | O74: 115.79
B75: 45444 | C75: 2.29 | D75: 4.5 | E75: 426 | F75: 1.43 | G75: 6.43 | H75: 963 | I75: 4.31 | J75: 551 | K75: 1844 | L75: 5.14 | M75: 918.864 | N75: 2903.692 | O75: 116.743
B76: 45474 | C76: 2.3 | D76: 5.13 | E76: 476 | F76: 1.47 | G76: 7.42 | H76: 1120 | I76: 4.35 | J76: 553 | K76: 1870 | L76: 5.91 | M76: 1240.844 | N76: 3646.416 | O76: 142.498
B77: 45527 | C77: 2.3 | D77: 5.02 | E77: 461 | F77: 1.52 | G77: 7.9 | H77: 1200 | I77: 4.39 | J77: 596 | K77: 1902 | L77: 5.608 | M77: 1067.043 | N77: 3242.648 | O77: 116.511
B78: 45536 | C78: 2.33 | D78: 5.04 | E78: 447 | F78: 1.56 | G78: 7.89 | H78: 1140 | I78: 4.43 | J78: 562 | K78: 1925 | L78: 5.907891 | M78: 1207.734 | N78: 3525.578 | O78: 130.292
B79: 45566 | C79: 2.37 | D79: 5.59 | E79: 467 | F79: 1.6 | G79: 8.86 | H79: 1220 | I79: 4.47 | J79: 568 | K79: 1946 | L79: 6.010862 | M79: 1109.073 | N79: 3606.392 | O79: 123.336
B80: 45597 | C80: 2.4 | D80: 5.56 | E80: 444 | F80: 1.63 | G80: 8.99 | H80: 1180 | I80: 4.5 | J80: 577 | K80: 1973 | L80: 5.164068 | M80: 972.421 | N80: 3046.2935 | O80: 82.207257
B81: 45627 | C81: 2.59 | D81: 6.25 | E81: 493 | F81: 1.67 | G81: 10 | H81: 1330 | I81: 4.54 | J81: 589 | K81: 2018 | L81: 6.43382 | M81: 1341.495 | N81: 3956.391 | O81: 162.091
B82: 2025
B83: 45658 | C83: 2.55 | D83: 6.41 | E83: 468.6 | F83: 1.71 | G83: 10.32 | H83: 1330 | I83: 4.58 | J83: 591 | K83: 2044 | L83: 5.89 | M83: 1346.251 | N83: 3366.632 | O83: 90.612729
B84: 45689 | C84: 2.58 | D84: 5.89 | E84: 431 | F84: 1.74 | G84: 9.9 | H84: 1280 | I84: 4.62 | J84: 599 | K84: 2078 | L84: 5.7 | M84: 1190.161 | N84: 3199.179 | O84: 82.203
B85: 45717 | C85: 2.6 | D85: 7.29 | E85: 538 | F85: 1.78 | G85: 12.11 | H85: 1560 | I85: 4.65 | J85: 605 | K85: 2090 | L85: 5.5 | M85: 1134.388 | N85: 3103.3445 | O85: 83.900661
B86: 45748 | C86: 2.63 | D86: 6.99 | E86: 469 | F86: 1.81 | G86: 11.52 | H86: 1480 | I86: 4.68 | J86: 611 | K86: 2104 | L86: 6.535 | M86: 1567.543 | N86: 3475.824 | O86: 118.807
B87: 45778 | C87: 2.66 | D87: 8.21 | E87: 543 | F87: 1.85 | G87: 13.73 | H87: 1640 | I87: 4.73 | J87: 620 | K87: 2138 | L87: 5.762 | M87: 1131.362 | N87: 3094.9108 | O87: 92.967423
B88: 45809 | C88: 2.67 | D88: 7.99 | E88: 525 | F88: 1.88 | G88: 13.09 | H88: 1600 | I88: 4.76 | J88: 630 | K88: 2156 | L88: 6.13 | M88: 1129.606 | N88: 3347.9539 | O88: 113.14764
B89: 45839 | C89: 2.63 | D89: 9.15 | E89: 588 | F89: 1.92 | G89: 15.3 | H89: 1860 | I89: 4.81 | J89: 636 | K89: 2193 | L89: 6.58 | M89: 1395.5482 | N89: 3675.1016 | O89: 109.31643
B90: 45892 | C90: 2.66 | D90: 9.45 | E90: 573 | F90: 1.96 | G90: 15.77 | H90: 1880 | I90: 4.85 | J90: 643 | K90: 2212 | L90: 6.64 | M90: 1277.2998 | N90: 3440.9103 | O90: 84.233553
B91: 45901 | C91: 2.7 | D91: 9.5 | E91: 559 | F91: 2 | G91: 15.58 | H91: 1870 | I91: 4.9 | J91: 652 | K91: 2245 | L91: 6.45 | M91: 1397.3905 | N91: 3440.7265 | O91: 75.078218
B92: 45931 | C92: 2.74 | D92: 10.13 | E92: 555 | F92: 2.06 | G92: 16.59 | H92: 1860 | I92: 4.95 | J92: 665 | K92: 2272 | L92: 6.692535 | M92: 1415.7649 | N92: 3662.4008 | O92: 79.690769
B93: 45962 | C93: 2.78 | D93: 10.1 | E93: 526 | F93: 2.09 | G93: 16.35 | H93: 1730 | I93: 5 | J93: 676 | K93: 2310 | L93: 6.518115 | M93: 1405.6302 | N93: 3299.7692 | O93: 88.418678
B94: 45992 | C94: 2.81 | D94: 10.93 | E94: 566 | F94: 2.13 | G94: 17.67 | H94: 1880 | I94: 5.04 | J94: 685 | K94: 2323 | L94: 7.028681 | M94: 1598.7213 | N94: 3852.7667 | O94: 97.825069
B95: 2026**
B96: 46023 | C96: 2.85 | D96: 11.83 | E96: 580 | F96: 2.16 | G96: 17.7 | H96: 1900 | I96: 5.09 | J96: 686 | K96: 2346 | L96: 6.534367 | M96: 1394.3556 | N96: 3072.291 | O96: 65.879743
B97: 46054 | C97: 2.88 | D97: 10.84 | E97: 550 | F97: 2.2 | G97: 16.58 | H97: 1790 | I97: 5.13 | J97: 698 | K97: 2388 | L97: 6.579808 | M97: 1238.447 | N97: 3234.7316 | O97: 75.291929
B98: 46082 | C98: 2.91 | D98: 12.76 | E98: 652 | F98: 2.22 | G98: 19.01 | H98: 2020 | I98: 5.17 | J98: 707 | K98: 2429 | L98: 7.357638 | M98: 1257.3944 | N98: 3433.4478 | O98: 119.56511
B99: 46113 | C99: 2.93 | D99: 13.29 | E99: 601 | F99: 2.25 | G99: 19.33 | H99: 1890 | I99: 5.21 | J99: 716 | K99: 2507 | L99: 6.6 | M99: 1429.1292 | N99: 3176.8759 | O99: 72.442051
B100: 46143 | C100: 2.97 | D100: 14.98 | E100: 698 | F100: 2.28 | G100: 21.43 | H100: 2130 | I100: 5.248 | J100: 718 | K100: 2513 | L100: 6.86 | M100: 1192.816 | N100: 3333.2881 | O100: 103.59529
B101: 46174 | C101: 3 | D101: 14.79 | E101: 671 | F101: 2.31 | G101: 20.96 | H101: 2150 | I101: 5.29 | J101: 727 | K101: 2528 | L101: 7.057016 | M101: 1264.0152 | N101: 3475.5031 | O101: 98.923561
B102: 46204 | C102: 3.02 | D102: 16.84 | E102: 752 | F102: 2.35 | G102: 23.17 | H102: 2340 | I102: 5.34 | J102: 738 | K102: 2546 | L102: 7.324128 | M102: 1410.3074 | N102: 3663.3395 | O102: 88.331353
...

Sheet 51 50
B2: Financial Sector Statistics | N2: إحصاءات القطاع المالي
B3: Table (50) جدول | L3: Table (51) جدول
B4: عدد وقيم حركات نظام غرفة التقاص الآلية | L4: عدد وقيم حركات نظام الدفع الفوري
B5: Automated Clearing House System Transactions | L5: Instant Payment System Transactions
C7: دينار أردني Jordainian Dinar | E7: الدولار الأمريكي U.S. Dollar | G7: اليورو Euro | I7: الجنيه الإسترليني Sterling pound | M7: عدد الحركات | N7: القيمة بالمليون
C8: عدد الحركات Number of Transactions | D8: القيمة بالمليون Value in Million | E8: عدد الحركات Number of Transactions | F8: القيمة بالمليون Value in Million | G8: عدد الحركات Number of Transactions | H8: القيمة بالمليون Value in Million | I8: عدد الحركات Number of Transactions | J8: القيمة بالمليون Value in Million | M8: Number of Transactions | N8: Value in Million
B9: الفترة Period | L9: الفترة Period
B10: 2018 | C10: 1916114 | D10: 2449.621 | E10: 36479 | F10: 232.483 | G10: 2006 | H10: 18.081 | I10: 155 | J10: 1.838 | L10: 2018 | M10: NA | N10: NA
B11: 2019 | C11: 3142565 | D11: 3613.002 | E11: 39376 | F11: 245.3 | G11: 2328 | H11: 20.444 | I11: 243 | J11: 2.886 | L11: 2019 | M11: NA | N11: NA
B12: 2020 | C12: 6896365 | D12: 5233.6826 | E12: 40204 | F12: 239.63538 | G12: 2413 | H12: 21.913652 | I12: 222 | J12: 2.706869 | L12: 2020 | M12: 7826 | N12: 1.036216
B13: 2021 | C13: 9592324 | D13: 7130.294 | E13: 50709 | F13: 211.271 | G13: 2868 | H13: 20.635498 | I13: 250 | J13: 1.7752627 | L13: 2021 | M13: 635049 | N13: 141.9854
B14: 2022 | C14: 10132949 | D14: 7922.1361 | E14: 56260 | F14: 348.33313 | G14: 3035 | H14: 29.569948 | I14: 388 | J14: 3.5520026 | L14: 2022 | M14: 18131276 | N14: 2713.8217
B15: *2023 | C15: 10653502 | D15: 8512.9988 | E15: 61157 | F15: 381.7107 | G15: 3522 | H15: 33.40021 | I15: 478 | J15: 4.4871439 | L15: 2023 | M15: 56771859 | N15: 8222.8427
B16: 2024 | C16: 11293852 | D16: 9128.0747 | E16: 66262 | F16: 438.64247 | G16: 3508 | H16: 32.919825 | I16: 430 | J16: 3.4723228 | L16: 2024 | M16: 140742385 | N16: 17326.796
B17: 2025 | C17: 12159193 | D17: 10006.895 | E17: 70607 | F17: 468.05742 | G17: 3758 | H17: 34.054094 | I17: 446 | J17: 4.1266938 | L17: 2025 | M17: 269962628 | N17: 26307.495
B18: 2022 | L18: 2022
B19: 44593 | C19: 899076 | D19: 607.95529 | E19: 4350 | F19: 26.167506 | G19: 206 | H19: 1.9159773 | I19: 25 | J19: 0.19318512 | L19: 44593 | M19: 752274 | N19: 97.293748
B20: 44621 | C20: 906053 | D20: 702.53853 | E20: 4846 | F20: 28.94428 | G20: 277 | H20: 2.6050306 | I20: 25 | J20: 0.26829143 | L20: 44621 | M20: 872259 | N20: 134.82379
B21: 44652 | C21: 865936 | D21: 689.6892 | E21: 4832 | F21: 28.23554 | G21: 235 | H21: 2.3380764 | I21: 29 | J21: 0.23648672 | L21: 44652 | M21: 1059787 | N21: 175.2165
B22: 44682 | C22: 770713 | D22: 577.61241 | E22: 4040 | F22: 26.369062 | G22: 218 | H22: 2.265686 | I22: 25 | J22: 0.23089965 | L22: 44682 | M22: 1116988 | N22: 158.29224
B23: 44713 | C23: 798920 | D23: 697.99697 | E23: 4947 | F23: 31.635017 | G23: 280 | H23: 2.817468 | I23: 41 | J23: 0.33334281 | L23: 44713 | M23: 1292507 | N23: 195.93077
B24: 44743 | C24: 821169 | D24: 639.89777 | E24: 4300 | F24: 25.962988 | G24: 220 | H24: 2.6943009 | I24: 34 | J24: 0.58345333 | L24: 44743 | M24: 1470120 | N24: 228.10518
B25: 44774 | C25: 881843 | D25: 692.97044 | E25: 4857 | F25: 32.692038 | G25: 297 | H25: 2.6943009 | I25: 35 | J25: 0.38670655 | L25: 44774 | M25: 1735766 | N25: 282.08506
B26: 44805 | C26: 779845 | D26: 650.95114 | E26: 4770 | F26: 30.913953 | G26: 269 | H26: 2.9069405 | I26: 40 | J26: 0.38091175 | L26: 44805 | M26: 1709922 | N26: 276.19202
B27: 44835 | C27: 924270 | D27: 701.90608 | E27: 5040 | F27: 31.670733 | G27: 242 | H27: 2.3380087 | I27: 43 | J27: 0.22968993 | L27: 44835 | M27: 2267025 | N27: 344.71649
B28: 44866 | C28: 841195 | D28: 663.12302 | E28: 5027 | F28: 30.530506 | G28: 279 | H28: 2.311233 | I28: 36 | J28: 0.29850101 | L28: 44866 | M28: 2244575 | N28: 330.11136
B29: 44896 | C29: 879015 | D29: 704.51534 | E29: 5058 | F29: 30.404827 | G29: 322 | H29: 2.5960439 | I29: 27 | J29: 0.22323531 | L29: 44896 | M29: 2690229 | N29: 397.19715
B30: 2023 | L30: 2023
B31: 44927 | C31: 869248 | D31: 706.2182 | E31: 5236 | F31: 31.333644 | G31: 253 | H31: 2.7127627 | I31: 34 | J31: 0.18926783 | L31: 44927 | M31: 2887969 | N31: 427.79556
B32: 44958 | C32: 814452 | D32: 638.89998 | E32: 4895 | F32: 27.745912 | G32: 294 | H32: 3.1808389 | I32: 39 | J32: 0.38523779 | L32: 44958 | M32: 2765370 | N32: 409.80554
B33: 44987 | C33: 915936 | D33: 736.217 | E33: 5502 | F33: 32.903202 | G33: 267 | H33: 2.806096 | I33: 34 | J33: 0.35867983 | L33: 44987 | M33: 3490474 | N33: 515.74206
B34: 11780 | C34: 887773 | D34: 672.02109 | E34: 5007 | F34: 26.89059 | G34: 201 | H34: 1.6001189 | I34: 35 | J34: 0.41537367 | L34: 45039 | M34: 3494580 | N34: 509.92783
B35: 45069 | C35: 925092 | D35: 756.87309 | E35: 5716 | F35: 36.463276 | G35: 387 | H35: 2.9201892 | I35: 47 | J35: 0.51839094 | L35: 45069 | M35: 4130230 | N35: 611.75555
B36: 45100 | C36: 885608 | D36: 701.31955 | E36: 4475 | F36: 26.780641 | G36: 282 | H36: 3.1133899 | I36: 45 | J36: 0.36828463 | L36: 45100 | M36: 4344780 | N36: 648.41729
B37: 45130 | C37: 861540 | D37: 724.94138 | E37: 5394 | F37: 34.931499 | G37: 295 | H37: 2.577004 | I37: 55 | J37: 0.64724086 | L37: 45130 | M37: 4743974 | N37: 723.30956
B38: 45139 | C38: 920459 | D38: 741.37045 | E38: 5307 | F38: 35.973485 | G38: 326 | H38: 3.074992 | I38: 53 | J38: 0.48861757 | L38: 45139 | M38: 5557000 | N38: 831.74959
B39: 45170 | C39: 736870 | D39: 616.96761 | E39: 4419 | F39: 27.503092 | G39: 260 | H39: 2.4872484 | I39: 34 | J39: 0.35311761 | L39: 45170 | M39: 5664260 | N39: 815.00806
B40: 45200 | C40: 1032323 | D40: 793.00239 | E40: 5414 | F40: 35.260146 | G40: 318 | H40: 3.2230936 | I40: 43 | J40: 0.39421152 | L40: 45200 | M40: 6225813 | N40: 900.03365
B41: 45231 | C41: 889254 | D41: 694.23348 | E41: 4704 | F41: 31.499152 | G41: 303 | H41: 2.5446181 | I41: 28 | J41: 0.15202784 | L41: 45231 | M41: 6336403 | N41: 865.537
B42: 45261 | C42: 914947 | D42: 730.93457 | E42: 5088 | F42: 34.426065 | G42: 336 | H42: 3.1598584 | I42: 31 | J42: 0.21669382 | L42: 45283 | M42: 7131006 | N42: 963.761
B43: 2024 | L43: 2024
B44: 45292 | C44: 909083 | D44: 709.93874 | E44: 5714 | F44: 33.654474 | G44: 289 | H44: 2.5032889 | I44: 36 | J44: 0.27148348 | L44: 45292 | M44: 7997718 | N44: 1054.091
B45: 45323 | C45: 893120 | D45: 702.247 | E45: 5194 | F45: 33.384 | G45: 283 | H45: 2.721 | I45: 27 | J45: 0.25323361 | L45: 45323 | M45: 8195374 | N45: 1077.768
B46: 45352 | C46: 902064 | D46: 736.679 | E46: 5223 | F46: 33.587 | G46: 279 | H46: 2.662 | I46: 29 | J46: 0.229 | L46: 45352 | M46: 9135397 | N46: 1208.325
B47: 45383 | C47: 969179 | D47: 755.127 | E47: 5724 | F47: 34.323 | G47: 261 | H47: 2.61 | I47: 34 | J47: 0.309 | L47: 45383 | M47: 9850247 | N47: 1280.482
B48: 45413 | C48: 969270 | D48: 752.026 | E48: 5138 | F48: 35.804 | G48: 308 | H48: 2.706 | I48: 44 | J48: 0.442 | L48: 45413 | M48: 10981675 | N48: 1378.048
B49: 45444 | C49: 885060 | D49: 696.916 | E49: 4670 | F49: 31.381 | G49: 246 | H49: 2.304 | I49: 31 | J49: 0.233 | L49: 45444 | M49: 10933732 | N49: 1389.306
B50: 45474 | C50: 1003212 | D50: 841.602 | E50: 6208 | F50: 41.336 | G50: 318 | H50: 3.254 | I50: 34 | J50: 0.269 | L50: =B50 -> 45474 | M50: 12547476 | N50: 1596.278
B51: 45505 | C51: 917966 | D51: 764.289 | E51: 5318 | F51: 40.959 | G51: 279 | H51: 3.0335365 | I51: 42 | J51: 0.3106057 | L51: 45505 | M51: 12916484 | N51: 1617.105
B52: 45536 | C52: 878467 | D52: 753.437 | E52: 5530 | F52: 37.022 | G52: 304 | H52: 2.969 | I52: 40 | J52: 0.248 | L52: =B52 -> 45536 | M52: 12930412 | N52: 1590.854
B53: 45566 | C53: 1056388 | D53: 830.712 | E53: 6564 | F53: 42.072 | G53: 320 | H53: 3.071 | I53: 50 | J53: 0.383 | L53: =B53 -> 45566 | M53: 14452971 | N53: 1687.097
B54: 45597 | C54: 888456 | D54: 715.284 | E54: 5179 | F54: 33.659 | G54: 285 | H54: 2.299 | I54: 30 | J54: 0.271 | L54: =B54 -> 45597 | M54: 14551375 | N54: 1619.331
B55: 45627 | C55: 1021587 | D55: 869.817 | E55: 5800 | F55: 41.461 | G55: 336 | H55: 2.787 | I55: 33 | J55: 0.253 | L55: =B55 -> 45627 | M55: 16249524 | N55: 1828.111
B56: 2025 | L56: 2025
B57: 45658 | C57: 935633 | D57: 767.162 | E57: 5986 | F57: 38.317 | G57: 372 | H57: 2.957 | I57: 35 | J57: 0.324 | L57: 45658 | M57: 16725771 | N57: 1803.539
B58: 45689 | C58: 981888 | D58: 782.813 | E58: 5710 | F58: 37.737 | G58: 304 | H58: 2.657 | I58: 37 | J58: 0.411 | L58: =B58 -> 45689 | M58: 15786184 | N58: 1708.464
B59: 45717 | C59: 1058733 | D59: 864.59376 | E59: 5222 | F59: 36.96119 | G59: 327 | H59: 3.2664569 | I59: 35 | J59: 0.38197742 | L59: 45717 | M59: 19405622 | N59: 2100.1362
B60: 45748 | C60: 928612 | D60: 781.76926 | E60: 6156 | F60: 38.921702 | G60: 292 | H60: 2.6197254 | I60: 24 | J60: 0.16103288 | L60: 45748 | M60: 18511375 | N60: 1952.627
B61: 45778 | C61: 971941 | D61: 791.71398 | E61: 6153 | F61: 39.022751 | G61: 305 | H61: 2.8435904 | I61: 33 | J61: 0.40502729 | L61: 45778 | M61: 21941156 | N61: 2179.1914
B62: 45809 | C62: 966333 | D62: 780.25015 | E62: 4927 | F62: 32.554156 | G62: 247 | H62: 2.4565653 | I62: 29 | J62: 0.35791314 | L62: 45809 | M62: 21074636 | N62: 2124.7419
B63: 45839 | C63: 1048329 | D63: 903.25878 | E63: 6215 | F63: 40.253003 | G63: 356 | H63: 3.3471103 | I63: 45 | J63: 0.43396134 | L63: =B63 -> 45839 | M63: 24456272 | N63: 2448.4987
B64: 45870 | C64: 1005301 | D64: 848.99716 | E64: 5974 | F64: 42.44348 | G64: 305 | H64: 2.8597194 | I64: 35 | J64: 0.27637586 | L64: 45870 | M64: 25211461 | N64: 2454.4519
B65: 45901 | C65: 1005068 | D65: 858.37913 | E65: 5367 | F65: 39.809519 | G65: 328 | H65: 3.1163582 | I65: 53 | J65: 0.35938434 | L65: =B65 -> 45901 | M65: 25077351 | N65: 2424.4505
B66: 45931 | C66: 1039893 | D66: 871.7146 | E66: 6250 | F66: 40.614343 | G66: 332 | H66: 2.7652788 | I66: 42 | J66: 0.38626157 | L66: =B66 -> 45931 | M66: 26718223 | N66: 2411.2069
B67: 45962 | C67: 1024669 | D67: 817.59978 | E67: 6350 | F67: 40.216394 | G67: 283 | H67: 2.6523868 | I67: 37 | J67: 0.29477529 | L67: =B67 -> 45962 | M67: 26453623 | N67: 2254.3279
B68: 45992 | C68: 1192793 | D68: 938.64316 | E68: 6297 | F68: 41.206884 | G68: 307 | H68: 2.5129027 | I68: 41 | J68: 0.33498463 | L68: =B68 -> 45992 | M68: 28600954 | N68: 2445.859
B69: 2026 | L69: =B69 -> 2026
B70: 46023 | C70: 1033065 | D70: 861.99152 | E70: 5923 | F70: 38.847712 | G70: 264 | H70: 2.4682783 | I70: 28 | J70: 0.23773679 | L70: =B70 -> 46023 | M70: 29530275 | N70: 2482.3019
B71: 46054 | C71: 1077903 | D71: 886.26887 | E71: 5442 | F71: 37.916403 | G71: 292 | H71: 2.8127105 | I71: 31 | J71: 0.28189916 | L71: =B71 -> 46054 | M71: 27420815 | N71: 2345.6441
B72: 46082 | C72: 1124087 | D72: 936.93421 | E72: 5518 | F72: 35.72951 | G72: 272 | H72: 2.4834521 | I72: 44 | J72: 0.3229232 | L72: =B72 -> 46082 | M72: 31770731 | N72: 2674.2188
B73: 46113 | C73: 1067196 | D73: 895.94791 | E73: 5754 | F73: 36.200289 | G73: 249 | H73: 2.3955301 | I73: 35 | J73: 0.22626919 | L73: =B73 -> 46113 | M73: 32621783 | N73: 2488.3136
B74: 46143 | C74: 1150255 | D74: 907.53324 | E74: 5876 | F74: 37.792997 | G74: 301 | H74: 2.811264 | I74: 39 | J74: 0.27274952 | L74: =B74 -> 46143 | M74: 36411855 | N74: 2829.9927
B75: 46174 | C75: 1067915 | D75: 942.95894 | E75: 5699 | F75: 41.705667 | G75: 348 | H75: 3.0720218 | I75: 39 | J75: 0.38753332 | L75: =B75 -> 46174 | M75: 35754861 | N75: 2820.102
B76: 46204 | C76: 1083685 | D76: 949.32867 | E76: 6255 | F76: 41.426934 | G76: 292 | H76: 2.6675393 | I76: 37 | J76: 0.35024893 | L76: =B76 -> 46204 | M76: 40010926 | N76: 3087.0537
B77: 46235 | C77: 1035455 | D77: 938.92392 | E77: 6065 | F77: 43.400705 | G77: 330 | H77: 2.902596 | I77: 53 | J77: 0.4777707 | L77: 46235 | M77: 41666455 | N77: 3197.706
B78: 46266 | C78: 1053141 | D78: 948.4245 | E78: 5346 | F78: 37.787749 | G78: 304 | H78: 3.0664647 | I78: 32 | J78: 0.33282107 | L78: =B78 -> 46266 | M78: 40627126 | N78: 3080.8307
B79: المصدر: الشركة الأردنية لأنظمة الدفع والتقاص اعتبارا من شهر 2/2023. | J79: Source : (JOPACC) from 2/2023. | L79: المصدر : الشركة الأردنية لأنظمة الدفع والتقاص. | N79: Source : "JOPACC".
B80: * : تم اعتماد منهجية جديدة لاحتساب الحركات مع شركة جوباك. | F80: * : Adopted a new methodology to calculate the transactios with JoPacc
B82: `

Sheet 52
B2: Financial Sector Statistics | D2: Table (52) جدول | W2: إحصاءات القطاع المالي
D3: نظام عرض وتحصيل الفواتير إلكترونيا حسب القطاعات
D4: Electronic Bill Presentment and Payment System (eFAWATEERcom) Transactions by Sector | X4: مليون دينار
X5: JD Million
C6: إجمالي عدد الحركات Total Number of Transactions | D6: إجمالي قيمة الحركات Total Values of Transations | E6: الاتصالات Telecomunication | G6: خدمات أساسية (ماء+ كهرباء) Utility | I6: الحكومة Governament | K6: مقدمي خدمات الدفع payment Service Provider | M6: التمويل والخدمات المالية Financial Companies | O6: التعليم Learning | Q6: نقابات ومنظمات Unions and organizations | S6: تجارة وخدمات Trade and Services | U6: القطاعات الأخرى Other Sectors | W6: المؤسسات الخيرية Charities
E7: عدد الحركات Number of Transactions | F7: قيمة Value | G7: عدد الحركات Number of Transactions | H7: قيمة Value | I7: عدد الحركات Number of Transactions | J7: قيمة Value | K7: عدد الحركات Number of Transactions | L7: قيمة Value | M7: عدد الحركات Number of Transactions | N7: قيمة Value | O7: عدد الحركات Number of Transactions | P7: قيمة Value | Q7: عدد الحركات Number of Transactions | R7: قيمة Value | S7: عدد الحركات Number of Transactions | T7: قيمة Value | U7: عدد الحركات Number of Transactions | V7: قيمة Value | W7: عدد الحركات Number of Transactions | X7: قيمة Value
B8: الفترة Period
B9: 2018 | C9: =E9+G9+I9+K9+M9+O9+Q9+S9+U9+W9 -> 9255744 | D9: =F9+H9+J9+L9+N9+P9+R9+T9+V9+X9 -> 6184.7045 | E9: 2569694 | F9: 39.421619 | G9: 2195544 | H9: 139.91267 | I9: 3438076 | J9: 5761.5983 | K9: 51351 | L9: 23.014533 | M9: 532322 | N9: 48.902665 | O9: 333395 | P9: 152.56133 | Q9: 72076 | R9: 6.8112993 | S9: 1938 | T9: 0.10144128 | U9: 49712 | V9: 11.805608 | W9: 11636 | X9: 0.57499664
B10: 2019 | C10: =E10+G10+I10+K10+M10+O10+Q10+S10+U10+W10 -> 14529302 | D10: =F10+H10+J10+L10+N10+P10+R10+T10+V10+X10 -> 6751.2717 | E10: 5204931 | F10: 72.756811 | G10: 3785131 | H10: 210.52169 | I10: 3895440 | J10: 5928.1732 | K10: 235021 | L10: 224.2995 | M10: 663008 | N10: 73.763384 | O10: 520164 | P10: 202.69581 | Q10: 120329 | R10: 10.81733 | S10: 3377 | T10: 0.31307658 | U10: 82042 | V10: 26.994586 | W10: 19859 | X10: 0.93622779
B11: 2020 | C11: =E11+G11+I11+K11+M11+O11+Q11+S11+U11+W11 -> 22623101 | D11: =F11+H11+J11+L11+N11+P11+R11+T11+V11+X11 -> 7461.43 | E11: 9816644 | F11: 144.11946 | G11: 5327356 | H11: 287.97796 | I11: 4533737 | J11: 6126.6801 | K11: 904474 | L11: 436.55522 | M11: 757288 | N11: 102.47236 | O11: 744558 | P11: 274.32185 | Q11: 190353 | R11: 17.1613 | S11: 103323 | T11: 11.345888 | U11: 170248 | V11: 57.195823 | W11: 75120 | X11: 3.6
B12: 2021 | C12: =E12+G12+I12+K12+M12+O12+Q12+S12+U12+W12 -> 34162672 | D12: =F12+H12+J12+L12+N12+P12+R12+T12+V12+X12 -> 9449.7796 | E12: 13167015 | F12: 206.07907 | G12: 8254680 | H12: 389.13862 | I12: 7396954 | J12: 7263.7812 | K12: 2259511 | L12: 873.35599 | M12: 1073402 | N12: 159.09225 | O12: 866591 | P12: 307.49968 | Q12: 299469 | R12: 25.388269 | S12: 308033 | T12: 79.041917 | U12: 431202 | V12: 141.90265 | W12: 105815 | X12: 4.5
B13: 2022 | C13: =E13+G13+I13+K13+M13+O13+Q13+S13+U13+W13 -> 42683717 | D13: =F13+H13+J13+L13+N13+P13+R13+T13+V13+X13 -> 10457.687 | E13: 15829599 | F13: 252.61271 | G13: 9991733 | H13: 495.57228 | I13: 8904417 | J13: 7590.2674 | K13: 3746814 | L13: 1214.7211 | M13: 1704339 | N13: 245.35806 | O13: 985035 | P13: 317.49439 | Q13: 350506 | R13: 31.187221 | S13: 380065 | T13: 117.40796 | U13: 644913 | V13: 187.58453 | W13: 146296 | X13: 5.4814453
B14: 2023 | C14: 52592313 | D14: 11612.579 | E14: 18949386 | F14: 299.61095 | G14: 13018299 | H14: 614.24789 | I14: 9984776 | J14: 7987.7379 | K14: 4881295 | L14: 1563.3151 | M14: 2746058 | N14: 459.90227 | O14: 1097656 | P14: 340.09309 | Q14: 342538 | R14: 28.839169 | S14: 537692 | T14: 125.3041 | U14: 876985 | V14: 186.1353 | W14: 157628 | X14: 7.3935658
B15: 2024 | C15: 66071266 | D15: 13194.428 | E15: 22217738 | F15: 352.94456 | G15: 18343002 | H15: 760.42475 | I15: 12358095 | J15: 8460.4746 | K15: 6064948 | L15: 2140.6775 | M15: 3528848 | N15: 627.75408 | O15: 1240492 | P15: 401.67323 | Q15: 398175 | R15: 36.934049 | S15: 427162 | T15: 133.72532 | U15: 1320891 | V15: 271.96729 | W15: 171915 | X15: 7.8527134
B16: 2023
B17: 44957 | C17: =E17+G17+I17+K17+M17+O17+Q17+S17+U17+W17 -> 4318053 | D17: =F17+H17+J17+L17+N17+P17+R17+T17+V17+X17 -> 1053.6238 | E17: 1511526 | F17: 23.614261 | G17: 989492 | H17: 46.983139 | I17: 987236 | J17: 770.72893 | K17: 366430 | L17: 119.40502 | M17: 196951 | N17: 32.464252 | O17: 97385 | P17: 27.778705 | Q17: 50149 | R17: 4.9756748 | S17: 49712 | T17: 13.056326 | U17: 59282 | V17: 14.250424 | W17: 9890 | X17: 0.36703366
B18: 44958 | C18: =E18+G18+I18+K18+M18+O18+Q18+S18+U18+W18 -> 3804128 | D18: =F18+H18+J18+L18+N18+P18+R18+T18+V18+X18 -> 933.32651 | E18: 1337653 | F18: 21.504482 | G18: 855908 | H18: 45.139928 | I18: 802231 | J18: 628.63183 | K18: 327948 | L18: 119.91776 | M18: 186231 | N18: 31.485984 | O18: 157708 | P18: 62.776653 | Q18: 33049 | R18: 2.6884361 | S18: 40567 | T18: 9.6484744 | U18: 50301 | V18: 10.983429 | W18: 12532 | X18: 0.54954239
B19: 44988 | C19: =E19+G19+I19+K19+M19+O19+Q19+S19+U19+W19 -> 4057469 | D19: =F19+H19+J19+L19+N19+P19+R19+T19+V19+X19 -> 959.04322 | E19: 1468415 | F19: 23.789694 | G19: 977888 | H19: 48.473365 | I19: 855891 | J19: 699.75692 | K19: 368763 | L19: 117.61963 | M19: 210794 | N19: 35.623833 | O19: 27355 | P19: 9.1192505 | Q19: 31185 | R19: 2.4776109 | S19: 46087 | T19: 9.7466653 | U19: 58478 | V19: 11.810184 | W19: 12613 | X19: 0.62606448
B20: 45019 | C20: =E20+G20+I20+K20+M20+O20+Q20+S20+U20+W20 -> 3477356 | D20: =F20+H20+J20+L20+N20+P20+R20+T20+V20+X20 -> 990.85406 | E20: 1414151 | F20: 22.300222 | G20: 804798 | H20: 37.184905 | I20: 582820 | J20: 781.14706 | K20: 347673 | L20: 96.927721 | M20: 170757 | N20: 28.763573 | O20: 13392 | P20: 3.8866998 | Q20: 23602 | R20: 1.9149866 | S20: 39461 | T20: 6.8652992 | U20: 52372 | V20: 10.26022 | W20: 28330 | X20: 1.6033748
B21: 45050 | C21: =E21+G21+I21+K21+M21+O21+Q21+S21+U21+W21 -> 4549647 | D21: =F21+H21+J21+L21+N21+P21+R21+T21+V21+X21 -> 1073.6746 | E21: 1679656 | F21: 26.819669 | G21: 1117785 | H21: 49.713125 | I21: 822470 | J21: 781.09879 | K21: 424423 | L21: 130.84587 | M21: 236339 | N21: 40.037772 | O21: 99465 | P21: 16.839928 | Q21: 28404 | R21: 2.3321175 | S21: 51609 | T21: 11.903372 | U21: 78748 | V21: 13.727132 | W21: 10748 | X21: 0.35683276
B22: 45082 | C22: =E22+G22+I22+K22+M22+O22+Q22+S22+U22+W22 -> 3645001 | D22: =F22+H22+J22+L22+N22+P22+R22+T22+V22+X22 -> 749.71326 | E22: 1359850 | F22: 22.046294 | G22: 870315 | H22: 38.829755 | I22: 686840 | J22: 511.90003 | K22: 354263 | L22: 108.72527 | M22: 187133 | N22: 31.777342 | O22: 47404 | P22: 11.963084 | Q22: 22564 | R22: 1.8116227 | S22: 41728 | T22: 9.8568324 | U22: 63026 | V22: 12.206607 | W22: 11878 | X22: 0.59643231
B23: 45113 | C23: =E23+G23+I23+K23+M23+O23+Q23+S23+U23+W23 -> 4784422 | D23: =F23+H23+J23+L23+N23+P23+R23+T23+V23+X23 -> 1066.889 | E23: 1796293 | F23: 27.736118 | G23: 1122832 | H23: 52.57328 | I23: 857009 | J23: 747.85845 | K23: 467501 | L23: 139.72548 | M23: 246212 | N23: 42.090744 | O23: 103907 | P23: 26.288133 | Q23: 26201 | R23: 2.1510451 | S23: 53457 | T23: 11.692051 | U23: 96556 | V23: 16.194985 | W23: 14454 | X23: 0.57868656
B24: 45139 | C24: =E24+G24+I24+K24+M24+O24+Q24+S24+U24+W24 -> 4834361 | D24: =F24+H24+J24+L24+N24+P24+R24+T24+V24+X24 -> 985.11306 | E24: 1668424 | F24: 25.811023 | G24: 1102375 | H24: 63.190032 | I24: 1028602 | J24: 641.74687 | K24: 463304 | L24: 147.77084 | M24: 255967 | N24: 42.807737 | O24: 132021 | P24: 30.701624 | Q24: 25959 | R24: 2.2161323 | S24: 53785 | T24: 11.262627 | U24: 93853 | V24: 19.230219 | W24: 10071 | X24: 0.37595099
B25: 45170 | C25: =E25+G25+I25+K25+M25+O25+Q25+S25+U25+W25 -> 4294072 | D25: =F25+H25+J25+L25+N25+P25+R25+T25+V25+X25 -> 919.55728 | E25: 1519105 | F25: 24.011012 | G25: 1031961 | H25: 59.928178 | I25: 807998 | J25: 579.13696 | K25: 400046 | L25: 138.9139 | M25: 231658 | N25: 38.197649 | O25: 147886 | P25: 50.799921 | Q25: 22753 | R25: 1.8075962 | S25: 43609 | T25: 9.8496789 | U25: 80090 | V25: 16.591379 | W25: 8966 | X25: 0.32100634
B26: 45200 | C26: =E26+G26+I26+K26+M26+O26+Q26+S26+U26+W26 -> 5229244 | D26: =F26+H26+J26+L26+N26+P26+R26+T26+V26+X26 -> 1079.3752 | E26: 1799214 | F26: 28.273166 | G26: 1383633 | H26: 65.368978 | I26: 963342 | J26: 666.96243 | K26: 468016 | L26: 169.97661 | M26: 287872 | N26: 48.593378 | O26: 151450 | P26: 63.79679 | Q26: 26180 | R26: 2.1596457 | S26: 47895 | T26: 11.953726 | U26: 85462 | V26: 21.3442 | W26: 16180 | X26: 0.94625274
B27: 45231 | C27: =E27+G27+I27+K27+M27+O27+Q27+S27+U27+W27 -> 4568646 | D27: =F27+H27+J27+L27+N27+P27+R27+T27+V27+X27 -> 864.45535 | E27: 1646040 | F27: 26.163505 | G27: 1291070 | H27: 52.119883 | I27: 764971 | J27: 577.15483 | K27: 428967 | L27: 130.1957 | M27: 265430 | N27: 42.856761 | O27: 18910 | P27: 4.4887349 | Q27: 24095 | R27: 1.8058243 | S27: 34742 | T27: 9.8156908 | U27: 83577 | V27: 19.30692 | W27: 10844 | X27: 0.54749903
B28: 45261 | C28: =E28+G28+I28+K28+M28+O28+Q28+S28+U28+W28 -> 5029914 | D28: =F28+H28+J28+L28+N28+P28+R28+T28+V28+X28 -> 936.95411 | E28: 1749059 | F28: 27.5415 | G28: 1470242 | H28: 54.743321 | I28: 825366 | J28: 601.6148 | K28: 463961 | L28: 143.29135 | M28: 270714 | N28: 45.203241 | O28: 100773 | P28: 31.653569 | Q28: 28397 | R28: 2.4984769 | S28: 35040 | T28: 9.6533576 | U28: 75240 | V28: 20.229602 | W28: 11122 | X28: 0.52488976
B29: 2024
B30: 45322 | C30: =E30+G30+I30+K30+M30+O30+Q30+S30+U30+W30 -> 5256833 | D30: =F30+H30+J30+L30+N30+P30+R30+T30+V30+X30 -> 1147.2047 | E30: 1776135 | F30: 27.117 | G30: 1394193 | H30: 54.96764 | I30: 1096981 | J30: 795.11075 | K30: 455299 | L30: 152.31912 | M30: 278265 | N30: 45.816681 | O30: 83421 | P30: 34.50174 | Q30: 55722 | R30: 6.0361731 | S30: 35615 | T30: 11.359517 | U30: 70531 | V30: 19.503384 | W30: 10671 | X30: 0.47271344
B31: 45323 | C31: =E31+G31+I31+K31+M31+O31+Q31+S31+U31+W31 -> 5160594 | D31: =F31+H31+J31+L31+N31+P31+R31+T31+V31+X31 -> 1016.3163 | E31: 1715240 | F31: 26.881561 | G31: 1388625 | H31: 58.839114 | I31: 990969 | J31: 620.20382 | K31: 456751 | L31: 158.19438 | M31: 269944 | N31: 46.726396 | O31: 181992 | P31: 73.734491 | Q31: 38614 | R31: 3.6648757 | S31: 32211 | T31: 8.7098063 | U31: 75432 | V31: 18.845905 | W31: 10816 | X31: 0.516
B32: 45352 | C32: =E32+G32+I32+K32+M32+O32+Q32+S32+U32+W32 -> 5135156 | D32: =F32+H32+J32+L32+N32+P32+R32+T32+V32+X32 -> 970.925 | E32: 1815781 | F32: 28.672 | G32: 1469059 | H32: 60.496 | I32: 887545 | J32: 652.314 | K32: 488842 | L32: 137.848 | M32: 262126 | N32: 47.868 | O32: 27354 | P32: 9.192 | Q32: 32919 | R32: 2.797 | S32: 33397 | T32: 8.8 | U32: 96321 | V32: 21.454 | W32: 21812 | X32: 1.484
B33: 45383 | C33: =E33+G33+I33+K33+M33+O33+Q33+S33+U33+W33 -> 5016935 | D33: =F33+H33+J33+L33+N33+P33+R33+T33+V33+X33 -> 1196.014 | E33: 1813548 | F33: 28.6 | G33: 1407195 | H33: 54.261 | I33: 810805 | J33: 890.78 | K33: 486952 | L33: 130.6 | M33: 276606 | N33: 50.117 | O33: 36980 | P33: 8.094 | Q33: 27852 | R33: 2.423 | S33: 31423 | T33: 9.262 | U33: 96482 | V33: 20.542 | W33: 29092 | X33: 1.335
B34: 45413 | C34: =E34+G34+I34+K34+M34+O34+Q34+S34+U34+W34 -> 5326703 | D34: =F34+H34+J34+L34+N34+P34+R34+T34+V34+X34 -> 1006.494 | E34: 1815511 | F34: 29.155 | G34: 1504528 | H34: 55.15 | I34: 932483 | J34: 668.04 | K34: 497649 | L34: 142.778 | M34: 292578 | N34: 51.998 | O34: 97395 | P34: 20.431 | Q34: 29060 | R34: 2.414 | S34: 34352 | T34: 11.939 | U34: 112349 | V34: 24.148 | W34: 10798 | X34: 0.441
B35: 45444 | C35: =E35+G35+I35+K35+M35+O35+Q35+S35+U35+W35 -> 5141073 | D35: =F35+H35+J35+L35+N35+P35+R35+T35+V35+X35 -> 918.864 | E35: 1864322 | F35: 29.45 | G35: 1431278 | H35: 52.909 | I35: 812711 | J35: 594.486 | K35: 502142 | L35: 136.634 | M35: 263176 | N35: 47.362 | O35: 83648 | P35: 23.209 | Q35: 27491 | R35: 2.457 | S35: 30881 | T35: 9.485 | U35: 108147 | V35: 21.867 | W35: 17277 | X35: 1.005
B36: 45474 | C36: =E36+G36+I36+K36+M36+O36+Q36+S36+U36+W36 -> 5909747 | D36: =F36+H36+J36+L36+N36+P36+R36+T36+V36+X36 -> 1240.844 | E36: 1919218 | F36: 30.638 | G36: 1661446 | H36: 75.341 | I36: 1158637 | J36: 799.437 | K36: 545168 | L36: 210.331 | M36: 320235 | N36: 57.494 | O36: 97535 | P36: 25.332 | Q36: 30185 | R36: 2.765 | S36: 41302 | T36: 12.525 | U36: 124210 | V36: 26.578 | W36: 11811 | X36: 0.403
B37: 45505 | C37: =E37+G37+I37+K37+M37+O37+Q37+S37+U37+W37 -> 5607584 | D37: =F37+H37+J37+L37+N37+P37+R37+T37+V37+X37 -> 1067.043 | E37: 1798184 | F37: 28.786 | G37: 1442704 | H37: 71.559 | I37: 1201901 | J37: 633.144 | K37: 502175 | L37: 205.88 | M37: 297156 | N37: 51.801 | O37: 164220 | P37: 41.043 | Q37: 28558 | R37: 2.383 | S37: 37958 | T37: 10.598 | U37: 123852 | V37: 21.477 | W37: 10876 | X37: 0.372
B38: 45536 | C38: =E38+G38+I38+K38+M38+O38+Q38+S38+U38+W38 -> 5907891 | D38: =F38+H38+J38+L38+N38+P38+R38+T38+V38+X38 -> 1207.734 | E38: 1958780 | F38: 31.16 | G38: 1601050 | H38: 75.273 | I38: 1099128 | J38: 713.854 | K38: 546993 | L38: 219.177 | M38: 314217 | N38: 55.717 | O38: 177283 | P38: 73.292 | Q38: 29996 | R38: 2.602 | S38: 36178 | T38: 12.194 | U38: 132618 | V38: 24.022 | W38: 11648 | X38: 0.443
B39: 45566 | C39: =E39+G39+I39+K39+M39+O39+Q39+S39+U39+W39 -> 6010862 | D39: =F39+H39+J39+L39+N39+P39+R39+T39+V39+X39 -> 1109.073 | E39: 1927082 | F39: 31.026 | G39: 1681833 | H39: 71.403 | I39: 1195043 | J39: 627.929 | K39: 541229 | L39: 227.947 | M39: 325971 | N39: 58.295 | O39: 134571 | P39: 52.701 | Q39: 31747 | R39: 2.766 | S39: 32857 | T39: 13.233 | U39: 128162 | V39: 23.314 | W39: 12367 | X39: 0.459
B40: 45597 | C40: =E40+G40+I40+K40+M40+O40+Q40+S40+U40+W40 -> 5164068 | D40: =F40+H40+J40+L40+N40+P40+R40+T40+V40+X40 -> 972.421 | E40: 1732194 | F40: 27.992 | G40: 1480767 | H40: 57.773 | I40: 954302 | J40: 599.218 | K40: 475648 | L40: 188.348 | M40: 293461 | N40: 55.079 | O40: 40569 | P40: 8.284 | Q40: 29947 | R40: 2.839 | S40: 30948 | T40: 10.869 | U40: 115025 | V40: 21.62 | W40: 11207 | X40: 0.399
B41: 45627 | C41: =E41+G41+I41+K41+M41+O41+Q41+S41+U41+W41 -> 6433820 | D41: =F41+H41+J41+L41+N41+P41+R41+T41+V41+X41 -> 1341.495 | E41: 2081743 | F41: 33.467 | G41: 1880324 | H41: 72.453 | I41: 1217590 | J41: 865.958 | K41: 566100 | L41: 230.621 | M41: 335113 | N41: 59.48 | O41: 115524 | P41: 31.859 | Q41: 36084 | R41: 3.787 | S41: 50040 | T41: 14.751 | U41: 137762 | V41: 28.596 | W41: 13540 | X41: 0.523
B79: 2026**

Sheet 53 (a)
B2: Financial Sector Statistics | D2: Table (53a) جدول | P2: إحصاءات القطاع المالي
D3: المدفوعات الالكترونية باستخدام نظام عرض ودفع الفواتير الكترونياً (اي فواتيركم) وفقاً للتصنيف القطاعي ISIC-4
C4: Electronic payments using Electronic Bill Presentment and Payment System (eFAWATEERcom) according to ISIC-4 | Q4: مليون دينار
Q5: JD Million
C6: عدد المستخدمين Number of users ألف Thousand | D6: إجمالي عدد الحركات Total Number of Transactions | E6: إجمالي قيمة الحركات Total Values of Transations | F6: المعلومات والاتصالات Information and Communication | H6: إمدادات الكهرباء Electricity Supply | J6: إمدادات المياه Water Supply | L6: التعليم Education | N6: الإدارة العامة والدفاع Public Administration and Defence | P6: الأنشطة المالية وأنشطة التأمين Financial and Insurance Activities
F7: عدد الحركات Number of Transactions | G7: قيمة Value | H7: عدد الحركات Number of Transactions | I7: قيمة Value | J7: عدد الحركات Number of Transactions | K7: قيمة Value | L7: عدد الحركات Number of Transactions | M7: قيمة Value | N7: عدد الحركات Number of Transactions | O7: قيمة Value | P7: عدد الحركات Number of Transactions | Q7: قيمة Value
B8: الفترة Period
B9: 2025 | C9: =SUM(C11:C22) -> 57562.806 | D9: =F9+H9+J9+L9+N9+P9+'53 (b)'!C9+'53 (b)'!E9+'53 (b)'!G9+'53 (b)'!I9+'53 (b)'!K9+'53 (b)'!M9+'53 (b)'!O9+'53 (b)'!Q9 -> 75425891 | E9: =G9+I9+K9+M9+O9+Q9+'53 (b)'!D9+'53 (b)'!F9+'53 (b)'!H9+'53 (b)'!J9+'53 (b)'!L9+'53 (b)'!N9+'53 (b)'!P9+'53 (b)'!R9 -> 15989.667 | F9: =SUM(F11:F22) -> 24305528 | G9: =SUM(G11:G22) -> 394.26387 | H9: =SUM(H11:H22) -> 13757964 | I9: =SUM(I11:I22) -> 786.10448 | J9: =SUM(J11:J22) -> 7396541 | K9: =SUM(K11:K22) -> 118.00384 | L9: =SUM(L11:L22) -> 1547063 | M9: =SUM(M11:M22) -> 439.11135 | ... Q9: =SUM(Q11:Q22) -> 4273.274
B10: 2025
B11: 45688 | C11: 4577.21 | D11: =F11+H11+J11+L11+N11+P11+'53 (b)'!C11+'53 (b)'!E11+'53 (b)'!G11+'53 (b)'!I11+'53 (b)'!K11+'53 (b)'!M11+'53 (b)'!O11+'53 (b)'!Q11 -> 5889754 | E11: =G11+I11+K11+M11+O11+Q11+'53 (b)'!D11+'53 (b)'!F11+'53 (b)'!H11+'53 (b)'!J11+'53 (b)'!L11+'53 (b)'!N11+'53 (b)'!P11+'53 (b)'!R11 -> 1346.2514 | F11: 1846106 | G11: 29.994151 | H11: 1036704 | I11: 59.105722 | J11: 555755 | K11: 8.1049044 | L11: 94952 | M11: 33.21401 | N11: 1311297 | O11: 876.5213 | P11: 824781 | Q11: 293.69307
B12: 45689 | C12: 4615.152 | D12: =F12+H12+J12+L12+N12+P12+'53 (b)'!C12+'53 (b)'!E12+'53 (b)'!G12+'53 (b)'!I12+'53 (b)'!K12+'53 (b)'!M12+'53 (b)'!O12+'53 (b)'!Q12 -> 5699781 | E12: =G12+I12+K12+M12+O12+Q12+'53 (b)'!D12+'53 (b)'!F12+'53 (b)'!H12+'53 (b)'!J12+'53 (b)'!L12+'53 (b)'!N12+'53 (b)'!P12+'53 (b)'!R12 -> 1190.1604 | F12: 1770161 | G12: 29.143905 | H12: 1004334 | I12: 59.559274 | J12: 542240 | K12: 7.44288 | L12: 210019 | M12: 74.688462 | N12: 1182795 | O12: 664.89719 | P12: 798417 | Q12: 317.55592
B13: 45717 | C13: 4650.634 | D13: =F13+H13+J13+L13+N13+P13+'53 (b)'!C13+'53 (b)'!E13+'53 (b)'!G13+'53 (b)'!I13+'53 (b)'!K13+'53 (b)'!M13+'53 (b)'!O13+'53 (b)'!Q13 -> 5497430 | E13: =G13+I13+K13+M13+O13+Q13+'53 (b)'!D13+'53 (b)'!F13+'53 (b)'!H13+'53 (b)'!J13+'53 (b)'!L13+'53 (b)'!N13+'53 (b)'!P13+'53 (b)'!R13 -> 1134.3878 | F13: 1846928 | G13: 30.978193 | H13: 1039058 | I13: 62.585443 | J13: 562692 | K13: 7.1456022 | L13: 50825 | M13: 10.292451 | N13: 979812 | O13: 689.28909 | P13: 804682 | Q13: 299.55399
B14: 45748 | C14: 4684.847 | D14: =F14+H14+J14+L14+N14+P14+'53 (b)'!C14+'53 (b)'!E14+'53 (b)'!G14+'53 (b)'!I14+'53 (b)'!K14+'53 (b)'!M14+'53 (b)'!O14+'53 (b)'!Q14 -> 6535154 | E14: =G14+I14+K14+M14+O14+Q14+'53 (b)'!D14+'53 (b)'!F14+'53 (b)'!H14+'53 (b)'!J14+'53 (b)'!L14+'53 (b)'!N14+'53 (b)'!P14+'53 (b)'!R14 -> 1567.5438 | F14: 2214792 | G14: 35.072263 | H14: 1201083 | I14: 64.756816 | J14: 644196 | K14: 9.7273322 | L14: 78644 | M14: 10.890238 | N14: 1173252 | O14: 1076.6869 | P14: 992896 | Q14: 332.92972
B15: 45778 | C15: 4725.069 | D15: =F15+H15+J15+L15+N15+P15+'53 (b)'!C15+'53 (b)'!E15+'53 (b)'!G15+'53 (b)'!I15+'53 (b)'!K15+'53 (b)'!M15+'53 (b)'!O15+'53 (b)'!Q15 -> 5761901 | E15: =G15+I15+K15+M15+O15+Q15+'53 (b)'!D15+'53 (b)'!F15+'53 (b)'!H15+'53 (b)'!J15+'53 (b)'!L15+'53 (b)'!N15+'53 (b)'!P15+'53 (b)'!R15 -> 1131.3625 | F15: 1924472 | G15: 31.21343 | H15: 1065277 | I15: 53.889506 | J15: 570745 | K15: 9.0704946 | L15: 97941 | M15: 19.446551 | N15: 1051608 | O15: 676.57656 | P15: 850900 | Q15: 306.66436
B16: 45809 | C16: 4763.755 | D16: =F16+H16+J16+L16+N16+P16+'53 (b)'!C16+'53 (b)'!E16+'53 (b)'!G16+'53 (b)'!I16+'53 (b)'!K16+'53 (b)'!M16+'53 (b)'!O16+'53 (b)'!Q16 -> 6127555 | E16: =G16+I16+K16+M16+O16+Q16+'53 (b)'!D16+'53 (b)'!F16+'53 (b)'!H16+'53 (b)'!J16+'53 (b)'!L16+'53 (b)'!N16+'53 (b)'!P16+'53 (b)'!R16 -> 1129.606 | F16: 2139448 | G16: 34.11852 | H16: 1176280 | I16: 60.16682 | J16: 619935 | K16: 10.191801 | L16: 93637 | M16: 23.696614 | N16: 1008012 | O16: 668.32299 | P16: 877256 | Q16: 296.56996
B17: 45839 | C17: 4807.105 | D17: =F17+H17+J17+L17+N17+P17+'53 (b)'!C17+'53 (b)'!E17+'53 (b)'!G17+'53 (b)'!I17+'53 (b)'!K17+'53 (b)'!M17+'53 (b)'!O17+'53 (b)'!Q17 -> 6582017 | E17: =G17+I17+K17+M17+O17+Q17+'53 (b)'!D17+'53 (b)'!F17+'53 (b)'!H17+'53 (b)'!J17+'53 (b)'!L17+'53 (b)'!N17+'53 (b)'!P17+'53 (b)'!R17 -> 1395.5482 | F17: 2134672 | G17: 33.936708 | H17: 1214738 | I17: 69.16844 | J17: 664153 | K17: 11.682894 | L17: 130136 | M17: 28.493496 | N17: 1287917 | O17: 858.43197 | P17: 904981 | Q17: 351.579
B18: 45870 | C18: 4853.233 | D18: =F18+H18+J18+L18+N18+P18+'53 (b)'!C18+'53 (b)'!E18+'53 (b)'!G18+'53 (b)'!I18+'53 (b)'!K18+'53 (b)'!M18+'53 (b)'!O18+'53 (b)'!Q18 -> 6640835 | E18: =G18+I18+K18+M18+O18+Q18+'53 (b)'!D18+'53 (b)'!F18+'53 (b)'!H18+'53 (b)'!J18+'53 (b)'!L18+'53 (b)'!N18+'53 (b)'!P18+'53 (b)'!R18 -> 1277.2998 | F18: 2098006 | G18: 33.543263 | H18: 1197998 | I18: 78.46714 | J18: 630741 | K18: 11.122952 | L18: 188209 | M18: 50.966302 | N18: 1376822 | O18: 723.06879 | P18: 914417 | Q18: 341.40065
B19: 45901 | C19: 4897.867 | D19: =F19+H19+J19+L19+N19+P19+'53 (b)'!C19+'53 (b)'!E19+'53 (b)'!G19+'53 (b)'!I19+'53 (b)'!K19+'53 (b)'!M19+'53 (b)'!O19+'53 (b)'!Q19 -> 6452133 | E19: =G19+I19+K19+M19+O19+Q19+'53 (b)'!D19+'53 (b)'!F19+'53 (b)'!H19+'53 (b)'!J19+'53 (b)'!L19+'53 (b)'!N19+'53 (b)'!P19+'53 (b)'!R19 -> 1397.3905 | F19: 2013014 | G19: 32.857303 | H19: 1158858 | I19: 79.760057 | J19: 621710 | K19: 11.120596 | L19: 246658 | M19: 95.956606 | N19: 1283853 | O19: 758.25449 | P19: 907144 | Q19: 380.94353
B20: 45931 | C20: 4953.55 | D20: =F20+H20+J20+L20+N20+P20+'53 (b)'!C20+'53 (b)'!E20+'53 (b)'!G20+'53 (b)'!I20+'53 (b)'!K20+'53 (b)'!M20+'53 (b)'!O20+'53 (b)'!Q20 -> 6692535 | E20: =G20+I20+K20+M20+O20+Q20+'53 (b)'!D20+'53 (b)'!F20+'53 (b)'!H20+'53 (b)'!J20+'53 (b)'!L20+'53 (b)'!N20+'53 (b)'!P20+'53 (b)'!R20 -> 1415.7649 | F20: 2062973 | G20: 33.699764 | H20: 1162266 | I20: 68.979979 | J20: 640145 | K20: 11.132585 | L20: 139225 | M20: 40.762569 | N20: 1498586 | O20: 788.0132 | P20: 943637 | Q20: 434.10908
B21: 45962 | C21: 4995.042 | D21: =F21+H21+J21+L21+N21+P21+'53 (b)'!C21+'53 (b)'!E21+'53 (b)'!G21+'53 (b)'!I21+'53 (b)'!K21+'53 (b)'!M21+'53 (b)'!O21+'53 (b)'!Q21 -> 6518115 | E21: =G21+I21+K21+M21+O21+Q21+'53 (b)'!D21+'53 (b)'!F21+'53 (b)'!H21+'53 (b)'!J21+'53 (b)'!L21+'53 (b)'!N21+'53 (b)'!P21+'53 (b)'!R21 -> 1405.6302 | F21: 2075202 | G21: 33.817007 | H21: 1201865 | I21: 63.363865 | J21: 652872 | K21: 10.615258 | L21: 60913 | M21: 8.0594424 | N21: 1378822 | O21: 835.75569 | P21: 926251 | Q21: 416.33091
B22: 45992 | C22: 5039.342 | D22: =F22+H22+J22+L22+N22+P22+'53 (b)'!C22+'53 (b)'!E22+'53 (b)'!G22+'53 (b)'!I22+'53 (b)'!K22+'53 (b)'!M22+'53 (b)'!O22+'53 (b)'!Q22 -> 7028681 | E22: =G22+I22+K22+M22+O22+Q22+'53 (b)'!D22+'53 (b)'!F22+'53 (b)'!H22+'53 (b)'!J22+'53 (b)'!L22+'53 (b)'!N22+'53 (b)'!P22+'53 (b)'!R22 -> 1598.7213 | F22: 2179754 | G22: 35.889362 | H22: 1299503 | I22: 66.301414 | J22: 691357 | K22: 10.646545 | L22: 155904 | M22: 42.644606 | N22: 1541338 | O22: 899.10528 | P22: 941069 | Q22: 501.94375
B23: 2026
B24: 46053 | C24: 5085.518 | D24: =F24+H24+J24+L24+N24+P24+'53 (b)'!C24+'53 (b)'!E24+'53 (b)'!G24+'53 (b)'!I24+'53 (b)'!K24+'53 (b)'!M24+'53 (b)'!O24+'53 (b)'!Q24 -> 6534367 | E24: =G24+I24+K24+M24+O24+Q24+'53 (b)'!D24+'53 (b)'!F24+'53 (b)'!H24+'53 (b)'!J24+'53 (b)'!L24+'53 (b)'!N24+'53 (b)'!P24+'53 (b)'!R24 -> 1394.3556 | F24: 1975316 | G24: 32.523285 | H24: 1168893 | I24: 68.032027 | J24: 591401 | K24: 8.8255834 | L24: 132047 | M24: 38.508571 | N24: 1615008 | O24: 904.29618 | P24: 831686 | Q24: 296.81255
B25: 46054 | C25: 5128.982 | D25: =F25+H25+J25+L25+N25+P25+'53 (b)'!C25+'53 (b)'!E25+'53 (b)'!G25+'53 (b)'!I25+'53 (b)'!K25+'53 (b)'!M25+'53 (b)'!O25+'53 (b)'!Q25 -> 6579808 | E25: =G25+I25+K25+M25+O25+Q25+'53 (b)'!D25+'53 (b)'!F25+'53 (b)'!H25+'53 (b)'!J25+'53 (b)'!L25+'53 (b)'!N25+'53 (b)'!P25+'53 (b)'!R25 -> 1238.447 | F25: 1949640 | G25: 32.216429 | H25: 1169623 | I25: 73.792217 | J25: 613485 | K25: 9.1105711 | L25: 244158 | M25: 78.808068 | N25: 1531715 | O25: 754.89207 | P25: 868930 | Q25: 252.3481
B26: 46082 | C26: 5170.804 | D26: =F26+H26+J26+L26+N26+P26+'53 (b)'!C26+'53 (b)'!E26+'53 (b)'!G26+'53 (b)'!I26+'53 (b)'!K26+'53 (b)'!M26+'53 (b)'!O26+'53 (b)'!Q26 -> 7357638 | E26: =G26+I26+K26+M26+O26+Q26+'53 (b)'!D26+'53 (b)'!F26+'53 (b)'!H26+'53 (b)'!J26+'53 (b)'!L26+'53 (b)'!N26+'53 (b)'!P26+'53 (b)'!R26 -> 1257.3944 | F26: 2389525 | G26: 38.896595 | H26: 1386168 | I26: 77.887329 | J26: 751040 | K26: 11.624241 | L26: 94871 | M26: 17.167914 | N26: 1462211 | O26: 797.31258 | P26: 1025514 | Q26: 270.17443
B27: 46113 | C27: 5208.012 | D27: =F27+H27+J27+L27+N27+P27+'53 (b)'!C27+'53 (b)'!E27+'53 (b)'!G27+'53 (b)'!I27+'53 (b)'!K27+'53 (b)'!M27+'53 (b)'!O27+'53 (b)'!Q27 -> 6595495 | E27: =G27+I27+K27+M27+O27+Q27+'53 (b)'!D27+'53 (b)'!F27+'53 (b)'!H27+'53 (b)'!J27+'53 (b)'!L27+'53 (b)'!N27+'53 (b)'!P27+'53 (b)'!R27 -> 1429.1292 | F27: 2066168 | G27: 33.906925 | H27: 1192187 | I27: 67.490844 | J27: 654031 | K27: 10.446665 | L27: 75765 | M27: 11.065851 | N27: 1531490 | O27: 1028.928 | P27: 875837 | Q27: 241.17364
B28: 46143 | C28: 5248.473 | D28: =F28+H28+J28+L28+N28+P28+'53 (b)'!C28+'53 (b)'!E28+'53 (b)'!G28+'53 (b)'!I28+'53 (b)'!K28+'53 (b)'!M28+'53 (b)'!O28+'53 (b)'!Q28 -> 6864518 | E28: =G28+I28+K28+M28+O28+Q28+'53 (b)'!D28+'53 (b)'!F28+'53 (b)'!H28+'53 (b)'!J28+'53 (b)'!L28+'53 (b)'!N28+'53 (b)'!P28+'53 (b)'!R28 -> 1192.816 | F28: 2261012 | G28: 36.141208 | H28: 1283238 | I28: 65.436396 | J28: 695023 | K28: 11.041238 | L28: 138904 | M28: 23.489421 | N28: 1326004 | O28: 775.82792 | P28: 946834 | Q28: 243.30023
B29: 46174 | C29: 5290.921 | D29: =F29+H29+J29+L29+N29+P29+'53 (b)'!C29+'53 (b)'!E29+'53 (b)'!G29+'53 (b)'!I29+'53 (b)'!K29+'53 (b)'!M29+'53 (b)'!O29+'53 (b)'!Q29 -> 7057016 | E29: =G29+I29+K29+M29+O29+Q29+'53 (b)'!D29+'53 (b)'!F29+'53 (b)'!H29+'53 (b)'!J29+'53 (b)'!L29+'53 (b)'!N29+'53 (b)'!P29+'53 (b)'!R29 -> 1264.0152 | F29: 2199951 | G29: 36.726191 | H29: 1293768 | I29: 65.46485 | J29: 700298 | K29: 13.162074 | L29: 125974 | M29: 32.78445 | N29: 1594562 | O29: 816.016 | P29: 925674 | Q29: 256.15103
B30: 46204 | C30: 5339.178 | D30: =F30+H30+J30+L30+N30+P30+'53 (b)'!C30+'53 (b)'!E30+'53 (b)'!G30+'53 (b)'!I30+'53 (b)'!K30+'53 (b)'!M30+'53 (b)'!O30+'53 (b)'!Q30 -> 7324128 | E30: =G30+I30+K30+M30+O30+Q30+'53 (b)'!D30+'53 (b)'!F30+'53 (b)'!H30+'53 (b)'!J30+'53 (b)'!L30+'53 (b)'!N30+'53 (b)'!P30+'53 (b)'!R30 -> 1410.3074 | F30: 2213222 | G30: 36.147359 | H30: 1330164 | I30: 71.57301 | J30: 720175 | K30: 13.356509 | L30: 154090 | M30: 32.058378 | N30: 1710022 | O30: 940.87556 | P30: 964586 | Q30: 270.04236
B31: 46235 | C31: 5390.36 | D31: =F31+H31+J31+L31+N31+P31+'53 (b)'!C31+'53 (b)'!E31+'53 (b)'!G31+'53 (b)'!I31+'53 (b)'!K31+'53 (b)'!M31+'53 (b)'!O31+'53 (b)'!Q31 -> 7937880 | E31: =G31+I31+K31+M31+O31+Q31+'53 (b)'!D31+'53 (b)'!F31+'53 (b)'!H31+'53 (b)'!J31+'53 (b)'!L31+'53 (b)'!N31+'53 (b)'!P31+'53 (b)'!R31 -> 1351.962 | F31: 2335241 | G31: 37.852464 | H31: 1390938 | I31: 87.129174 | J31: 738765 | K31: 14.483654 | L31: 197196 | M31: 52.133397 | N31: 2022984 | O31: 820.08412 | P31: 1006223 | Q31: 289.50432
B32: 46266 | C32: 5445.158 | D32: =F32+H32+J32+L32+N32+P32+'53 (b)'!C32+'53 (b)'!E32+'53 (b)'!G32+'53 (b)'!I32+'53 (b)'!K32+'53 (b)'!M32+'53 (b)'!O32+'53 (b)'!Q32 -> 7629483 | E32: =G32+I32+K32+M32+O32+Q32+'53 (b)'!D32+'53 (b)'!F32+'53 (b)'!H32+'53 (b)'!J32+'53 (b)'!L32+'53 (b)'!N32+'53 (b)'!P32+'53 (b)'!R32 -> 1497.2534 | F32: 2162548 | G32: 35.902002 | H32: 1307153 | I32: 89.49339 | J32: 701872 | K32: 13.301977 | L32: 270716 | M32: 93.163519 | N32: 1984147 | O32: 918.44527 | P32: 966068 | Q32: 300.00158
B70: 2026**

Sheet 53 (b)
B2: Financial Sector Statistics | E2: Table (53b) جدول | Q2: إحصاءات القطاع المالي
E3: المدفوعات الالكترونية باستخدام نظام عرض ودفع الفواتير الكترونياً (اي فواتيركم) وفقاً للتصنيف القطاعي ISIC-4
D4: Electronic payments using Electronic Bill Presentment and Payment System (eFAWATEERcom) according to ISIC-4 | R4: مليون دينار
R5: JD Million
C6: النقل والتخزين Transportation and Storage | E6: الأنشطة المهنية والعلمية والتقنية Professional, Scientific and Technical Activities | G6: أنشطة الصحة البشرية والخدمة الاجتماعية Human Health and Social Work Activities | I6: الصناعة التحويلية Manufacturing | K6: تجارة الجملة والتجزئة Wholesale and Retail Trade; Repair of Motor Vehicles | M6: الفنون والترفيه والترويح Arts, Entertainment and Recreation | O6: الأنشطة العقارية Real Estate Activities | Q6: أنشطة الخدمات الأخرى Other Service Activities
C7: عدد الحركات Number of Transactions | D7: قيمة Value | E7: عدد الحركات Number of Transactions | F7: قيمة Value | G7: عدد الحركات Number of Transactions | H7: قيمة Value | I7: عدد الحركات Number of Transactions | J7: قيمة Value | K7: عدد الحركات Number of Transactions | L7: قيمة Value | M7: عدد الحركات Number of Transactions | N7: قيمة Value | O7: عدد الحركات Number of Transactions | P7: قيمة Value | Q7: عدد الحركات Number of Transactions | R7: قيمة Value
B8: الفترة Period
B9: 2025 | C9: =SUM(C11:C22) -> 707415 | D9: =SUM(D11:D22) -> 129.68869 | E9: =SUM(E11:E22) -> 632714 | F9: =SUM(F11:F22) -> 51.464474 | G9: =SUM(G11:G22) -> 331212 | H9: =SUM(H11:H22) -> 12.606318 | I9: =SUM(I11:I22) -> 398072 | J9: =SUM(J11:J22) -> 189.29585 | ... R9: =SUM(R11:R22) -> 1.3297777
B10: 2025
B11: 45688 | C11: 46512 | D11: 11.524733 | E11: 71167 | F11: 7.2719871 | G11: 24204 | H11: 0.77531939 | I11: 30671 | J11: 17.216549 | K11: 26586 | L11: 8.4635159 | M11: 14555 | N11: 0.17269924 | O11: 199 | P11: 0.10481304 | Q11: 6265 | R11: 0.088599951
B12: 45689 | C12: 42000 | D12: 8.4372357 | E12: 55585 | F12: 5.0650174 | G12: 22619 | H12: 0.81137524 | I12: 29658 | J12: 17.964704 | K12: 23292 | L12: 4.2728359 | M12: 12419 | N12: 0.13829799 | O12: 453 | P12: 0.10401572 | Q12: 5789 | R12: 0.079325298
B13: 45717 | C13: 46669 | D13: 8.8152662 | E13: 49519 | F13: 4.09841 | G13: 47343 | H13: 2.51897 | I13: 28264 | J13: 15.035348 | K13: 22714 | L13: 3.7843609 | M13: 13045 | N13: 0.15850127 | O13: 161 | P13: 0.044366678 | Q13: 5718 | R13: 0.087755594
B14: 45748 | C14: 57090 | D14: 9.4575416 | E14: 53989 | F14: 4.2402738 | G14: 34830 | H14: 1.125334 | I14: 33421 | J14: 16.960675 | K14: 27634 | L14: 5.3719199 | M14: 15731 | N14: 0.19875706 | O14: 143 | P14: 0.018827355 | Q14: 7453 | R14: 0.10719375
B15: 45778 | C15: 51798 | D15: 9.0453377 | E15: 46290 | F15: 3.4762861 | G15: 23767 | H15: 0.9321122 | I15: 28352 | J15: 14.34085 | K15: 30158 | L15: 6.3652951 | M15: 13306 | N15: 0.20990967 | O15: 171 | P15: 0.017456232 | Q15: 7116 | R15: 0.11437996
B16: 45809 | C16: 57555 | D16: 10.632118 | E16: 47603 | F16: 3.3805352 | G16: 28124 | H16: 1.2947829 | I16: 30675 | J16: 14.738595 | K16: 26675 | L16: 6.0032221 | M16: 14911 | N16: 0.29322239 | O16: 191 | P16: 0.083842803 | Q16: 7253 | R16: 0.11297204
B17: 45839 | C17: 72393 | D17: 13.336268 | E17: 52934 | F17: 3.8058371 | G17: 27555 | H17: 0.92696098 | I17: 35322 | J17: 14.563326 | K17: 37074 | L17: 8.9687726 | M17: 11972 | N17: 0.31063364 | O17: 458 | P17: 0.22006496 | Q17: 7712 | R17: 0.12381254
B18: 45870 | C18: 71958 | D18: 12.355983 | E18: 50882 | F18: 3.7327325 | G18: 26295 | H18: 0.89025583 | I18: 35040 | J18: 14.276877 | K18: 36260 | L18: 7.0503828 | M18: 6390 | N18: 0.27920692 | O18: 185 | P18: 0.023743774 | Q18: 7632 | R18: 0.12147288
B19: 45901 | C19: 64221 | D19: 11.287347 | E19: 48608 | F19: 3.7569383 | G19: 23430 | H19: 0.79175741 | I19: 34638 | J19: 15.688023 | K19: 36673 | L19: 6.5196526 | M19: 5207 | N19: 0.2326276 | O19: 299 | P19: 0.083638821 | Q19: 7820 | R19: 0.13789217
B20: 45931 | C20: 67502 | D20: 10.875749 | E20: 51074 | F20: 3.9090492 | G20: 24397 | H20: 0.81725063 | I20: 35870 | J20: 15.271496 | K20: 53468 | L20: 7.7077592 | M20: 6174 | N20: 0.26220903 | O20: 405 | P20: 0.09629753 | Q20: 6813 | R20: 0.12792022
B21: 45962 | C21: 64920 | D21: 11.089868 | E21: 49568 | F21: 3.7755872 | G21: 24234 | H21: 0.80596708 | I21: 36368 | J21: 15.657 | K21: 34159 | L21: 5.9510548 | M21: 6014 | N21: 0.2653204 | O21: 235 | P21: 0.030288288 | Q21: 6692 | R21: 0.11298356
B22: 45992 | C22: 64797 | D22: 12.831248 | E22: 55495 | F22: 4.9518198 | G22: 24414 | H22: 0.9162321 | I22: 39793 | J22: 17.58241 | K22: 22489 | L22: 5.1646802 | M22: 6134 | N22: 0.31684222 | O22: 299 | P22: 0.31161218 | Q22: 6335 | R22: 0.11546975
B23: 2026
B24: 46053 | C24: 55262 | D24: 12.007034 | E24: 74820 | F24: 7.719901 | G24: 23200 | H24: 0.93525469 | I24: 37226 | J24: 16.896258 | K24: 18308 | L24: 7.1318564 | M24: 6010 | N24: 0.46492346 | O24: 224 | P24: 0.10921083 | Q24: 4966 | R24: 0.09301554
B25: 46054 | C25: 54470 | D25: 10.297667 | E25: 59599 | F25: 5.6093111 | G25: 26076 | H25: 1.3972676 | I25: 34405 | J25: 15.093481 | K25: 17713 | L25: 4.4861294 | M25: 4819 | N25: 0.20385845 | O25: 358 | P25: 0.10713537 | Q25: 4817 | R25: 0.084715575
B26: 46082 | C26: 62451 | D26: 12.168531 | E26: 59415 | F26: 4.7219264 | G26: 52659 | H26: 2.7797419 | I26: 43291 | J26: 19.399179 | K26: 18330 | L26: 4.8534087 | M26: 7351 | N26: 0.26187305 | O26: 222 | P26: 0.063365753 | Q26: 4590 | R26: 0.083295469
B27: 46113 | C27: 56772 | D27: 12.293822 | E27: 51328 | F27: 4.0218843 | G27: 25235 | H27: 0.92582831 | I27: 37117 | J27: 13.706881 | K27: 20217 | L27: 4.8377171 | M27: 5617 | N27: 0.12815717 | O27: 225 | P27: 0.13241322 | Q27: 3506 | R27: 0.07063056
B28: 46143 | C28: 59396 | D28: 12.14654 | E28: 50823 | F28: 4.0555714 | G28: 33606 | H28: 1.7705346 | I28: 38347 | J28: 13.151181 | K28: 19473 | L28: 6.0273617 | M28: 7487 | N28: 0.29477695 | O28: 242 | P28: 0.056640609 | Q28: 4129 | R28: 0.077006689
B29: 46174 | C29: 65439 | D29: 17.698532 | E29: 51144 | F29: 4.0229678 | G29: 24540 | H29: 0.97352262 | I29: 39639 | J29: 13.401555 | K29: 23099 | L29: 7.1441724 | M29: 8361 | N29: 0.25421566 | O29: 254 | P29: 0.14549177 | Q29: 4313 | R29: 0.070182265
B30: 46204 | C30: 74908 | D30: 21.243337 | E30: 50061 | F30: 3.8252326 | G30: 27018 | H30: 1.0154808 | I30: 40325 | J30: 13.513655 | K30: 25104 | L30: 6.2495877 | M30: 9463 | N30: 0.26657542 | O30: 402 | P30: 0.065856354 | Q30: 4588 | R30: 0.074543138
B31: 46235 | C31: 82661 | D31: 25.122095 | E31: 52072 | F31: 4.1962341 | G31: 27734 | H31: 1.0627713 | I31: 42602 | J31: 13.866352 | K31: 26248 | L31: 6.154395 | M31: 10659 | N31: 0.27312661 | O31: 284 | P31: 0.029508974 | Q31: 4273 | R31: 0.070361431
B32: 46266 | C32: 72975 | D32: 21.425126 | E32: 51307 | F32: 3.9572707 | G32: 26825 | H32: 1.0198305 | I32: 42639 | J32: 14.183124 | K32: 26646 | L32: 5.7910089 | M32: 11944 | N32: 0.26881333 | O32: 324 | P32: 0.22698913 | Q32: 4319 | R32: 0.073518657
B70: 2026**

Sheet 54
B2: Financial Sector Statistics | E2: Table (54) جدول | I2: إحصاءات القطاع المالي
F3: نظام المقاصة الإلكترونية للشيكات
C4: Electronic Check Clearing System | J4: مليون دينار JD Million
C6: الشيكات المقدمة للتقاص Cheques Presented for Clearing | E6: الشيكات المعادة Returned Cheques
C7: العدد (الف) | D7: القيمة | E7: إجمالي الشيكات المعادة | G7: لأسباب مالية | I7: لأسباب فنية
E8: Total Returned Cheques | G8: for Financial Reasons | I8: for Technical Reasons
C9: Number (1000) | D9: Value | E9: العدد (الف) | F9: القيمة | G9: العدد (الف) | H9: القيمة | I9: العدد (الف) | J9: القيمة
E10: Number (1000) | F10: Value | G10: Number (1000) | H10: Value | I10: Number (1000) | J10: Value
B11: الفترة Period
B12: 1996 | C12: 8645.2 | D12: 10845.5 | E12: 446.8 | F12: 442.2 | J12: 442.2
B13: 1997 | C13: 8611.5 | D13: 10827.7 | E13: 460 | F13: 434.7 | J13: 434.7
B14: 1998 | C14: 8819.7 | D14: 11214.6 | E14: 537.6 | F14: 512.8 | J14: 512.8
B15: 1999 | C15: 8828.9 | D15: 11055.3 | E15: 591.4 | F15: 509.6 | J15: 509.6
B16: 2000 | C16: 8891.7 | D16: 11622.6 | E16: 549.2 | F16: 494 | J16: 494
B17: 2001 | C17: 8958.2 | D17: 12584.6 | E17: 536.7 | F17: 515.5 | J17: 515.5
B18: 2002 | C18: 8577.4 | D18: 12904.7 | E18: 472.2 | F18: 486.5 | G18: 255.2 | H18: 252.1 | I18: 217 | J18: 234.4
B19: 2003 | C19: 8475.4 | D19: 14269.2 | E19: 423.9 | F19: 497.1 | G19: 237.3 | H19: 260 | I19: 186.6 | J19: 237.1
B20: 2004 | C20: 8516.4 | D20: 17058.4 | E20: 364.1 | F20: 466.4 | G20: 204.1 | H20: 249 | I20: 160 | J20: 217.4
B21: 2005 | C21: 9588.9 | D21: 22732.2 | E21: 386.4 | F21: 626.8 | G21: 209.4 | H21: 297.3 | I21: 177 | J21: 329.5
B22: 2006 | C22: 10931.9 | D22: 26521.6 | E22: 429.4 | F22: 797.1 | G22: 240.8 | H22: 380.6 | I22: 188.6 | J22: 416.5
B23: 2007 | C23: 10901.9 | D23: 30233.7 | E23: 626.5 | F23: 1404.6 | G23: 357.3 | H23: 733.2 | I23: 269.3 | J23: 671.4
B24: 2008 | C24: 11943.6 | D24: 40175.8 | E24: 732 | F24: 2124.5 | G24: 418.9 | H24: 1056.9 | I24: 313 | J24: 1067.9
B25: 2009 | C25: 11484.944 | D25: 34830.573 | E25: 738.155 | F25: 2128.4 | G25: 462.193 | H25: 1344.2 | I25: 275.962 | J25: 784.3
B26: 2010 | C26: 10498.8 | D26: 34305.3 | E26: 712.5 | F26: 1877.7 | G26: 405.7 | H26: 1079.4 | I26: 306.8 | J26: 798.3
B27: 2011 | C27: 10908.8 | D27: 37448.7 | E27: 603.8 | F27: 1566.8 | G27: 367.7 | H27: 939 | I27: 236.1 | J27: 627.8
B28: 2012 | C28: 11141.7 | D28: 39808.1 | E28: 589 | F28: 1557.7 | G28: 360.6 | H28: 915.1 | I28: 228.3 | J28: 642.7
B29: 2013 | C29: 10856.828 | D29: 42851.1 | E29: 537.5 | F29: 1524.3 | G29: 323.2 | H29: 862.8 | I29: 214.3 | J29: 661.5
B30: 2014 | C30: 11116.391 | D30: 48380.312 | E30: 558.439 | F30: 1708.238 | G30: 337.912 | H30: 981.242 | I30: 220.627 | J30: 727.096
... B41: 2025 | C41: 6287.359 | D41: 40959.519 | E41: 202.587 | F41: 1116.2013 | G41: 134.87 | H41: 723.92419 | I41: 67.717 | J41: 392.27715
B42: 1999
B43: 36161 | C43: 658 | D43: 872.4 | E43: 49.6 | F43: 44.3 | J43: 44.3
B44: 36192 | C44: 626.3 | D44: 808.8 | E44: 45 | F44: 40.3 | J44: 40.3
B45: 36220 | C45: 708.7 | D45: 872.1 | E45: 46 | F45: 39 | J45: 39
B46: 36251 | C46: 679.5 | D46: 872.2 | E46: 53.6 | F46: 45.3 | J46: 45.3
B47: 36281 | C47: 818.8 | D47: 958.4 | E47: 49.3 | F47: 40.1 | J47: 40.1
B48: 36312 | C48: 735.1 | D48: 933.7 | E48: 50.3 | F48: 41.7 | J48: 41.7
B49: 36342 | C49: 698 | D49: 905 | E49: 47.6 | F49: 42.9 | J49: 42.9
B50: 36373 | C50: 851.9 | D50: 1058.6 | E50: 46.5 | F50: 40.8 | J50: 40.8
B51: 36404 | C51: 758.2 | D51: 939.4 | E51: 47.1 | F51: 41.2 | J51: 41.2
B52: 36434 | C52: 758.3 | D52: 902.2 | E52: 47.9 | F52: 41.6 | J52: 41.6
B53: 36465 | C53: 776.6 | D53: 945.6 | E53: 52 | F53: 44.5 | J53: 44.5
B54: 36495 | C54: 759.5 | D54: 986.9 | E54: 56.5 | F54: 47.9 | J54: 47.9
B55: 2000
B56: 36526 | C56: 671.4 | D56: 862.5 | E56: 50.7 | F56: 46.2 | J56: 46.2
B57: 36557 | C57: 747.5 | D57: 977.5 | E57: 47.9 | F57: 43.3 | J57: 43.3
B58: 36586 | C58: 674.5 | D58: 873.3 | E58: 48.6 | F58: 42.4 | J58: 42.4
B59: 36617 | C59: 663.6 | D59: 896.5 | E59: 45.1 | F59: 40.5 | J59: 40.5
B60: 36647 | C60: 885.3 | D60: 1113.7 | E60: 52.1 | F60: 45.7 | J60: 45.7
B61: 36678 | C61: 686.8 | D61: 982.8 | E61: 45.3 | F61: 43.6 | J61: 43.6
B62: 36708 | C62: 858.9 | D62: 1041.8 | E62: 46.2 | F62: 41.5 | J62: 41.5
B63: 36739 | C63: 804.3 | D63: 1061.5 | E63: 44.2 | F63: 40.4 | J63: 40.4
B64: 36770 | C64: 662.6 | D64: 915.1 | E64: 37.7 | F64: 33.4 | J64: 33.4
B65: 36800 | C65: 887.8 | D65: 1088.8 | E65: 44.6 | F65: 39.4 | J65: 39.4
B66: 36831 | C66: 750.5 | D66: 970.5 | E66: 44.9 | F66: 41.1 | J66: 41.1
B67: 36861 | C67: 598.5 | D67: 838.6 | E67: 41.9 | F67: 36.5 | J67: 36.5
B68: 2001
B69: 36892 | C69: 885.7 | D69: 1117.8 | E69: 0 | F69: 54.6 | J69: 54.6
B70: 36923 | C70: 670.5 | D70: 937.1 | E70: 0 | F70: 38.8 | J70: 38.8
B71: 36951 | C71: 606.8 | D71: 851.1 | E71: 0 | F71: 42.5 | J71: 42.5
B72: 36982 | C72: 811 | D72: 1096.4 | E72: 0 | F72: 44.3 | J72: 44.3
B73: 37012 | C73: 789.2 | D73: 1105.3 | E73: 0 | F73: 46.1 | J73: 46.1
B74: 37043 | C74: 640.7 | D74: 941.4 | E74: 0 | F74: 40.1 | J74: 40.1
B75: 37073 | C75: 869.3 | D75: 1221.8 | E75: 0 | F75: 52 | J75: 52
B76: 37104 | C76: 722.4 | D76: 1050.9 | E76: 0 | F76: 38.5 | J76: 38.5
B77: 37135 | C77: 750.9 | D77: 1076.2 | E77: 0 | F77: 36.1 | J77: 36.1
B78: 37165 | C78: 797.7 | D78: 1119.2 | E78: 0 | F78: 42.2 | J78: 42.2
B79: 37196 | C79: 636.7 | D79: 970.8 | E79: 0 | F79: 38.3 | J79: 38.3
B80: 37226 | C80: 777.3 | D80: 1096.6 | E80: 0 | F80: 42 | J80: 42
B81: 2002
B82: 37257 | C82: 632.2 | D82: 1033.7 | E82: 0 | F82: 47.1 | J82: 47.1
B83: 37288 | C83: 659.5 | D83: 983.2 | E83: 0 | F83: 37.5 | J83: 37.5
B84: 37316 | C84: 702.9 | D84: 1024 | E84: 0 | F84: 45.9 | J84: 45.9
B85: 37347 | C85: 714 | D85: 1050.2 | E85: 0 | F85: 40.2 | J85: 40.2
B86: 37377 | C86: 690.9 | D86: 1039.1 | E86: 0 | F86: 37.7 | J86: 37.7
B87: 37408 | C87: 724.9 | D87: 1055 | E87: 0 | F87: 37.3 | J87: 37.3
B88: 37438 | C88: 788.8 | D88: 1216.6 | E88: 0 | F88: 41.6 | J88: 41.6
B89: 37469 | C89: 652.4 | D89: 1040.9 | E89: 0 | F89: 37.5 | J89: 37.5
B90: 37500 | C90: 818.1 | D90: 1149.7 | E90: 0 | F90: 41.8 | J90: 41.8
B91: 37530 | C91: 783.5 | D91: 1175 | E91: 0 | F91: 42.3 | J91: 42.3
B92: 37561 | C92: 595.9 | D92: 910.4 | E92: 0 | F92: 35.8 | J92: 35.8
B93: 37591 | C93: 814.4 | D93: 1227.1 | E93: 0 | F93: 41.9 | J93: 41.9
B94: 2003
B95: 2026** | C95: 606.7 | D95: 972.2 | E95: 38.9 | F95: 38.1 | J95: 38.1
B96: 37653 | C96: 572.2 | D96: 886.1 | E96: 34.8 | F96: 37.2 | J96: 37.2
B97: 37681 | C97: 800.1 | D97: 1158.9 | E97: 47.3 | F97: 53.3 | J97: 53.3
B98: 37712 | C98: 679.3 | D98: 1140.1 | E98: 39.7 | F98: 45.1 | J98: 45.1
B99: 37742 | C99: 622 | D99: 1037.7 | E99: 33.8 | F99: 36.3 | J99: 36.3
B100: 37773 | C100: 780.8 | D100: 1210.1 | E100: 33.4 | F100: 33.9 | J100: 33.9
B101: 37803 | C101: 768.6 | D101: 1396.2 | E101: 35.3 | F101: 38.8 | J101: 38.8
B102: 37834 | C102: 702.3 | D102: 1244.4 | E102: 29 | F102: 31.3 | J102: 31.3
B103: 37865 | C103: 749.8 | D103: 1382.4 | E103: 31.6 | F103: 53.1 | J103: 53.1
B104: 37895 | C104: 719 | D104: 1258.5 | E104: 32 | F104: 40.9 | J104: 40.9
B105: 37926 | C105: 642 | D105: 1066.8 | E105: 27.3 | F105: 35.4 | J105: 35.4
B106: 37956 | C106: 832.8 | D106: 1515.8 | E106: 40.5 | F106: 53.7 | J106: 53.7
B107: 2004
B108: 37987
B109: 38018
B110: 38047
B111: 38078
B112: 38108
...

Sheet 55
B2: Financial Sector Statistics | E2: Table (55) جدول | I2: إحصاءات القطاع المالي
F3: * عدد وقيم حركات نظام التسويات الإجمالية الفوري
C4: *Transactions Processed through RTGS System
C6: دينار أردني Jordainian Dinar | E6: الدولار الأمريكي U.S. Dollar | G6: اليورو Euro | I6: الجنيه الإسترليني Sterling pound
C7: عدد الحركات Number of Transactions | D7: القيمة بالمليون Value in Million | E7: عدد الحركات Number of Transactions | F7: القيمة بالمليون Value in Million | G7: عدد الحركات Number of Transactions | H7: القيمة بالمليون Value in Million | I7: عدد الحركات Number of Transactions | J7: القيمة بالمليون Value in Million
B8: الفترة Period
B9: 2018 | C9: 286484 | D9: 993887 | E9: 34346 | F9: 55152 | G9: 4005 | H9: 3197 | I9: 524 | J9: 116
B10: 2019 | C10: 284923 | D10: 828154 | E10: 34928 | F10: 70412 | G10: 4014 | H10: 1941 | I10: 496 | J10: 107
B11: 2020 | C11: 307773 | D11: 1148613 | E11: 31813 | F11: 57253 | G11: 3592 | H11: 2268 | I11: 403 | J11: 54
B12: 2021 | C12: 335863 | D12: 1519978 | E12: 33685 | F12: 61780 | G12: 3835 | H12: 2146.1394 | I12: 465 | J12: 231.97433
B13: 2022 | C13: 408161 | D13: 1874817.3 | E13: 36552 | F13: 79160.373 | G13: 4446 | H13: 2906.2699 | I13: 758 | J13: 206.18826
B14: 2023 | C14: 485976 | D14: 1778399 | E14: 40682 | F14: 78085.029 | G14: 4393 | H14: 1962.9231 | I14: 647 | J14: 360.50964
B15: 2024 | C15: 516301 | D15: 2177361.7 | E15: 46149 | F15: 80653.378 | G15: 4854 | H15: 1909.0017 | I15: 699 | J15: 496.53043
B16: 2025 | C16: 563186 | D16: 2537703.9 | E16: 46316 | F16: 96991.86 | G16: 5278 | H16: 2380.7973 | I16: 651 | J16: 145.03028
B17: 2021
B18: 44197 | C18: 24316 | D18: 125910.6 | E18: 2555 | F18: 5437.6531 | G18: 274 | H18: 212.03014 | I18: 35 | J18: 7.2910513
B19: 44228 | C19: 23395 | D19: 108879.1 | E19: 2384 | F19: 4813.4802 | G19: 286 | H19: 111.07766 | I19: 24 | J19: 30.864943
B20: 44256 | C20: 29112 | D20: 136434.65 | E20: 2742 | F20: 4678.7643 | G20: 353 | H20: 192.04182 | I20: 39 | J20: 13.862032
B21: 44287 | C21: 25937 | D21: 114125.11 | E21: 2499 | F21: 5342.4271 | G21: 287 | H21: 190.6196 | I21: 20 | J21: 1.215628
B22: 44317 | C22: 26869 | D22: 94590.818 | E22: 2379 | F22: 3758.3666 | G22: 267 | H22: 163.98261 | I22: 43 | J22: 36.404959
B23: 44348 | C23: 28239 | D23: 123678.31 | E23: 3130 | F23: 5543.4672 | G23: 334 | H23: 223.22113 | I23: 28 | J23: 9.0824964
B24: 44378 | C24: 25622 | D24: 99596.067 | E24: 2327 | F24: 4837.8268 | G24: 251 | H24: 144.75599 | I24: 34 | J24: 12.137772
B25: 44409 | C25: 30257 | D25: 138187.54 | E25: 3143 | F25: 5881.2915 | G25: 329 | H25: 133.69131 | I25: 36 | J25: 20.549356
B26: 44440 | C26: 30184 | D26: 144201.25 | E26: 3184 | F26: 5074.5969 | G26: 340 | H26: 175.57374 | I26: 45 | J26: 18.5402
B27: 44470 | C27: 29213 | D27: 131673.11 | E27: 2870 | F27: 5521.1005 | G27: 319 | H27: 217.20281 | I27: 36 | J27: 11.786387
B28: 44501 | C28: 30914 | D28: 146267.52 | E28: 3088 | F28: 4894.1978 | G28: 397 | H28: 137.17176 | I28: 60 | J28: 37.456596
B29: 44531 | C29: 31805 | D29: 156433.94 | E29: 3384 | F29: 5996.8279 | G29: 398 | H29: 244.77083 | I29: 65 | J29: 32.782907
B30: 2022
B31: 44562 | C31: 29805 | D31: 166861.32 | E31: 2748 | F31: 6236.348 | G31: 281 | H31: 216.23076 | I31: 34 | J31: 10.869039
B32: 44593 | C32: 28318 | D32: 158908.59 | E32: 2971 | F32: 5883.081 | G32: 328 | H32: 142.8676 | I32: 23 | J32: 7.7444638
B33: 44621 | C33: 35349 | D33: 171026.79 | E33: 3517 | F33: 7318.7901 | G33: 396 | H33: 201.76051 | I33: 66 | J33: 15.000276
B34: 44652 | C34: 33468 | D34: 153457.09 | E34: 3025 | F34: 6949.2958 | G34: 367 | H34: 211.82443 | I34: 45 | J34: 16.889743
B35: 44682 | C35: 30822 | D35: 130186.38 | E35: 2764 | F35: 6144.2679 | G35: 336 | H35: 224.10614 | I35: 73 | J35: 13.507341
B36: 44713 | C36: 36136 | D36: 165671.15 | E36: 3258 | F36: 6292.1991 | G36: 380 | H36: 265.59484 | I36: 87 | J36: 15.6911
B37: 44743 | C37: 33728 | D37: 128184.05 | E37: 2497 | F37: 6848.8121 | G37: 286 | H37: 249.50926 | I37: 83 | J37: 17.755887
B38: 44774 | C38: 37470 | D38: 165065.88 | E38: 3374 | F38: 6454.9072 | G38: 363 | H38: 338.68377 | I38: 79 | J38: 13.312642
B39: 44805 | C39: 34128 | D39: 161585.65 | E39: 3101 | F39: 6153.627 | G39: 566 | H39: 464.60386 | I39: 110 | J39: 39.656898
B40: 44835 | C40: 36991 | D40: 168518.05 | E40: 3168 | F40: 6941.2298 | G40: 361 | H40: 195.10934 | I40: 54 | J40: 22.453101
B41: 44866 | C41: 35903 | D41: 157401.77 | E41: 3043 | F41: 6002.035 | G41: 339 | H41: 188.57759 | I41: 60 | J41: 20.00872
B42: 44896 | C42: 36043 | D42: 147950.62 | E42: 3086 | F42: 7935.7804 | G42: 443 | H42: 207.40178 | I42: 44 | J42: 13.299053
B43: 2023
B44: 44927 | C44: 38145 | D44: 161659.46 | E44: 3224 | F44: 5840.9562 | G44: 354 | H44: 208.69629 | I44: 45 | J44: 23.213368
B45: 44958 | C45: 34356 | D45: 142165.6 | E45: 2923 | F45: 5357.677 | G45: 318 | H45: 198.28895 | I45: 40 | J45: 16.209716
B46: 44986 | C46: 42018 | D46: 157059.59 | E46: 3370 | F46: 7700.6574 | G46: 403 | H46: 193.82423 | I46: 49 | J46: 9.5592226
B47: 45017 | C47: 35387 | D47: 113319.01 | E47: 2799 | F47: 5662.6383 | G47: 297 | H47: 224.2092 | I47: 35 | J47: 5.9269673
B48: 45047 | C48: 43625 | D48: 136758.04 | E48: 3835 | F48: 6722.9715 | G48: 392 | H48: 174.96414 | I48: 58 | J48: 21.436923
B49: 45078 | C49: 36873 | D49: 113271.05 | E49: 3120 | F49: 7095.3441 | G49: 327 | H49: 103.19248 | I49: 55 | J49: 53.005597
B50: 45108 | C50: 44113 | D50: 138670.94 | E50: 3590 | F50: 6862.5886 | G50: 367 | H50: 142.71881 | I50: 53 | J50: 44.35242
B51: 45139 | C51: 45247 | D51: 157368.34 | E51: 3727 | F51: 6119.2622 | G51: 455 | H51: 215.79325 | I51: 86 | J51: 62.140109
B52: 45170 | C52: 36235 | D52: 143026.84 | E52: 3348 | F52: 7136.6144 | G52: 374 | H52: 121.78757 | I52: 66 | J52: 13.928552
B53: 45200 | C53: 45810 | D53: 181457.32 | E53: 3696 | F53: 8084.7625 | G53: 366 | H53: 108.81625 | I53: 62 | J53: 35.736709
B54: 45231 | C54: 41879 | D54: 173862.02 | E54: 3433 | F54: 5052.2794 | G54: 374 | H54: 126.79906 | I54: 39 | J54: 13.507465
B55: 45261 | C55: 42288 | D55: 159780.83 | E55: 3617 | F55: 6449.2775 | G55: 366 | H55: 143.8329 | I55: 59 | J55: 61.492593
B56: 2024
B57: 45292 | C57: 43851 | D57: 190202.04 | E57: 3597 | F57: 6214.7293 | G57: 384 | H57: 197.36886 | I57: 75 | J57: 15.244774
B58: 45323 | C58: 42004 | D58: 182329.07 | E58: 3426 | F58: 5349.642 | G58: 351 | H58: 160.92795 | I58: 58 | J58: 14.70406
B59: 45352 | C59: 41464 | D59: 185456.35 | E59: 3658 | F59: 6729.814 | G59: 382 | H59: 136.145 | I59: 47 | J59: 6.238
B60: 45383 | C60: 40548 | D60: 154306.56 | E60: 3525 | F60: 5095.8448 | G60: 385 | H60: 262.48258 | I60: 46 | J60: 25.16959
B61: 45413 | C61: 41804 | D61: 162854.33 | E61: 3749 | F61: 6201.8297 | G61: 375 | H61: 138.29423 | I61: 64 | J61: 15.665784
B62: 45444 | C62: 38081 | D62: 119568.42 | E62: 3225 | F62: 6590.3818 | G62: 328 | H62: 78.017331 | I62: 43 | J62: 25.419216
B63: 45474 | C63: 47126 | D63: 175030.33 | E63: 4344 | F63: 7374.0886 | G63: 410 | H63: 148.56621 | I63: 47 | J63: 23.215493
B64: 45505 | C64: 40813 | D64: 174449.67 | E64: 4015 | F64: 6104.7599 | G64: 402 | H64: 129.19571 | I64: 51 | J64: 33.37228
B65: 45536 | C65: 42931 | D65: 183427.66 | E65: 3871 | F65: 7091.4415 | G65: 428 | H65: 143.091 | I65: 54 | J65: 10.1074
B66: 45566 | C66: 46885 | D66: 223508.66 | E66: 4565 | F66: 8395.8609 | G66: 506 | H66: 210.38265 | I66: 61 | J66: 90.847602
B67: 45597 | C67: 39209 | D67: 199523.25 | E67: 3772 | F67: 7821.2736 | G67: 432 | H67: 126.7291 | I67: 89 | J67: 119.92942
B68: 45627 | C68: 51585 | D68: 226705.37 | E68: 4402 | F68: 7683.7122 | G68: 471 | H68: 177.80103 | I68: 64 | J68: 116.61681
B69: 2025
B70: 45658 | C70: 44717 | D70: 230826.61 | E70: 4137 | F70: 7226.537 | G70: 446 | H70: 142.622 | I70: 56 | J70: 25.979
B71: 45689 | C71: 43307 | D71: 208960.05 | E71: 3757 | F71: 6219.143 | G71: 381 | H71: 112.202 | I71: 52 | J71: 17.224
B72: 45717 | C72: 50931 | D72: 202790.04 | E72: 3831 | F72: 7214.424 | G72: 379 | H72: 162.007 | I72: 58 | J72: 21.394
B73: 45748 | C73: 48450 | D73: 195101.25 | E73: 3890 | F73: 8391.997 | G73: 412 | H73: 179.927 | I73: 68 | J73: 16.558
B74: 45778 | C74: 43663 | D74: 182062.75 | E74: 3657 | F74: 6739.5467 | G74: 415 | H74: 134.52368 | I74: 48 | J74: 4.213795
B75: 45809 | C75: 44152 | D75: 166445.17 | E75: 3407 | F75: 7800.8981 | G75: 428 | H75: 247.05189 | I75: 39 | J75: 9.7456834
B76: 45839 | C76: 50137 | D76: 223464.08 | E76: 4261 | F76: 9044.5617 | G76: 534 | H76: 367.13269 | I76: 56 | J76: 7.0076365
B77: 45870 | C77: 44845 | D77: 208842.37 | E77: 3691 | F77: 9063.9539 | G77: 497 | H77: 192.13026 | I77: 57 | J77: 14.19916
B78: 45901 | C78: 45907 | D78: 218096.82 | E78: 4071 | F78: 8387.9463 | G78: 465 | H78: 175.19694 | I78: 57 | J78: 6.2457623
B79: 45931 | C79: 46503 | D79: 233498.55 | E79: 3987 | F79: 9863.0312 | G79: 437 | H79: 235.02871 | I79: 70 | J79: 12.89538
B80: 45962 | C80: 45000 | D80: 225124.81 | E80: 3527 | F80: 7827.5086 | G80: 412 | H80: 167.57079 | I80: 46 | J80: 4.4709027
B81: 45992 | C81: 55574 | D81: 242491.43 | E81: 4100 | F81: 9212.3125 | G81: 472 | H81: 265.40432 | I81: 44 | J81: 5.0969576
B82: 2026
B83: 46023 | C83: 47595 | D83: 234941.6 | E83: 3335 | F83: 9512.527 | G83: 420 | H83: 153.96931 | I83: 52 | J83: 5.1763212
B84: 46054 | C84: 48061 | D84: 238682.52 | E84: 3646 | F84: 9158.896 | G84: 386 | H84: 175.88509 | I84: 63 | J84: 35.890555
B85: 46082 | C85: 63728 | D85: 252302.84 | E85: 3762 | F85: 7438.0272 | G85: 472 | H85: 193.31389 | I85: 61 | J85: 7.9024713
B86: 46113 | C86: 49904 | D86: 246222.35 | E86: 3508 | F86: 6893.1749 | G86: 375 | H86: 137.98896 | I86: 44 | J86: 5.0277569
B87: 46143 | C87: 52294 | D87: 200063.2 | E87: 3150 | F87: 6768.0269 | G87: 308 | H87: 124.40328 | I87: 44 | J87: 6.6264137
B88: 46174 | C88: 57889 | D88: 256724.61 | E88: 3812 | F88: 7439.9999 | G88: 455 | H88: 164.58098 | I88: 49 | J88: 6.3861622
B89: 46204 | C89: 58256 | D89: 276315.16 | E89: 3984 | F89: 7216.9359 | G89: 462 | H89: 151.78106 | I89: 47 | J89: 6.9183237
B90: 46235 | C90: 56133 | D90: 279014.2 | E90: 3681 | F90: 9203.1983 | G90: 409 | H90: 230.82275 | I90: 44 | J90: 13.771423
B91: 46266 | C91: 57996 | D91: 311452.19 | E91: 3852 | F91: 7537.3971 | G91: 464 | H91: 157.369 | I91: 47 | J91: 4.1400815
B93: ملاحظة: عدد وقيم الحركات تشمل حركات أعضاء النظام (BCT) + حركات البنك المركزي (CBO) + اتفاقيات إعادة الشراء (REPO). | F93: Note : Values and Volumes Includes Central Bank Operations (CBO) + Bilateral Credit Transfer (BCT) + Repurchase Agreements (REPO)
B94: (REPO) اعتباراً من بداية عام 2025 أصبحت القيم والحركات لا تشمل اتفاقيات إعادة الشراء * | G94: *: From the beginning of 2025 the Values and Volumes dosen't Include Repurchase Agreements (REPO)

Sheet 57 56
B2: Financial Sector Statistics | E2: Table (56) جدول | M2: إحصاءات القطاع المالي
H3: عدد البطاقات وعدد وقيمة حركات بطاقات الدفع المصدرة في المملكة مصنفة حسب نوعها
C4: Number of Cards and Volume and Value of Payment Cards Transactions in Kingdom Sorted by Type
C6: البطاقات المدينة Debit Card | F6: البطاقات الدائنة Credit Cards | I6: البطاقات المدفوعة مسبقاً Prepaid Cards | L6: الإجمالي Total
C7: القيمة بالمليون Value in Million | D7: عدد الحركات Number of Transactions | E7: عدد البطاقات Number of Cards | F7: القيمة بالمليون Value in Million | G7: عدد الحركات Number of Transactions | H7: عدد البطاقات Number of Cards | I7: القيمة بالمليون Value in Million | J7: عدد الحركات Number of Transactions | K7: عدد البطاقات Number of Cards | L7: القيمة بالمليون Value in Million | M7: عدد الحركات Number of Transactions | N7: عدد البطاقات Number of Cards
B8: الفترة Period
B9: 2018 | C9: 10972.963 | D9: 71908515 | E9: 2615525 | F9: 1044.4073 | G9: 12646662 | H9: 321612 | I9: 150.42048 | J9: 2905842.9 | K9: 666425 | L9: 12167.791 | M9: 87461020 | N9: 3603562
B10: 2019 | C10: 12289.283 | D10: 84187853 | E10: 2718122 | F10: 1358.5202 | G10: 15537265 | H10: 361598 | I10: 934.44015 | J10: 10969222 | K10: 887489 | L10: 14582.244 | M10: 110694340 | N10: 3967209
B11: 2020 | C11: 13008.856 | D11: 92066681 | E11: 3483709 | F11: 936.92746 | G11: 14188897 | H11: 396599 | I11: 260.13762 | J11: 5497039.2 | K11: 509821 | L11: 14205.921 | M11: 1.1175262e+08 | N11: 4390129
B12: 2021 | C12: 16179.952 | D12: 1.2003187e+08 | E12: 3495196 | F12: 1331.867 | G12: 20176483 | H12: 402528 | I12: 1132.972 | J12: 14430446 | K12: 594973 | L12: 18644.791 | M12: 1.546388e+08 | N12: 4492697
B13: 2022 | C13: 18155.237 | D13: 1.8636517e+08 | E13: 4277200 | F13: 1673.615 | G13: 27290886 | H13: 520200 | I13: 1164.2224 | J13: 14941759 | K13: 982600 | L13: 20993.074 | M13: 2.2859782e+08 | N13: 5780000
B14: 2023 | C14: 19683.895 | D14: 204976181 | E14: 4428090 | F14: 1946.0307 | G14: 34600266 | H14: 609847 | I14: 1187.8843 | J14: 17538854 | K14: 1530414 | L14: 22817.81 | M14: 257115301 | N14: 6568351
B15: 2024* | C15: 21444.354 | D15: 268870991 | E15: 5094953 | F15: 2267.0071 | G15: 43240741 | H15: 578058 | I15: 1544.673 | J15: 38222325 | K15: 2600873 | L15: 25256.034 | M15: 350334057 | N15: 8273884
B16: 2025* | C16: 23353.97 | D16: 375735524 | E16: 5253142 | F16: 2629.73 | G16: 56520797 | H16: 651308 | I16: 1670.33 | J16: 52111659 | K16: 2745272 | L16: 27654.04 | M16: 484367980 | N16: 8649722
B18: *تم تعديل منهجية احتساب بيانات عدد البطاقات. | N18: * The Methodology for Calculating the No. of Cards has been Modified.
D19: Table (57) جدول
D20: عدد حركات الانترنت والموبايل المصرفي وعدد أجهزة نقاط البيع وأجهزة الصراف الآلي
D21: Volume of Internet and Mobile Banking & Number of POS and ATM in Kingdom
E23: الانترنت المصرفي Internet Banking | G23: الموبايل المصرفي Mobile Banking | I23: أجهزة نقاط البيع POS | K23: أجهزة الصراف الآلي ATM
E24: عدد الحركات Number of Transactions | F24: القيمة بالمليون Value in Million | G24: عدد الحركات Number of Transactions | H24: القيمة بالمليون Value in Million | I24: عدد أجهزة نقاط البيع Number of POS | K24: عدد أجهزة الصراف الالي Number of ATM
D25: الفترة Period
D26: 2018 | E26: 3733420 | F26: 9620.6582 | G26: 4301756 | H26: 1081.6236 | I26: 31077 | K26: 1927
D27: 2019 | E27: 4697868.5 | F27: 9362.0277 | G27: 10712306 | H27: 2067.0386 | I27: 35297 | K27: 2025
D28: 2020 | E28: 4367851 | F28: 29429.884 | G28: 14955125 | H28: 3408.4068 | I28: 38723 | K28: 2094
D29: 2021 | E29: 4638073 | F29: 30374.566 | G29: 26541210 | H29: 6196.5638 | I29: 44314 | K29: 2195
D30: 2022 | E30: 6034517.3 | F30: 38868.179 | G30: 34234961 | H30: 18493.947 | I30: 69040 | K30: 2246
D31: 2023 | E31: 7644762 | F31: 25450.745 | G31: 77481669 | H31: 15375.809 | I31: 89736 | K31: 2384
D32: 2024 | E32: 9041396 | F32: 31198.679 | G32: 114860474 | H32: 19610.93 | I32: 93926 | K32: 2432
D33: 2025 | E33: 14796994 | F33: 32883.4 | G33: 195526922 | H33: 33228.7 | I33: 109301 | K33: 2450
B34: .

Sheet 59 58
B2: Financial Sector Statistics | E2: Table (58) جدول | G2: إحصاءات القطاع المالي
E3: عدد وقيم حركات البطاقات الأجنبية على نقاط البيع وأجهزة الصراف الآلي والتجارة الإلكترونية
C4: Volume and Value of foreign Cards on POS and ATM and e-Commerce in Kingdom
C6: أجهزة نقاط البيع POS | E6: أجهزة الصراف الآلي ATM | G6: التجارة الإلكترونية e-Commerce
C7: عدد Volume | D7: القيمة بالمليون Value in Million | E7: عدد Volume | F7: القيمة بالمليون Value in Million | G7: عدد Volume | H7: القيمة بالمليون Value in Million
B8: الفترة Period
B9: 2018 | C9: 6255571 | D9: 594.94467 | E9: 2463880 | F9: 421.18174 | G9: 305066 | H9: 38.663998
B10: 2019 | C10: 6193580 | D10: 630.03678 | E10: 3176618 | F10: 490.00068 | G10: 627571 | H10: 72.37861
B11: 2020 | C11: 6194330 | D11: 630.11307 | E11: 1244251 | F11: 215.51182 | G11: 1025433 | H11: 79.387249
B12: 2021 | C12: 18646378 | D12: 1055.6923 | E12: 2048533 | F12: 362.02933 | G12: 10733375 | H12: 233.06964
B13: 2022 | C13: 9841379 | D13: 780.43562 | E13: 3047472 | F13: 456.87437 | G13: 2121209 | H13: 141.15851
B14: 2023 | C14: 19108104 | D14: 1202.8438 | E14: 5921701 | F14: 951.38543 | G14: 3088409 | H14: 218.19296
B15: 2024 | C15: 17390604 | D15: 1170.8474 | E15: 3042512 | F15: 508.78336 | G15: 4404731 | H15: 258.80074
B16: 2025 | C16: 25712337 | D16: 1276.6 | E16: 2833816 | F16: 421.5 | G16: 15748656 | H16: 452.9
C18: Table (59) جدول
E19: عدد وقيمة حركات البطاقات المصدرة في المملكة
C20: Volume and Value of Cards Issued in Kingdom
C22: أجهزة نقاط البيع POS | E22: أجهزة الصراف الآلي ATM | G22: التجارة الإلكترونية e-Commerce
C23: عدد Volume | D23: القيمة بالمليون Value in Million | E23: عدد Volume | F23: القيمة بالمليون Value in Million | G23: عدد Volume | H23: القيمة بالمليون Value in Million
B24: الفترة Period
B25: 2018 | C25: 25707344 | D25: 1427.1581 | E25: 58305604 | F25: 10552.215 | G25: 3448071.5 | H25: 188.41701
B26: 2019 | C26: 35792623 | D26: 1905.2506 | E26: 70209968 | F26: 12442.745 | G26: 4691749 | H26: 234.24784
B27: 2020 | C27: 37321963 | D27: 1552.6382 | E27: 67553001 | F27: 12412.76 | G27: 6877653.2 | H27: 240.52275
B28: 2021 | C28: 58405437 | D28: 2242.178 | E28: 82191572 | F28: 15722.915 | G28: 14041786 | H28: 679.69777
B29: 2022 | C29: 84427986 | D29: 2997.5571 | E29: 121620257 | F29: 17046.098 | G29: 22549576 | H29: 949.41971
B30: 2023 | C30: 120667706 | D30: 3578.3481 | E30: 97958343 | F30: 18238.931 | G30: 38489252 | H30: 1000.5306
B31: 2024* | C31: 196333809 | D31: 4673.0258 | E31: 103121550 | F31: 19398.373 | G31: 50878698 | H31: 1184.6352
B32: 2025* | C32: 308908517 | D32: 5831.56 | E32: 106046148 | F32: 20283.26 | G32: 69413315 | H32: 1539.2
B34: *تم تعديل منهجية احتساب بيانات عدد البطاقات. | H34: * The Methodology for Calculating the No. of Cards has been Modified.
